BEGIN:VCALENDAR
VERSION:2.0
PRODID:-//Pécs-Baranyai Kereskedelmi és Iparkamara - ECPv6.15.20//NONSGML v1.0//EN
CALSCALE:GREGORIAN
METHOD:PUBLISH
X-WR-CALNAME:Pécs-Baranyai Kereskedelmi és Iparkamara
X-ORIGINAL-URL:https://pbkik.hu
X-WR-CALDESC:Események Pécs-Baranyai Kereskedelmi és Iparkamara
REFRESH-INTERVAL;VALUE=DURATION:PT1H
X-Robots-Tag:noindex
X-PUBLISHED-TTL:PT1H
BEGIN:VTIMEZONE
TZID:Europe/Helsinki
BEGIN:DAYLIGHT
TZOFFSETFROM:+0200
TZOFFSETTO:+0300
TZNAME:EEST
DTSTART:20190331T010000
END:DAYLIGHT
BEGIN:STANDARD
TZOFFSETFROM:+0300
TZOFFSETTO:+0200
TZNAME:EET
DTSTART:20191027T010000
END:STANDARD
BEGIN:DAYLIGHT
TZOFFSETFROM:+0200
TZOFFSETTO:+0300
TZNAME:EEST
DTSTART:20200329T010000
END:DAYLIGHT
BEGIN:STANDARD
TZOFFSETFROM:+0300
TZOFFSETTO:+0200
TZNAME:EET
DTSTART:20201025T010000
END:STANDARD
BEGIN:DAYLIGHT
TZOFFSETFROM:+0200
TZOFFSETTO:+0300
TZNAME:EEST
DTSTART:20210328T010000
END:DAYLIGHT
BEGIN:STANDARD
TZOFFSETFROM:+0300
TZOFFSETTO:+0200
TZNAME:EET
DTSTART:20211031T010000
END:STANDARD
END:VTIMEZONE
BEGIN:VEVENT
DTSTART;TZID=Europe/Helsinki:20201002T100000
DTEND;TZID=Europe/Helsinki:20201002T133000
DTSTAMP:20260420T171534
CREATED:20200918T065507Z
LAST-MODIFIED:20200929T103331Z
UID:10002130-1601632800-1601645400@pbkik.hu
SUMMARY:Országos kreatív ipari és dizájner találkozó
DESCRIPTION:Az ITT&MOST keretében szervezett online tájékoztatón többet is meg tudhatnak arról\, milyen hazai és nemzetközi lehetőségeket rejtenek a kreatív ipari szakmák az elérhető képzésektől kezdve\, a támogatási opciókon át a hazai támogató szervezetekig\, akik számos díjmentes szolgáltatásukkal segítik a kreatív ipari vállalkozásokat és alkotókat. \n \nA kreatív-és kulturális ipar az európai gazdaság egyik legmeghatározóbb szereplője\, a harmadik legnagyobb munkaadó Európában az építőipar és a vendéglátóipar után. A szektor jellemzően a helyi munkaerőre támaszkodik és nem véletlenül sok fiatalt vonz (kb. 20-25% harminc év alatti) az alkotó szellemre fókuszál\, teret adva a kreativitásnak és az innovációnak. \nIdőpont: 2020. október 02. (péntek) \nHelyszín: ONLINE (ZOOM felület\, a regisztrált résztvevőknek a rendezvényt megelőzően kiküldésre kerül a csatlakozási link.) \n  \nProgram \n10.00-10.10 Köszöntő\, programismertető – Keresnyei János\, elnök\, Kulturális Innovációs Kompetencia Központ Egyesület \n10.10-10.25 A Kreatív Ipari Klaszterről – Maróti Judit\, projektmenedzser\, Kreatív Ipari Klaszter \n10.25-10.40 Enterprise Europe Network\, Itt & Most platform – Schmidt Enikő\, osztályvezető\, Pécs-Baranyai Kereskedelmi és Iparkamara \n10.40-10.55  A kreatív ipart érintő szakképzési rendszerről\, változásokról – Kovács Tamás\, ügyvezető\, TSP Artlab \n11.00-11.15 A Freelancers Weekről – Filep Szilvia\, főszerkesztő\, Freelancer blog \n11.15-11.30 A Nemzeti Divatliga bemutatkozása\, projektjei – Mányiné Dr. Walek Gabriella\, elnök\, Nemzeti Divatliga \n11.30-11.45 A kreatív ipari képzések és karrierlehetőségek – MOME \n11.45-12.00 Külföldi képzési programok a kreatív iparban – Keresnyei János\, CLOCK peer reviewer \n12.00-12.30 Ebédszünet \n12.30-12.40 Mit jelent coworkernek lenni? – Maróti Judit\, KOHÓ Coworking House \n12-40-13.30 Q&A – Interaktív beszélgetés a résztvevőkkel \n  \nA tájékoztató után az előadók várják a résztvevők kérdéseit. Amennyiben előzetes kérdése lenne a témával kapcsolatban\, azt a regisztráció során tudja előzetesen megírni az előadóknak. \nAz eseményen való részvétel díjmentes\, de előzetes regisztrációhoz kötött:\nThis form is currently closed for submissions.
URL:https://pbkik.hu/esemeny/kreativ-ipari-es-dizajner-talalkozo/
LOCATION:Online
END:VEVENT
BEGIN:VEVENT
DTSTART;TZID=Europe/Helsinki:20201029T140000
DTEND;TZID=Europe/Helsinki:20201029T150000
DTSTAMP:20260420T171534
CREATED:20201012T072133Z
LAST-MODIFIED:20201027T131407Z
UID:10002140-1603980000-1603983600@pbkik.hu
SUMMARY:Piacra lépés és üzleti lehetőségek Erdélyben
DESCRIPTION:Az ITT&MOST online tájékoztató témája a erdélyi piac és üzleti együttműködési\, valamint beszállítói lehetőségek\, mely rendezvényre a CED Közép-európai Gazdaságfejlesztési Nonprofit Kft.\, Magyarország Csíkszeredai Főkonzulátusa és a Pécs-Baranyai Kereskedelmi és Iparkamara szervezésében kerül sor. \n \nA rendezvény célja\, hogy átfogó képet adjon az érdeklődő magyar vállalkozások számára az erdélyi piacra lépési-\, piacbővítési és együttműködési lehetőségekről. Az általános információkon túlmutatóan a résztvevők betekintést nyerhetnek a COVID-19 vírushelyzet következtében átalakuló üzleti környezetbe\, különös tekintettel a potenciális beszállítói lehetőségekre. \nIdőpont: 2020. október 29. 14.00 (GMT+1 közép-európai idő szerint) \n  \nProgramterv: \n\nInformációk az erdélyi piacról\, üzleti környezetről\nBeszállítói lehetőségek\, nemzetközi üzleti együttműködések\nOnline üzletember találkozók\, kiállítások\n\nAz előadásokat követően virtuális kerekasztal beszélgetésre kerül sor a CED Közép-európai Gazdaságfejlesztési Hálózat Nonprofit Kft. erdélyi irodavezetőivel\, akik a későbbiekben az ITT&MOST felületén tárgyalásra is jelölhetők lesznek. Amennyiben konkrét kérdése van a témával kapcsolatban\, azt a regisztráció során tudja előzetesen megírni az előadóknak. \n  \nElőadók: \n\nCsík László\, ügyvezető / CED Közép-európai Gazdaságfejlesztési Hálózat Nonprofit Kft.\nTóth László\, főkonzul / Magyarország Csíkszeredai Főkonzulátusa\nSzász Réka\, képviseletvezető / Enterprise Europe Network Románia\, INCDIE ICPE-CA sucursala Sfantu Gheorghe\nVirtuális kerekasztal beszélgetés a CED Közép-európai Gazdaságfejlesztési Hálózat Nonprofit Kft. erdélyi irodavezetőivel.\n\n  \nAz előadások magyar nyelven zajlanak. \nAz eseményen való részvétel díjmentes\, de előzetes regisztrációhoz kötött:\nThis form is currently closed for submissions. \n 
URL:https://pbkik.hu/esemeny/piacra-lepes-es-uzleti-lehetosegek-erdelyben/
LOCATION:Online
ATTACH;FMTTYPE=image/jpeg:https://pbkik.hu/wp-content/uploads/2020/08/00.-itt__most_zoom_1-scaled.jpg
END:VEVENT
END:VCALENDAR