BEGIN:VCALENDAR
VERSION:2.0
PRODID:-//Pécs-Baranyai Kereskedelmi és Iparkamara - ECPv6.15.20//NONSGML v1.0//EN
CALSCALE:GREGORIAN
METHOD:PUBLISH
X-WR-CALNAME:Pécs-Baranyai Kereskedelmi és Iparkamara
X-ORIGINAL-URL:https://pbkik.hu
X-WR-CALDESC:Események Pécs-Baranyai Kereskedelmi és Iparkamara
REFRESH-INTERVAL;VALUE=DURATION:PT1H
X-Robots-Tag:noindex
X-PUBLISHED-TTL:PT1H
BEGIN:VTIMEZONE
TZID:Europe/Helsinki
BEGIN:DAYLIGHT
TZOFFSETFROM:+0200
TZOFFSETTO:+0300
TZNAME:EEST
DTSTART:20190331T010000
END:DAYLIGHT
BEGIN:STANDARD
TZOFFSETFROM:+0300
TZOFFSETTO:+0200
TZNAME:EET
DTSTART:20191027T010000
END:STANDARD
BEGIN:DAYLIGHT
TZOFFSETFROM:+0200
TZOFFSETTO:+0300
TZNAME:EEST
DTSTART:20200329T010000
END:DAYLIGHT
BEGIN:STANDARD
TZOFFSETFROM:+0300
TZOFFSETTO:+0200
TZNAME:EET
DTSTART:20201025T010000
END:STANDARD
BEGIN:DAYLIGHT
TZOFFSETFROM:+0200
TZOFFSETTO:+0300
TZNAME:EEST
DTSTART:20210328T010000
END:DAYLIGHT
BEGIN:STANDARD
TZOFFSETFROM:+0300
TZOFFSETTO:+0200
TZNAME:EET
DTSTART:20211031T010000
END:STANDARD
END:VTIMEZONE
BEGIN:VEVENT
DTSTART;VALUE=DATE:20201102
DTEND;VALUE=DATE:20201107
DTSTAMP:20260420T160933
CREATED:20201019T110922Z
LAST-MODIFIED:20201019T112438Z
UID:10001820-1604275200-1604707199@pbkik.hu
SUMMARY:Textile Fashion Tech - online üzletember találkozó
DESCRIPTION:Nemzetközi üzletember találkozó az online térben! Az Enterprise Europe Network szervezésében megrendezésre kerülő online esemény kiváló lehetőség a textil- és kreatívipari vállalkozások számára\, ahol a gyártási partnereket kereső vállalatok és tervezők közvetlenül kapcsolatba léphetnek  a textil- és divatipar gyártóival\, szolgáltatóival és beszállítóival. \n \nA rendezvényen való részvétel díjmentes\, de előzetes regisztrációhoz kötött: \nREGISZTRÁCIÓ
URL:https://pbkik.hu/esemeny/textil-divat-technologia/
LOCATION:Online
END:VEVENT
BEGIN:VEVENT
DTSTART;TZID=Europe/Helsinki:20201105T100000
DTEND;TZID=Europe/Helsinki:20201105T123000
DTSTAMP:20260420T160933
CREATED:20201020T085344Z
LAST-MODIFIED:20201105T092832Z
UID:10001823-1604570400-1604579400@pbkik.hu
SUMMARY:Hogyan lesz az innovatív ötletből piacképes termék?
DESCRIPTION:  \nIsmerje meg az egészségügyi területek üzleti környezetének sajátosságait\, versenyképes piacra lépési stratégiáit és gyakorlati eszközeit\, melyek segítségével az Ön innovatív ötletéből is sikeresen megvalósítható vállalkozás válhat! \n \n\n\n\n\n\n\nA PTE Általános Orvostudományi Kar Transzdiszciplináris Kutatások Intézete és az EIT Health társszervezésében megvalósuló online rendezvény keretében a résztvevők gyakorlatorientált elméleti tudást kapnak tapasztalt szakemberek előadásában.\nA résztvevőknek lehetőségük van kérdéseiket előzetesen feltenni (később e-mailben is továbbíthatják kérdéseiket).\n\n\n\nIdőpont: 2020. november 05. 10.00 \nHelyszín: ONLINE (a regisztált résztvevők részére a rendezvényt megelőzően kiküldjük az esemény csatlakozási linkjét \n  \nProgramterv \n\n  \n10.00-10.45   Az egészségügy területén alkalmazható\, innovációra motiváló nemzetközi módszertanok ismertetése és gyakorlati megvalósíthatóságának elemzése \nSódar Gabriella\, Technológia-Transzfer Csoport vezető\, Semmelweis Egyetem \n10.45-11.30   Egészségügyi innovatív projektek sikerességét befolyásoló tényezők \nKis Márton\, egészségügyi innovációs szakértő\, Semmelweis Egyetem \n11.30-12.15   Cégvezetéshez szükséges készségek jelentőségének elemzése \nDr. Sík Attila M.S. PhD\, intézetigazgató\, Pécsi Tudományegyetem ÁOK \n\n\n\nA Szervezők a változás jogát fenntartják.\n\nAz előadások magyar nyelven zajlanak. \n  \nAz eseményen való részvétel díjmentes\, de előzetes regisztrációhoz kötött:\nThis form is currently closed for submissions. \n  \n 
URL:https://pbkik.hu/esemeny/hogyan-lesz-az-innovativ-otletbol-piackepes-termek/
LOCATION:Online
END:VEVENT
END:VCALENDAR