BEGIN:VCALENDAR
VERSION:2.0
PRODID:-//Pécs-Baranyai Kereskedelmi és Iparkamara - ECPv6.15.20//NONSGML v1.0//EN
CALSCALE:GREGORIAN
METHOD:PUBLISH
X-WR-CALNAME:Pécs-Baranyai Kereskedelmi és Iparkamara
X-ORIGINAL-URL:https://pbkik.hu
X-WR-CALDESC:Események Pécs-Baranyai Kereskedelmi és Iparkamara
REFRESH-INTERVAL;VALUE=DURATION:PT1H
X-Robots-Tag:noindex
X-PUBLISHED-TTL:PT1H
BEGIN:VTIMEZONE
TZID:Europe/Helsinki
BEGIN:DAYLIGHT
TZOFFSETFROM:+0200
TZOFFSETTO:+0300
TZNAME:EEST
DTSTART:20190331T010000
END:DAYLIGHT
BEGIN:STANDARD
TZOFFSETFROM:+0300
TZOFFSETTO:+0200
TZNAME:EET
DTSTART:20191027T010000
END:STANDARD
BEGIN:DAYLIGHT
TZOFFSETFROM:+0200
TZOFFSETTO:+0300
TZNAME:EEST
DTSTART:20200329T010000
END:DAYLIGHT
BEGIN:STANDARD
TZOFFSETFROM:+0300
TZOFFSETTO:+0200
TZNAME:EET
DTSTART:20201025T010000
END:STANDARD
BEGIN:DAYLIGHT
TZOFFSETFROM:+0200
TZOFFSETTO:+0300
TZNAME:EEST
DTSTART:20210328T010000
END:DAYLIGHT
BEGIN:STANDARD
TZOFFSETFROM:+0300
TZOFFSETTO:+0200
TZNAME:EET
DTSTART:20211031T010000
END:STANDARD
END:VTIMEZONE
BEGIN:VEVENT
DTSTART;TZID=Europe/Helsinki:20201002T083000
DTEND;TZID=Europe/Helsinki:20201002T130000
DTSTAMP:20260421T120755
CREATED:20200901T135222Z
LAST-MODIFIED:20220131T151509Z
UID:10002108-1601627400-1601643600@pbkik.hu
SUMMARY:MUNKAERŐPIACI LEHETŐSÉGEK A TISZTÍTÁS-TECHNOLÓGIA SZEKTORBAN
DESCRIPTION:A Pécs-Baranyai Kereskedelmi és Iparkamara szeretettel vár minden érdeklődőt következő rendezvényére\, ahol az EFOP-1.2.9-17-2017-00082 „Munka ÉS Család – A nők munkaerő-piaci helyzetének javítása és Nő-Köz- Pont létrehozása Pécsett” című projekt keretében tájékoztató rendezvényt tart az atipikus foglalkoztatási formák alkalmazásáról és a munkaerőhiány helyzetéről a tisztítás-technológiai szektorban. \nIDŐPONT: 2020. október 02. 09.00 – 13.00\nHELYSZÍN: Pécsi Kereskedelmi Központ (7625 Pécs\, Majorossy I.u.36.) \nPROGRAM: \n08:30 – 09:00 REGISZTRÁCIÓ\n09:00 – 09:05 KÖSZÖNTŐ\n09:05 – 09:30 PÉCSI CSALÁD- ÉS KARRIERPONT – Eredmények és további tervek (Pazaurek Szabina\, projektmenedszer)\n09:30 – 10:15 COVID 19 – Tisztítás-technológiai „szemmel” (Kerényi Zsolt\, MATISZ szakértő)\n10:15 – 10:30 KÁVÉSZÜNET\n10:30 – 11:00 LÁTHATATLAN MUNKA EGY IRODAHÁZBAN – „Előtte és utána” (Sörös Dávid\, ügyvezető\, PBGSZ NKft.)\n11:00 – 11:45 KEREKASZTAL-BESZÉLGETÉS\n11:45 – 12:30 EBÉD\n12:30 – 13:00 KÉRDÉSEK ÉS VÁLASZOK
URL:https://pbkik.hu/esemeny/munkaeropiaci-lehetosegek-a-tisztitas-technologia-szektorban/
LOCATION:Pécsi Kereskedelmi Központ
GEO:46.081487;18.2347915
END:VEVENT
BEGIN:VEVENT
DTSTART;TZID=Europe/Helsinki:20201014T140000
DTEND;TZID=Europe/Helsinki:20201014T153000
DTSTAMP:20260421T120755
CREATED:20201009T095153Z
LAST-MODIFIED:20201009T100352Z
UID:10002139-1602684000-1602689400@pbkik.hu
SUMMARY:Dél-Afrika: gazdasági helyzet\, üzleti lehetőségek
DESCRIPTION:A Magyar Kereskedelmi és Iparkamara és Magyarország Dél-Afrikai Nagykövetségének együttműködésével szervezett webináriumának fő témái a dél-afrikai gazdasági helyzet\, üzleti lehetőségek\, valamint tapasztalatok a Sanatmetal Kft. előadásában. \n \nModerátor: Balla László\, az MKIK Afrika Tagozatának elnöke \nProgramterv: \n14.05-14.10 Köszöntő – Horváth Attila kijelölt pretoriai nagykövet \n14.10-14.40 Dél-Afrika gazdasága\, üzleti lehetőségek – Rothschild Zsuzsanna Bernadett ideiglenes ügyvivő \n14.40-14.55 Bemutatkozás\, KGA tevékenysége – Horváth Péter külgazdasági attasé \n14.55-15.10 Üzleti kultúra\, tapasztalatok – Sebestyén Réka üzletfejlesztési vezető\, Sanatmetal Kft. \n15.10-15.25 Kérdések és válaszok \n  \nJelentkezési határidő: 2020. október 13. (kedd) 10.00 \nREGISZTRÁCIÓ\nA rendezvényen való részvétel ingyenes\, de előzetes online regisztrációhoz kötött. \nAz eseményre csak azoknak a vállalkozásoknak a jelentkezését tudjuk elfogadni\, amelyek a kamarai regisztrációs kötelezettségüknek eleget tettek\, a Nemzeti Agrárgazdasági Kamara\, vagy a Magyar Ügyvédi Kamara tagjai. Regisztráció során a webinárium alkalmával használni kívánt e-mail cím megadása szükséges. \nA rendezvény Microsoft Teams használatával kerül megrendezésre. A csatlakozáshoz szükséges linket és információkat 2020. október 13-án kedden délután küldIk meg e-mailen a jelentkezőknek. \n 
URL:https://pbkik.hu/esemeny/del-afrika-gazdasagi-helyzet-uzleti-lehetosegek/
LOCATION:Online
END:VEVENT
BEGIN:VEVENT
DTSTART;TZID=Europe/Helsinki:20201022T140000
DTEND;TZID=Europe/Helsinki:20201022T150000
DTSTAMP:20260421T120755
CREATED:20200930T165523Z
LAST-MODIFIED:20201022T112720Z
UID:10001810-1603375200-1603378800@pbkik.hu
SUMMARY:Cseh piacralépési lehetőségek  - Takarékos devizaváltás és nemzetközi fizetések
DESCRIPTION:Az ITT&MOST online tájékoztató témája a cseh piac és üzleti együttműködési lehetőségek\, mely rendezvényre a CED Közép-európai Gazdaságfejlesztési Nonprofit Kft. és a Pécs-Baranyai Kereskedelmi és Iparkamara szervezésében kerül sor. \n \nAz előadások témái: \n\nInformációk a cseh piacról\, üzleti lehetőségekről\nCseh-magyar pénzforgalom – általános információk\nHogyan lehet a devizaváltás és nemzetközi fizetések terén takarékosnak lenni\nA takarékos devizaváltás technikája – bemutatása\n\n  \nElőadók: \nVelvéthy D. Árpád –  irodavezető\, CED Közép-európai Gazdaságfejlesztési Hálózat Nonprofit Kft. – Brno \nKuglerová Petra  –  fiókvezető\, Citfin s.r.o. \nA tájékoztató után az előadók online tanácsadást nyújtanak\, vagy a későbbiekben az ITT&MOST felületén tárgyalásra jelölhetőek lesznek. Amennyiben konkrét kérdése van a témával kapcsolatban\, azt a regisztráció során tudja előzetesen megírni az előadóknak. \nAz előadások magyar nyelven zajlanak. \nAz eseményen való részvétel díjmentes\, de előzetes regisztrációhoz kötött:\nThis form is currently closed for submissions. \n 
URL:https://pbkik.hu/esemeny/cseh-uzleti-egyuttmukodesek/
LOCATION:Online
ATTACH;FMTTYPE=image/png:https://pbkik.hu/wp-content/uploads/2020/08/itt__most_pbkik_3.1.png
END:VEVENT
BEGIN:VEVENT
DTSTART;TZID=Europe/Helsinki:20201029T140000
DTEND;TZID=Europe/Helsinki:20201029T150000
DTSTAMP:20260421T120755
CREATED:20201012T072133Z
LAST-MODIFIED:20201027T131407Z
UID:10002140-1603980000-1603983600@pbkik.hu
SUMMARY:Piacra lépés és üzleti lehetőségek Erdélyben
DESCRIPTION:Az ITT&MOST online tájékoztató témája a erdélyi piac és üzleti együttműködési\, valamint beszállítói lehetőségek\, mely rendezvényre a CED Közép-európai Gazdaságfejlesztési Nonprofit Kft.\, Magyarország Csíkszeredai Főkonzulátusa és a Pécs-Baranyai Kereskedelmi és Iparkamara szervezésében kerül sor. \n \nA rendezvény célja\, hogy átfogó képet adjon az érdeklődő magyar vállalkozások számára az erdélyi piacra lépési-\, piacbővítési és együttműködési lehetőségekről. Az általános információkon túlmutatóan a résztvevők betekintést nyerhetnek a COVID-19 vírushelyzet következtében átalakuló üzleti környezetbe\, különös tekintettel a potenciális beszállítói lehetőségekre. \nIdőpont: 2020. október 29. 14.00 (GMT+1 közép-európai idő szerint) \n  \nProgramterv: \n\nInformációk az erdélyi piacról\, üzleti környezetről\nBeszállítói lehetőségek\, nemzetközi üzleti együttműködések\nOnline üzletember találkozók\, kiállítások\n\nAz előadásokat követően virtuális kerekasztal beszélgetésre kerül sor a CED Közép-európai Gazdaságfejlesztési Hálózat Nonprofit Kft. erdélyi irodavezetőivel\, akik a későbbiekben az ITT&MOST felületén tárgyalásra is jelölhetők lesznek. Amennyiben konkrét kérdése van a témával kapcsolatban\, azt a regisztráció során tudja előzetesen megírni az előadóknak. \n  \nElőadók: \n\nCsík László\, ügyvezető / CED Közép-európai Gazdaságfejlesztési Hálózat Nonprofit Kft.\nTóth László\, főkonzul / Magyarország Csíkszeredai Főkonzulátusa\nSzász Réka\, képviseletvezető / Enterprise Europe Network Románia\, INCDIE ICPE-CA sucursala Sfantu Gheorghe\nVirtuális kerekasztal beszélgetés a CED Közép-európai Gazdaságfejlesztési Hálózat Nonprofit Kft. erdélyi irodavezetőivel.\n\n  \nAz előadások magyar nyelven zajlanak. \nAz eseményen való részvétel díjmentes\, de előzetes regisztrációhoz kötött:\nThis form is currently closed for submissions. \n 
URL:https://pbkik.hu/esemeny/piacra-lepes-es-uzleti-lehetosegek-erdelyben/
LOCATION:Online
ATTACH;FMTTYPE=image/jpeg:https://pbkik.hu/wp-content/uploads/2020/08/00.-itt__most_zoom_1-scaled.jpg
END:VEVENT
END:VCALENDAR