BEGIN:VCALENDAR
VERSION:2.0
PRODID:-//Pécs-Baranyai Kereskedelmi és Iparkamara - ECPv6.15.20//NONSGML v1.0//EN
CALSCALE:GREGORIAN
METHOD:PUBLISH
X-ORIGINAL-URL:https://pbkik.hu
X-WR-CALDESC:Események Pécs-Baranyai Kereskedelmi és Iparkamara
REFRESH-INTERVAL;VALUE=DURATION:PT1H
X-Robots-Tag:noindex
X-PUBLISHED-TTL:PT1H
BEGIN:VTIMEZONE
TZID:Europe/Helsinki
BEGIN:DAYLIGHT
TZOFFSETFROM:+0200
TZOFFSETTO:+0300
TZNAME:EEST
DTSTART:20190331T010000
END:DAYLIGHT
BEGIN:STANDARD
TZOFFSETFROM:+0300
TZOFFSETTO:+0200
TZNAME:EET
DTSTART:20191027T010000
END:STANDARD
BEGIN:DAYLIGHT
TZOFFSETFROM:+0200
TZOFFSETTO:+0300
TZNAME:EEST
DTSTART:20200329T010000
END:DAYLIGHT
BEGIN:STANDARD
TZOFFSETFROM:+0300
TZOFFSETTO:+0200
TZNAME:EET
DTSTART:20201025T010000
END:STANDARD
BEGIN:DAYLIGHT
TZOFFSETFROM:+0200
TZOFFSETTO:+0300
TZNAME:EEST
DTSTART:20210328T010000
END:DAYLIGHT
BEGIN:STANDARD
TZOFFSETFROM:+0300
TZOFFSETTO:+0200
TZNAME:EET
DTSTART:20211031T010000
END:STANDARD
END:VTIMEZONE
BEGIN:VEVENT
DTSTART;VALUE=DATE:20201102
DTEND;VALUE=DATE:20201107
DTSTAMP:20260421T150839
CREATED:20201019T110922Z
LAST-MODIFIED:20201019T112438Z
UID:10001820-1604275200-1604707199@pbkik.hu
SUMMARY:Textile Fashion Tech - online üzletember találkozó
DESCRIPTION:Nemzetközi üzletember találkozó az online térben! Az Enterprise Europe Network szervezésében megrendezésre kerülő online esemény kiváló lehetőség a textil- és kreatívipari vállalkozások számára\, ahol a gyártási partnereket kereső vállalatok és tervezők közvetlenül kapcsolatba léphetnek  a textil- és divatipar gyártóival\, szolgáltatóival és beszállítóival. \n \nA rendezvényen való részvétel díjmentes\, de előzetes regisztrációhoz kötött: \nREGISZTRÁCIÓ
URL:https://pbkik.hu/esemeny/textil-divat-technologia/
LOCATION:Online
END:VEVENT
BEGIN:VEVENT
DTSTART;TZID=Europe/Helsinki:20201112T140000
DTEND;TZID=Europe/Helsinki:20201112T150000
DTSTAMP:20260421T150839
CREATED:20201012T110957Z
LAST-MODIFIED:20201111T153400Z
UID:10002141-1605189600-1605193200@pbkik.hu
SUMMARY:Tudnivalók az ukrajnai piacra lépéshez
DESCRIPTION:Az ITT&MOST online tájékoztató témája az ukrán piac és üzleti együttműködési\, valamint beszállítói lehetőségek\, mely rendezvényre a CED Közép-európai Gazdaságfejlesztési Nonprofit Kft. és a Pécs-Baranyai Kereskedelmi és Iparkamara szervezésében kerül sor. \n \nProgram \nUkrajna aktuális gazdasági és politikai helyzetének összefoglalása\, a CED Beregszászi és Ungvári Irodájának bemutatkozása \nElőadó:  Bátyi Árpád\, irodavezető\, CED Közép-európai Gazdaságfejlesztési Hálózat Nonprofit Kft. – Ungvár \n               Kincs Gergely\, irodavezető\, CED Közép-európai Gazdaságfejlesztési Hálózat Nonprofit Kft. – Beregszász \n\n\n\n\n\n\n\nUkrajna és Kárpátalja gazdasági és geopolitikai környezetének bemutatása\n\n\n\n\n\n\n\n\n\n\n\n\n\n\nAz ukrán üzleti környezet/kultúra\, külpiaci információk\, gyakorlati ismeretek\n\n\n\n\n\n\n\n\n\n\n\n\n\n\nBeregszászi és ungvári iroda bemutatkozása\, szolgáltatások\n\n\n\n\n\n\n\n\n\n\n\n\n\n\nGyakorlati ismeretek az ukrajnai piacra készülőknek\n\n\n\n\n\n\n\n A kereskedelmi kapcsolatok támogatása és védelme \nElőadó: Csizmadia Alexandra\, konzul\, külgazdasági attasé\, Magyarország Konzulátusa\, Beregszász. \n\n\n\n\n\n\n\nA gazdasági együttműködések diplomáciai és jogszabályi támogatása.\n\n\n\n\n\n\n\nUkrajna főbb adózási tudnivalók\, 2021. vállalkozási tevékenység főbb változásai \nElőadó: Kutasi Gyöngyi\, adózási\, szám és könyviteli szakember\,Beregszász \n\n\n\n\n\n\n\nAdóügyi és vállalkozástechnikai szigorítások.\nFőbb adózási tudnivalók\n\n\n\n\n\n\n\nBeszállítói lehetőségek Ukrajnában \nElőadó: Bodnár József\, ügyvezető\, TOV „Eko Service” \n   Dr. Kota György\, ügyvezető igazgató\, Magyar-Ukrán Kereskedelmi és Iparkamara \nA tájékoztató után az előadók online tanácsadást nyújtanak\, vagy a későbbiekben az ITT&MOST felületén tárgyalásra jelölhetőek lesznek. Amennyiben konkrét kérdése van a témával kapcsolatban\, azt a regisztráció során tudja előzetesen megírni az előadóknak. \nAz előadások magyar nyelven zajlanak. \nAz eseményen való részvétel díjmentes\, de előzetes regisztrációhoz kötött:\nThis form is currently closed for submissions. \n 
URL:https://pbkik.hu/esemeny/tudnivalok-az-ukrajnai-piacra-lepeshez/
LOCATION:Online
ATTACH;FMTTYPE=image/jpeg:https://pbkik.hu/wp-content/uploads/2020/09/itt__most_banner_1170x500_hu_1.jpg
END:VEVENT
BEGIN:VEVENT
DTSTART;TZID=Europe/Helsinki:20201119T103000
DTEND;TZID=Europe/Helsinki:20201119T130000
DTSTAMP:20260421T150839
CREATED:20201027T114021Z
LAST-MODIFIED:20201118T135843Z
UID:10001827-1605781800-1605790800@pbkik.hu
SUMMARY:Japán üzleti lehetőségek az élelmiszeriparban
DESCRIPTION:Milyen előnyei vannak a hazai vállalkozásoknak a japán élelmiszer-export területén? Milyen értékesítési csatornákat érdemes használni és mire kell figyelnünk az üzleti tárgyalások során? Ezekre és még sok más kérdésre is választ ad az EU-Japan Centre és a Pécs-Baranyai Kereskedelmi és Iparkamara szervezésében megvalósuló online tájékoztató. \n  \n  \n  \n  \n \nA tavaly életbe lépett Európai Unió és Japán közötti gazdasági partnerségi megállapodás (EPA) a világkereskedelem egyharmadát lefedő szabadkereskedelmi övezetet hozott létre. Ennek részeként a közel 600 milliós piacon kölcsönösen lebontják a vámokat\, ösztönözve az export-import tevékenységet és biztosítva a szellemi tulajdonjogok és az élelmiszeripari termékek eredet védelmét.  Jelentősen csökkentek a vámok számos jelentős magyar export termékre\, mint a baromfihús\, méz\, bor\, illetve sertéshús. \nAz online tájékoztató keretében részletes képet kapunk a hazai vállalkozások előtt nyitva álló lehetőségekről és az exporthoz kapcsolódó vámkezelési eljárásokról az első lépésektől kezdve a partnerkeresési lehetőségekig Japánban. \nAz előadások angol nyelven zajlanak. \nIdőpont: 2020. november 19. (csütörtök) 10.30 \nHelyszín: ONLINE (a csatlakozási link előzetesen kerül kiküldésre a regisztrált résztvevők számára) \nProgramterv \n10.30-11.00 A japán kultúra megértése és üzleti környezetének sajátosságai \n                        Előadó: C. Nakabayashi \n\n\n\n\n\n\n\nüzleti kultúra\ntárgyalási szokások\njapán fogyasztói magatartás\, piac- és termékorientáció\njapán élelmiszerpiac\, szegmensek és értékesítési lehetőségek\n\n\n\n\n\n\n\n11.00-11.10 Kérdések és válaszok \n11.15-12.00 Az élelmiszeripari termékek Japánba történő exportjának folyamata\, eljárásai és tervezése \n                        Előadó: C. Nakabayashi \n\n\n\n\n\n\n\nMagyarország előnyei a japán élelmiszer-export területén\nexportstratégia\, a tervezés első lépései\nvámkezelési eljárások Japánban\nEU – Japán gazdasági partnerségi megállapodás (EPA) előnyeinek kihasználása\n\n\n\n\n\n\n\n12.00-12.10 Kérdések és válaszok \n12.15-13.00 Az egyes élelmiszeripari termékek piacra jutási lehetőségei \n                        Előadó: Yvan Van Eesbeek \n\n\n\n\n\n\n\nEPA bemutatása – főbb pontok\nmarha- és sertéshús\nfeldolgozóipar: tészták\, üdítőitalok\nbor\, alkoholos italok\nsajtok és egyéb tejtermékek\n\n\n\n\n\n\n\n13.00-13.10 Kérdések és válaszok \n  \nElőadók \nChieko Nakabayashi\, egyetemi tanár\, Université Libre de Bruxelles \nKorábban az ENSZ Iparfejlesztési (UNIDO) \, az Élelmezésügyi és Mezőgazdasági (FAO) Szervezetében \, valamint a japán fejlesztéi ügynökségnél (ODA) dolgozott szakértőként. \nYvan Van Eesbeek\, szakértő \, EU-Japan Centre \nTöbb\, mint 25 éves tapsztalattal rendelkezik az Európai Bizottság tanácasdójaként a nemzetközi kereskedelmi tárgyalások területén. \n  \nA rendezvény angol nyelven zajlik. \nAmennyiben konkrét kérdése van a témával kapcsolatban\, azt a regisztráció során tudja előzetesen megírni az előadóknak. \nAz eseményre történő regisztráció lezárult.\n 
URL:https://pbkik.hu/esemeny/japan-uzleti-lehetosegek-az-elelmiszeriparban/
LOCATION:Online
ATTACH;FMTTYPE=image/png:https://pbkik.hu/wp-content/uploads/2019/11/eu-japan-e1574411620490.png
END:VEVENT
BEGIN:VEVENT
DTSTART;TZID=Europe/Helsinki:20201119T140000
DTEND;TZID=Europe/Helsinki:20201119T150000
DTSTAMP:20260421T150839
CREATED:20201102T131149Z
LAST-MODIFIED:20201104T085706Z
UID:10002152-1605794400-1605798000@pbkik.hu
SUMMARY:Észak - Kelet Olaszország (Trieszt\, Velence\, Trento) exportpiaci lehetőségek és határon átnyúló vitarendezési\, igényérvényesítési lehetőségek
DESCRIPTION:Az ITT&MOST online tájékoztató témája Észak-Kelet olaszországi üzleti együttműködési\, valamint beszállítói lehetőségek\, mely rendezvényre a CED Közép-európai Gazdaságfejlesztési Nonprofit Kft. és a Baranya Megyei EUROPE DIRECT iroda szervezésében kerül sor. \n \nAz online rendezvény során bemutatásra kerül a három régiót átfogó terület – Friuli – Venezia Giulia\, Veneto és Trentino – Alto Adige tartományok – a magyar cégek számára\, melyek a Magyarországhoz legközelebb eső Italiai területek\, ugyanakkor a legfejlettebbek a gazdasági mutatók alapján. \nA tájékoztató második részében a határon átnyúló vitarendezési és igényérvényesítési lehetőségekkel ismerkedhetnek meg a résztvevők az e-kereskedelem területén.\nA hosszadalmas és költséges bírósági út mellett számos alternatív vitarendezési lehetőség áll a vállalkozások és fogyasztók számára a határon átnyúló e-kereskedelem területén\, amelyek ismerete csökkentheti az anyagi veszteségeket és hozzájárulhat a jogviták közös megelégedéssel\, megegyezéssel történő lezárásához. \nProgramterv \n14:00-14:35               Dr. Bényi Szabolcs Tamás\, irodavezető\, CED Közép-európai Gazdaságfejlesztési Hálózat NKft. – Trieszt \nGabriele Viduli\, adószakértő\, vállalkozási tanácsadó \nArpad Mattossi\, üzletfejlesztési manager\, CED Közép-európai Gazdaságfejlesztési Hálózat NKft. – Trieszt \n\n\n\n\n\n\n\n\n\n\n\n\n\n\n\nFree territory of Trieste: történelmi hagyományok a vámszabad terület kapcsán\n” Mitteleuropa ” a Monarchia öröksége\nFokozódó nemzetközi befektetések\, geopolitikai előnyök\nAz olasz gazdasági rendszer elemzése régiók szerint (jogszabályi háttér\, adózási szempontok)\n\n\n\n\n\n\n\n\n\n\n\n\n\n\n\n14:35 -15.00             Dr. Kriesch Attila\, főosztályvezető\, Innovációs és Technológiai Minisztérium – Európai Fogyasztói Központ \n\n\n\n\n\n\n\n\n\n\n\n\n\n\n\nHatáron átnyúló vitarendezési és igényérvényesítési lehetőségek az e-kereskedelem területén – hasznos tudnivalók vállalkozások és fogyasztók számára\n\n\n\n\n\n\n\n\n\n\n\n\n\n\n\n15:00-15:15              Kérdések és válaszok \n  \n  \nA tájékoztató után az előadók online tanácsadást nyújtanak\, vagy a későbbiekben az ITT&MOST felületén tárgyalásra jelölhetőek lesznek. Amennyiben konkrét kérdése van a témával kapcsolatban\, azt a regisztráció során tudja előzetesen megírni az előadóknak. \nAz előadások magyar nyelven zajlanak. \n  \n  \nAz eseményen való részvétel díjmentes\, de előzetes regisztrációhoz kötött:\nThis form is currently closed for submissions.
URL:https://pbkik.hu/esemeny/eszak-kelet-olaszorszag-trieszt-velence-trento-exportpiaci-lehetosegek/
LOCATION:Online
ATTACH;FMTTYPE=image/jpeg:https://pbkik.hu/wp-content/uploads/2020/10/itt__most_banner_1170x500_hu_1.jpg
END:VEVENT
BEGIN:VEVENT
DTSTART;TZID=Europe/Helsinki:20201120T123000
DTEND;TZID=Europe/Helsinki:20201120T140000
DTSTAMP:20260421T150839
CREATED:20201109T155004Z
LAST-MODIFIED:20201110T092855Z
UID:10002163-1605875400-1605880800@pbkik.hu
SUMMARY:Interaktív gyártói platform a kreatívipari közösség minden szereplője számára!
DESCRIPTION:A Magyar Divat & Design Ügynökség (MDDÜ) a 2020-as évben indította útjára online üzleti közösségét\, a HFDA SPOT-ot\, amely új távlatokat nyit a szakma átláthatósága\, együttműködési lehetőségei és a tudásmegosztás előtt. Az online platform bemutató célja\, hogy bemutassa a HFDA SPOT-ban rejlő innovatív üzleti lehetőségeket a potenciális partnerek felkutatásától a versenyképes piaci lehetőségeken át a munkaerő toborzásig. \n \nAz MDDÜ működésének egyik kiemelt stratégiai pillére a gyártásfejlesztés\, amelynek középpontjában az értékesítési folyamatok elősegítése\, a munkaerőhiány mérséklése\, valamint a gyártók és tervezők közötti kollaborációk előmozdítása áll. A workshop alkalmával szeretnénk segítséget nyújtani a regisztrációban\, útmutatást adni az oldal kezelésében és megválaszolni az oldallal kapcsolatban felmerült kérdéseket. \nHFDA Spot – ismertető \nIdőpont: 2020. 11.20. (péntek) 12:30-14:00 \nHelyszín: ONLINE (ZOOM felületen keresztül kerül megrendezésre) \nAz oldallal kapcsolatos bővebb információért kattintson a hfdaspot.com-ra! \nA HFDA SPOT-ról röviden: \nA felület legnagyobb ereje abban rejlik\, hogy az ágazat képviselői végre digitális térben is bemutathatják azokat az adottságaikat\, amelyek egyedivé és megkülönböztethetővé teszik őket a piacon\, ezáltal új\, versenyképesebb értékesítési lehetőségekhez juthatnak. A HFDA Spot célja\, hogy egy igazi 21. századi találkozási pontot teremtsen a divat-és designipari szereplők számára\, új utakat nyitva a szakmai kapcsolatok építésében\, szerepet vállalva a régió textil-és ruházati iparának üzleti és működési modelljének újragondolásában. \nMiért érdemes regisztrálni? \n\nDivat- és designipari szereplőkkel találkozhat\, akikkel közösen bővítheti üzleti portfólióját\, új termékeket fejleszthet\, vagy akár egy korábbi elképzelést is megvalósíthat\nEgy felhasználóbarát oldallal teheti gyorsabbá és egyszerűbbé a munkaerő-toborzás folyamatát\nÚjabb értékesítési lehetőségekhez juthat\, hiszen a platformon vonzóvá teheti a potenciális vásárlók és megrendelők számára\nAzonnal értesülhet a legújabb lehetőségekről – pályázatokról\, rendezvényekről\nA Magyar Divat & Design Ügynökség számos nemzetközi szereplőhöz és szervezethez eljuttatja a platformot\, összehozva egymással a régió szakembereit\n\n  \nElőadó: \nMagyar Divat & Design Ügynökség – HFDA Spot platform projektmenedzsere\, Matliák Eszter \nA tájékoztató után az előadók online tanácsadást nyújtanak\, vagy a későbbiekben az ITT&MOST felületén tárgyalásra jelölhetőek lesznek. Amennyiben konkrét kérdése van a témával kapcsolatban\, azt a regisztráció során tudja előzetesen megírni az előadóknak. \nAz előadások magyar nyelven zajlanak. \n  \nAz eseményen való részvétel díjmentes\, de előzetes regisztrációhoz kötött:\nThis form is currently closed for submissions.
URL:https://pbkik.hu/esemeny/interaktiv-gyartoi-platform-a-kreativipari-kozosseg-minden-szereploje-szamara/
LOCATION:Online
ATTACH;FMTTYPE=image/png:https://pbkik.hu/wp-content/uploads/2020/11/og_image.png
END:VEVENT
BEGIN:VEVENT
DTSTART;TZID=Europe/Helsinki:20201126T140000
DTEND;TZID=Europe/Helsinki:20201126T153000
DTSTAMP:20260421T150839
CREATED:20201027T092839Z
LAST-MODIFIED:20201126T123409Z
UID:10001826-1606399200-1606404600@pbkik.hu
SUMMARY:Európai támogatások vállalkozásoknak nemzetközi együttműködéshez
DESCRIPTION:Milyen versenyelőnyt nyújt egy iparág kulcsszereplőinek társulása? Hogyan tud az Ön cége kapcsolódni nemzetközi együttműködésekhez? \nA Dél-Alföldi Regionális Innovációs Ügynökség Közhasznú Egyesület szervezésében megvalósuló online rendezvényen bemutatásra kerülnek azok a lehetőségek\, melyek a hazai vállalkozások részére nyílnak meg a BRILLIANT\, SMARTENERGY és METABUILDING projektek keretében üzleti látogatások és innovatív közös projektek előkészítésére 2021-től kezdődő megvalósítással. \n \nA KKV-k versenyképességének növelését és innovációs potenciáljának kiaknázását célzó projektpartnerségek széleskörű támogatást nyújtanak a vállalkozások számára többek között tudásmegosztással\, piaci alapú klaszterstratégiák kidolgozásával\, ágazatok közötti együttműködési lehetőségek bemutatásával középpontban az építőipar és kapcsolódó ágazatainak előremutató megoldásaival. \nIdőpont: 2020. november 26. 14.00 \nHelyszín: ONLINE (az esemény ZOOM linkje előzetesen kiküldésre kerül a résztvevők számára) \n  \nProgram \n14:00 – 14:10 Köszöntők – ESCA\, BRILLIANT\, SMARTENERGY (video üzenetek) \n14:10 – 14:25 Gonda Ágnes: Archenerg Klaszter és ClusterXchange lehetőségek (online üzleti kapcsolatépítés) \n14:25 – 14:35 Kérdések és válaszok \n14:35 – 14:50 Gyulai Tamás\, Németh Róbert: MIÉNK klaszter és ClusterXchange lehetőségek (látogatások üzleti partnereknél) \n14:50 – 15:00 Kérdések és válaszok \n15:00 – 15:20 Maróti Péter: STEPP klaszter és METABUILDING lehetőségek (innovációs voucher és támogatás) \n15:20 – 15:30 Kérdések és válaszok \nElőadók \n\nGonda Ágnes – ARCHENERG – Nemzetközi Megújuló Energetikai és Építőipari Klaszter\nGyulai Tamás\, Németh Róbert – MIÉNK – Magyar Innovatív Építőipari Nyílt Klaszter\nMaróti Péter – STEPP – Science\, Technology and Education Platform for Photonics/ Lézer Klaszter\n\n  \nA tájékoztató után az előadók további tájékoztatást nyújtanak\, vagy a későbbiekben az ITT&MOST felületén tárgyalásra jelölhetőek lesznek. Amennyiben konkrét kérdése van a témával kapcsolatban\, azt a regisztráció során tudja előzetesen megírni az előadóknak. \nAz előadások magyar nyelven zajlanak. \nAz esemény regisztrációja lezárult!\n  \n 
URL:https://pbkik.hu/esemeny/tamogatasok-nemzetkozi-egyuttmukodeshez/
LOCATION:Online
END:VEVENT
END:VCALENDAR