BEGIN:VCALENDAR
VERSION:2.0
PRODID:-//Pécs-Baranyai Kereskedelmi és Iparkamara - ECPv6.15.20//NONSGML v1.0//EN
CALSCALE:GREGORIAN
METHOD:PUBLISH
X-WR-CALNAME:Pécs-Baranyai Kereskedelmi és Iparkamara
X-ORIGINAL-URL:https://pbkik.hu
X-WR-CALDESC:Események Pécs-Baranyai Kereskedelmi és Iparkamara
REFRESH-INTERVAL;VALUE=DURATION:PT1H
X-Robots-Tag:noindex
X-PUBLISHED-TTL:PT1H
BEGIN:VTIMEZONE
TZID:Europe/Helsinki
BEGIN:DAYLIGHT
TZOFFSETFROM:+0200
TZOFFSETTO:+0300
TZNAME:EEST
DTSTART:20210328T010000
END:DAYLIGHT
BEGIN:STANDARD
TZOFFSETFROM:+0300
TZOFFSETTO:+0200
TZNAME:EET
DTSTART:20211031T010000
END:STANDARD
BEGIN:DAYLIGHT
TZOFFSETFROM:+0200
TZOFFSETTO:+0300
TZNAME:EEST
DTSTART:20220327T010000
END:DAYLIGHT
BEGIN:STANDARD
TZOFFSETFROM:+0300
TZOFFSETTO:+0200
TZNAME:EET
DTSTART:20221030T010000
END:STANDARD
BEGIN:DAYLIGHT
TZOFFSETFROM:+0200
TZOFFSETTO:+0300
TZNAME:EEST
DTSTART:20230326T010000
END:DAYLIGHT
BEGIN:STANDARD
TZOFFSETFROM:+0300
TZOFFSETTO:+0200
TZNAME:EET
DTSTART:20231029T010000
END:STANDARD
END:VTIMEZONE
BEGIN:VEVENT
DTSTART;VALUE=DATE:20220504
DTEND;VALUE=DATE:20220506
DTSTAMP:20260420T064257
CREATED:20220324T091433Z
LAST-MODIFIED:20220502T081626Z
UID:10002640-1651622400-1651795199@pbkik.hu
SUMMARY:Elektromobilitás - Szakmai előadások és B2B megbeszélések bajor cégek részvételével
DESCRIPTION:A Német-Magyar Ipari és Kereskedelmi Kamara (DUIHK) által 2022. május 4-5. között egy nemzetközi projekt részeként kerül megrendezésre „Bajorország – a megfelelő partner” (Bayern – Fit for Partnership) elnevezésű kétnapos online esemény\, melynek középpontjában az elektromobilitás áll. \nAz Online-rendezvényen az érdeklődők \n\náttekintést kaphatnak az elektromobilitás aktuális helyzetéről Bajorországban\,\nmegismerhetik a legjobb bajoroszági gyakorlati példákat és bajor vállalatokat\,\nkapcsolatokat építhetnek bajor vállalatokkal!\n\nJELENTKEZÉS \nA DUIHK honlapjáról letölthető kérdőív kitöltésével és visszaküldésével a szabo@ahkungarn.hu e-mail címre legkésőbb 2022. április 1-ig. \nA rendezvény végleges programja a visszaküldött kérdőívek kiértékelése után\, a résztvevők igényeinek a figyelembevételével kerül kialakításra. \nTovábbi információk\, programterv és jelentkezési lehetőség az alábbi linken érhetők el: \nElektromobilitás – Szakmai előadások és B2B megbeszélések bajor cégek részvételével \nAz eseményen való részvétel díjmentes. \n 
URL:https://pbkik.hu/esemeny/elektromobilitas-szakmai-eloadasok-es-b2b-megbeszelesek-bajor-cegek-reszvetelevel/
LOCATION:online
END:VEVENT
END:VCALENDAR