BEGIN:VCALENDAR
VERSION:2.0
PRODID:-//Pécs-Baranyai Kereskedelmi és Iparkamara - ECPv6.15.20//NONSGML v1.0//EN
CALSCALE:GREGORIAN
METHOD:PUBLISH
X-ORIGINAL-URL:https://pbkik.hu
X-WR-CALDESC:Események Pécs-Baranyai Kereskedelmi és Iparkamara
REFRESH-INTERVAL;VALUE=DURATION:PT1H
X-Robots-Tag:noindex
X-PUBLISHED-TTL:PT1H
BEGIN:VTIMEZONE
TZID:Europe/Helsinki
BEGIN:DAYLIGHT
TZOFFSETFROM:+0200
TZOFFSETTO:+0300
TZNAME:EEST
DTSTART:20210328T010000
END:DAYLIGHT
BEGIN:STANDARD
TZOFFSETFROM:+0300
TZOFFSETTO:+0200
TZNAME:EET
DTSTART:20211031T010000
END:STANDARD
BEGIN:DAYLIGHT
TZOFFSETFROM:+0200
TZOFFSETTO:+0300
TZNAME:EEST
DTSTART:20220327T010000
END:DAYLIGHT
BEGIN:STANDARD
TZOFFSETFROM:+0300
TZOFFSETTO:+0200
TZNAME:EET
DTSTART:20221030T010000
END:STANDARD
BEGIN:DAYLIGHT
TZOFFSETFROM:+0200
TZOFFSETTO:+0300
TZNAME:EEST
DTSTART:20230326T010000
END:DAYLIGHT
BEGIN:STANDARD
TZOFFSETFROM:+0300
TZOFFSETTO:+0200
TZNAME:EET
DTSTART:20231029T010000
END:STANDARD
END:VTIMEZONE
BEGIN:VEVENT
DTSTART;VALUE=DATE:20220524
DTEND;VALUE=DATE:20220527
DTSTAMP:20260423T172136
CREATED:20220330T072917Z
LAST-MODIFIED:20220330T073423Z
UID:10002657-1653350400-1653609599@pbkik.hu
SUMMARY:SPS\, az ipari automatizálás és digitalizáció szakkiállítása
DESCRIPTION:A Pármában megrendezésre kerülő SPS Italia szakkiállítás az ipari automatizálás és digitalizáció szakkiállítása\, amelynek fókuszában az idei évben az alábbi témák fognak állni: \n\nHajtásrendszerek és alkatrészek\nElektromechanikus alkatrészek és perifériák\nÉrzékelők; Irányítási rendszerek\nIpari szoftverek\nInterfész technológiák\nKisfeszültségű kapcsolókészülékek\nEmber-gép interfész megvalósítások\nIpari kommunikáció\nAdditív gyártástechnológiák\nRendszerintegrátorok\n\nKiállítók \nA legutóbbi rendezvényen 854 kiállítót és közel 42 ezer látogató vett részt. A kiállítók többsége olasz\, akiken túl nagy számban képviseltetik magukat német\, francia\, valamint angol\, osztrák és cseh cégek is. \nRésztvevők listája \nKöltségek \n\nRészvételi díj: a szektor szereplői számára a látogatói belépő ingyenes\nKiállítói díj:\n\nÖnálló megjelenés esetén 5636 eurótól\nMegosztott stand esetén: 3308 eurótól (cégenként)\n\nStandonként:\n\n16 m² x (172 euró+89 euró) = 4656 euró\n+ 300 euró bútorozás\n+ 180 euró elektromos csatlakozás\n\n\nCégenként:\n\n+ 980 euró regisztrációs díj\n\n\n\n\n\n\n\nJelentkezési határidő: nincs\, a szabad stand-helyek függvényében változik a foglaltság\, mindazonáltal a sikeres részvétel érdekében javasolt legkésőbb 2022. április 14-ig véglegesíteni a jelentkezést. \nAmennyiben a lehetőség felkeltette érdeklődésüket\, kérjük\, hogy további részletek\, valamint a részvétel megvalósítása kapcsán vegyék fel a kapcsolatot a Milánói Főkonzulátus Irodájával az alábbi elérhetőségek bármelyikén: \n\ntelefon: 0039 379 278 4523 (Paschek Dániel külgazdasági attasé)\ne-mail: mil@mfa.gov.hu\, daniel.paschek@mfa.gov.hu
URL:https://pbkik.hu/esemeny/sps-az-ipari-automatizalas-es-digitalizacio-szakkiallitasa/
END:VEVENT
END:VCALENDAR