BEGIN:VCALENDAR
VERSION:2.0
PRODID:-//Pécs-Baranyai Kereskedelmi és Iparkamara - ECPv6.15.20//NONSGML v1.0//EN
CALSCALE:GREGORIAN
METHOD:PUBLISH
X-ORIGINAL-URL:https://pbkik.hu
X-WR-CALDESC:Események Pécs-Baranyai Kereskedelmi és Iparkamara
REFRESH-INTERVAL;VALUE=DURATION:PT1H
X-Robots-Tag:noindex
X-PUBLISHED-TTL:PT1H
BEGIN:VTIMEZONE
TZID:Europe/Helsinki
BEGIN:DAYLIGHT
TZOFFSETFROM:+0200
TZOFFSETTO:+0300
TZNAME:EEST
DTSTART:20220327T010000
END:DAYLIGHT
BEGIN:STANDARD
TZOFFSETFROM:+0300
TZOFFSETTO:+0200
TZNAME:EET
DTSTART:20221030T010000
END:STANDARD
BEGIN:DAYLIGHT
TZOFFSETFROM:+0200
TZOFFSETTO:+0300
TZNAME:EEST
DTSTART:20230326T010000
END:DAYLIGHT
BEGIN:STANDARD
TZOFFSETFROM:+0300
TZOFFSETTO:+0200
TZNAME:EET
DTSTART:20231029T010000
END:STANDARD
BEGIN:DAYLIGHT
TZOFFSETFROM:+0200
TZOFFSETTO:+0300
TZNAME:EEST
DTSTART:20240331T010000
END:DAYLIGHT
BEGIN:STANDARD
TZOFFSETFROM:+0300
TZOFFSETTO:+0200
TZNAME:EET
DTSTART:20241027T010000
END:STANDARD
END:VTIMEZONE
BEGIN:VEVENT
DTSTART;TZID=Europe/Helsinki:20230125T123000
DTEND;TZID=Europe/Helsinki:20230125T180000
DTSTAMP:20260426T021348
CREATED:20230113T124630Z
LAST-MODIFIED:20230113T130250Z
UID:10002743-1674649800-1674669600@pbkik.hu
SUMMARY:Lengyel-Magyar Agrár- és Élelmiszeripari Innovációs Fórum
DESCRIPTION:A Lengyel-Magyar Gazdasági Kamara\, együttműködésben a CED Közép-európai Gazdaságfejlesztési Hálózat NKft.-vel\, a MATE Magyar Agrár- és Élettudományi Egyetemmel és a PAIH Lengyel Befektetési és Kereskedelemfejlesztési Ügynökséggel Lengyel-Magyar Agrár- és Élelmiszeripari Innovációs Fórumot szervez\, \nIdőpont: 2023. január 25. 12.30 \nHelyszín: Hungexpo\, Albertirsai út 10\, H-1101 Budapest\, E pavilon\, 106-107-108 \nA fórum a tudományos eredmények\, valamint a lengyel és a magyar vállalati példák bemutatása mellett\, a lengyel-magyar reláció vonatkozásában megvalósuló külkereskedelemhez is gyakorlati útmutatóval szeretne szolgálni\, továbbá lehetőséget biztosít üzleti kapcsolatok kiépítésére is. \nA rendezvényhez kapcsolódóan B2B tárgyalásokon vehetnek részt az arra bejelentkezők. \nA rendezvény lengyel-magyar szimultán tolmácsolás mellett zajlik. A B2B tárgyalások nyelve angol. \nTovábbi részleteket a mellékelt meghívóban\, ill. a programban talál. \nKérjük\, részvételi szándékát legkésőbb 2023.01.23-ig jelezni szíveskedjen a következő regisztrációs linken keresztül:  https://plhucc.glueup.com/event/polish-hungarian-agro-food-innovation-forum-2023-68534/ \nLetölthető dokumentumok: \n\nMeghívó\nPROGRAM
URL:https://pbkik.hu/esemeny/lengyel-magyar-agrar-es-elelmiszeripari-innovacios-forum/
LOCATION:HUNGEXPO Budapesti Vásárközpont\, Albertirsai út 10.\, Budapest\, 1101\, Magyarország
END:VEVENT
END:VCALENDAR