BEGIN:VCALENDAR
VERSION:2.0
PRODID:-//Pécs-Baranyai Kereskedelmi és Iparkamara - ECPv6.15.20//NONSGML v1.0//EN
CALSCALE:GREGORIAN
METHOD:PUBLISH
X-WR-CALNAME:Pécs-Baranyai Kereskedelmi és Iparkamara
X-ORIGINAL-URL:https://pbkik.hu
X-WR-CALDESC:Események Pécs-Baranyai Kereskedelmi és Iparkamara
REFRESH-INTERVAL;VALUE=DURATION:PT1H
X-Robots-Tag:noindex
X-PUBLISHED-TTL:PT1H
BEGIN:VTIMEZONE
TZID:Europe/Budapest
BEGIN:DAYLIGHT
TZOFFSETFROM:+0100
TZOFFSETTO:+0200
TZNAME:CEST
DTSTART:20230326T010000
END:DAYLIGHT
BEGIN:STANDARD
TZOFFSETFROM:+0200
TZOFFSETTO:+0100
TZNAME:CET
DTSTART:20231029T010000
END:STANDARD
BEGIN:DAYLIGHT
TZOFFSETFROM:+0100
TZOFFSETTO:+0200
TZNAME:CEST
DTSTART:20240331T010000
END:DAYLIGHT
BEGIN:STANDARD
TZOFFSETFROM:+0200
TZOFFSETTO:+0100
TZNAME:CET
DTSTART:20241027T010000
END:STANDARD
BEGIN:DAYLIGHT
TZOFFSETFROM:+0100
TZOFFSETTO:+0200
TZNAME:CEST
DTSTART:20250330T010000
END:DAYLIGHT
BEGIN:STANDARD
TZOFFSETFROM:+0200
TZOFFSETTO:+0100
TZNAME:CET
DTSTART:20251026T010000
END:STANDARD
BEGIN:DAYLIGHT
TZOFFSETFROM:+0100
TZOFFSETTO:+0200
TZNAME:CEST
DTSTART:20260329T010000
END:DAYLIGHT
BEGIN:STANDARD
TZOFFSETFROM:+0200
TZOFFSETTO:+0100
TZNAME:CET
DTSTART:20261025T010000
END:STANDARD
END:VTIMEZONE
BEGIN:VEVENT
DTSTART;TZID=Europe/Budapest:20240226T150000
DTEND;TZID=Europe/Budapest:20240226T163000
DTSTAMP:20260421T080420
CREATED:20240205T135511Z
LAST-MODIFIED:20250317T150053Z
UID:10002899-1708959600-1708965000@pbkik.hu
SUMMARY:Energetika Inside-Out - energetikai ipar belülről
DESCRIPTION:2022. Az év\, amikor újra fókuszba került az energia. A felhasználás\, a beszerzés\, a forrás\, az ár. A mennyit\, a honnan\, a hogyan\, a mennyiért. Hirtelen mind energiatudatossá kellett\, hogy váljunk. De sikerült is? \nA kamara testületei 2023 őszétől üléseiket követően szakmai előadásokkal készülnek a térségi vállalkozások számára. Egy olyan fórumra hívjuk most az önkéntes tag vállalkozásokat\, ahol lehetőség nyílik egy kis ablakon keresztül betekinteni az energetika belső világára. \n \nHa vállalkozása energetikai fejlesztést tervez\, akkor azért\, ha energetikai auditot\, fejlesztést nyújt\, akkor azért érdemes részt venni. Mennyire stabil most az energiaellátás? Milyen beruházást érdemes most indítani? Dr. Szabó László független energetikai szakértő előadásában ezekre a kérdésekre is kitér. \nAz előadás a következő kérdés köré épül: \nHogyan látja és szervezi magát az energiaszektor Európában és hazánkban? \nAmiről szól esz: \n\nEnergetikai fejlődéstörténet\, EU örökségek\, kitermelés\, szállítás\, hálózatok\nEnergia kereskedelem: energiahordozók\, végenergia\, termékek\, üzleti modellek\nEnergetikai kockázatok: geopolitika\, hálózatok\, időjárás\, mulasztások\, félelmek\nSzabályozás vagy fejlesztés: Európai szabályozók\, iparági szervezetek\, kockázatok\nMegújuló és nukleáris: base-load\, rugalmasság\, tárolás\, nem szándékolt áramlás\nREPowerEU-HU\, EU Grid Action Plan\, Energy Market & Product Reform\nEnergiahatékonyság\, EKR\, Energia Menedzsment\, Energy as a service\n\nElőadó \nDr. Szabó László\nFüggetlen Energetikai Szakértő \n\nELMŰ-ÉMÁSZ Energiakereskedő Kft. vezetője\, energiakereskedő\nITM Energiahatékonysági Főosztályvezető\nMHB-Raiffeisen-EXIM-MFB: energia finanszírozási specialista\, régióvezető\n\n  \nAz önkéntes kamarai tagok számára díjmentes az esemény\, de előzetes jelentkezéshez kötött\, mivel a rendezvény résztvevőinek száma korlátozott. \nNem önkéntes tag vállalkozások jelentkezését a szabad helyek függvényében\, csak abban az esetben tudjuk elfogadni\, ha rendezett kamarai regisztrációval rendelkeznek. \nA jelentkezés lezárult.
URL:https://pbkik.hu/esemeny/energetika-inside-out-energetikai-ipar-belulrol/
LOCATION:Pécsi Kereskedelmi Központ
ATTACH;FMTTYPE=image/png:https://pbkik.hu/wp-content/uploads/2024/02/energia.png
GEO:46.081487;18.2347915
END:VEVENT
BEGIN:VEVENT
DTSTART;TZID=Europe/Budapest:20250306T130000
DTEND;TZID=Europe/Budapest:20250307T140000
DTSTAMP:20260421T080420
CREATED:20241127T133209Z
LAST-MODIFIED:20250207T123423Z
UID:10003005-1741266000-1741356000@pbkik.hu
SUMMARY:Sikeres K+I Európában - 12. Európai partnerközvetítő rendezvény
DESCRIPTION:Felhívjuk figyelmüket a Sikeres K+I Európában – 12. Európai partnerközvetítő rendezvényre\, melyet Düsseldorfban rendeznek meg\, az észak-rajna-vesztfáliai Enterprise Europe Network szervezésében. Az immár 12. alkalommal megrendezendő szakmai esemény kiváló lehetőség a HORIZON EUROPE program pályázataihoz megfelelő partnerek megismerésére. \n \nA párhuzamosan futó tematikus panelekben lehetőség nyílik projektötletek bemutatására is. A főszervezők választják ki\, hogy a határidő előtt beérkezett jelentkezések közül ki kap erre lehetőséget. Projektötlet nélkül is lehet jelentkezni\, amennyiben más projekthez kívánnak csatlakozni. \n  \nCélszektorok:\nCluster 1: Health \nCluster2: Creative Industries \nCluster 4: Digital Technologies \nCluster 4: Industrial Technologies \nCluster 5: Energy \nCluster 5: Mobility \nCluster 6: Food\, Bioeconomy\, Natural Resources\, Agriculture and Environment \nInnovative Procurement (PCP/PPI) \n  \nA részvétel költsége:\nA részvételi díj 150 EUR/2 nap/fő (1 napra 120 EUR) ÁFÁ-val együtt\, de a projektötletek bemutatására kiválasztott résztvevők számára ingyenes. A részvételi díj tartalmazza a vacsora\, ebéd\, és a napközbeni étkezések díját. \nREGISZTRÁCIÓ ÉS TOVÁBBI INFORMÁCIÓ\n  \nHatáridők\n2025. január 19.: határidő a projektötletek bemutatására (nem kötelező) \n2025. február 28.: regisztrációs határidő (kötelező) \n2025. március 6-7.: az esemény dátuma.
URL:https://pbkik.hu/esemeny/sikeres-ki-europaban-12-europai-partnerkozvetito-rendezveny/
CATEGORIES:Ajánló,EEN események
ATTACH;FMTTYPE=image/png:https://pbkik.hu/wp-content/uploads/2024/11/Flughafen-VA.png
END:VEVENT
BEGIN:VEVENT
DTSTART;VALUE=DATE:20250331
DTEND;VALUE=DATE:20250405
DTSTAMP:20260421T080420
CREATED:20250325T072841Z
LAST-MODIFIED:20250325T074131Z
UID:10003077-1743379200-1743811199@pbkik.hu
SUMMARY:Hannover Messe 2025 - nemzetközi üzletember találkozó
DESCRIPTION:Vegyen részt Ön is az Enterprise Europe Network szervezésében megvalósuló nemzetközi hibrid (jelenléti és online) B2B találkozón! \n \nHasználja ki a lehetőséget az innovációra! Szerezzen új lehetőségeket és versenyelőnyt a K+F és technológiai\, valamint üzleti együttműködések révén! \nA rendezvény az alábbi területeken nyújt lehetőséget új nemzetközi partnerek megismerésére és együttműködések kialakítására előre egyeztetett kétoldalú B2B tárgyalások keretében: \n\nIpar 4.0 és Intelligens Gyár (Smart Factory) megoldások\nErőforrás- és energiahatékony gyártási technológiák\nFenntartható energia és mobilitás\nMérőeszközök\n\nA részvétel térítésmentes\, de előzetes regisztrációhoz kötött. \nKérjük regisztráljon a rendezvény online felületén és foglaljon tárgyalásokat a résztvevő cégekkel! \nREGISZTRÁCIÓ\nTovábbi információ: een@pbkik.hu \n 
URL:https://pbkik.hu/esemeny/hannover-messe-2025-nemzetkozi-uzletember-talalkozo/
LOCATION:Hibrid
ATTACH;FMTTYPE=image/png:https://pbkik.hu/wp-content/uploads/2025/03/Technology-Business-Cooperation-Days-2025.png
END:VEVENT
BEGIN:VEVENT
DTSTART;VALUE=DATE:20250603
DTEND;VALUE=DATE:20250606
DTSTAMP:20260421T080420
CREATED:20250401T105048Z
LAST-MODIFIED:20250401T112633Z
UID:10003095-1748908800-1749167999@pbkik.hu
SUMMARY:Támogatott részvételi lehetőség a Portugal Smart Cities Summit kiállításon
DESCRIPTION:Magyarország lisszaboni Nagykövetsége immár negyedik alkalommal biztosít lehetőséget magyar cégek számára\, hogy térítésmentesen bemutatkozhassanak\, az idén 2025. június 3-5. között megrendezésre kerülő Portugal Smart Cities Summit kiállításon. \n \nPortugal Smart Cities Summit \nVárják a vállalatok jelentkezését a kormányzati megoldások\, okos város\, IT&IOT\, kiberbiztonság\, mobilitás\, energetika\, víz-\, hulladék- és környezetgazdálkodás\, valamint egészségipar területéről. \nJelentkezési határidő: 2025. április 13. \nTovábbi információ: dr. Pekári-Vékei Judit külgazdasági attasé\njudit.vekei@mfa.gov.hu\nTel.: +36 70 682 5982
URL:https://pbkik.hu/esemeny/tamogatott-reszveteli-lehetoseg-a-portugal-smart-cities-summit-kiallitason/
LOCATION:Feira Internacional de Lisboa\, R. do Bojador\, Lisszabon\, 1998-010\, Portugal
CATEGORIES:Ajánló
ATTACH;FMTTYPE=image/jpeg:https://pbkik.hu/wp-content/uploads/2025/04/Portugal-Smart-Cities-Summit_25063.jpg
END:VEVENT
END:VCALENDAR