BEGIN:VCALENDAR
VERSION:2.0
PRODID:-//Pécs-Baranyai Kereskedelmi és Iparkamara - ECPv6.15.20//NONSGML v1.0//EN
CALSCALE:GREGORIAN
METHOD:PUBLISH
X-ORIGINAL-URL:https://pbkik.hu
X-WR-CALDESC:Események Pécs-Baranyai Kereskedelmi és Iparkamara
REFRESH-INTERVAL;VALUE=DURATION:PT1H
X-Robots-Tag:noindex
X-PUBLISHED-TTL:PT1H
BEGIN:VTIMEZONE
TZID:Europe/Helsinki
BEGIN:DAYLIGHT
TZOFFSETFROM:+0200
TZOFFSETTO:+0300
TZNAME:EEST
DTSTART:20200329T010000
END:DAYLIGHT
BEGIN:STANDARD
TZOFFSETFROM:+0300
TZOFFSETTO:+0200
TZNAME:EET
DTSTART:20201025T010000
END:STANDARD
BEGIN:DAYLIGHT
TZOFFSETFROM:+0200
TZOFFSETTO:+0300
TZNAME:EEST
DTSTART:20210328T010000
END:DAYLIGHT
BEGIN:STANDARD
TZOFFSETFROM:+0300
TZOFFSETTO:+0200
TZNAME:EET
DTSTART:20211031T010000
END:STANDARD
BEGIN:DAYLIGHT
TZOFFSETFROM:+0200
TZOFFSETTO:+0300
TZNAME:EEST
DTSTART:20220327T010000
END:DAYLIGHT
BEGIN:STANDARD
TZOFFSETFROM:+0300
TZOFFSETTO:+0200
TZNAME:EET
DTSTART:20221030T010000
END:STANDARD
END:VTIMEZONE
BEGIN:VEVENT
DTSTART;VALUE=DATE:20210713
DTEND;VALUE=DATE:20210716
DTSTAMP:20260423T010500
CREATED:20210617T114311Z
LAST-MODIFIED:20210617T114844Z
UID:10002399-1626134400-1626393599@pbkik.hu
SUMMARY:Qatar Matchmaking & Exhibition Event 2021 - Online üzletember találkozó
DESCRIPTION:A Qatar Development Bank  és az Enterprise Europe Network Quatar virtuális nemzetközi üzletember találkozót szervez\, melyre várják az érdeklődő magyar vállalkozásokat is! \n \nA rendezvényre a következő ágazatokban működő vállalkozásokat várják: \n• Építőipar\,építőanyagok\,elektromos berendezések\n• Műanyag és csomagolás\n• Vegyi termékek\n• Papírtermékek\n• Gyorsan forgó fogyasztási cikkek (FMCG)\n• Élelmiszeripar\, vendéglátás\n• ICT\, startup\n• Gyógyszeripar\, egészségügy és orvosi felszerelések \nA rendezvény díjmentes\, de előzetes regisztrációhoz kötött: \nREGISZTRÁCIÓ
URL:https://pbkik.hu/esemeny/qatar-matchmaking-exhibition-event-2021-online-uzletember-talalkozo/
LOCATION:Online
ATTACH;FMTTYPE=image/jpeg:https://pbkik.hu/wp-content/uploads/2021/06/quatar-2021-julius.jpg
END:VEVENT
END:VCALENDAR