BEGIN:VCALENDAR
VERSION:2.0
PRODID:-//Pécs-Baranyai Kereskedelmi és Iparkamara - ECPv6.15.20//NONSGML v1.0//EN
CALSCALE:GREGORIAN
METHOD:PUBLISH
X-WR-CALNAME:Pécs-Baranyai Kereskedelmi és Iparkamara
X-ORIGINAL-URL:https://pbkik.hu
X-WR-CALDESC:Események Pécs-Baranyai Kereskedelmi és Iparkamara
REFRESH-INTERVAL;VALUE=DURATION:PT1H
X-Robots-Tag:noindex
X-PUBLISHED-TTL:PT1H
BEGIN:VTIMEZONE
TZID:Europe/Helsinki
BEGIN:DAYLIGHT
TZOFFSETFROM:+0200
TZOFFSETTO:+0300
TZNAME:EEST
DTSTART:20220327T010000
END:DAYLIGHT
BEGIN:STANDARD
TZOFFSETFROM:+0300
TZOFFSETTO:+0200
TZNAME:EET
DTSTART:20221030T010000
END:STANDARD
BEGIN:DAYLIGHT
TZOFFSETFROM:+0200
TZOFFSETTO:+0300
TZNAME:EEST
DTSTART:20230326T010000
END:DAYLIGHT
BEGIN:STANDARD
TZOFFSETFROM:+0300
TZOFFSETTO:+0200
TZNAME:EET
DTSTART:20231029T010000
END:STANDARD
BEGIN:DAYLIGHT
TZOFFSETFROM:+0200
TZOFFSETTO:+0300
TZNAME:EEST
DTSTART:20240331T010000
END:DAYLIGHT
BEGIN:STANDARD
TZOFFSETFROM:+0300
TZOFFSETTO:+0200
TZNAME:EET
DTSTART:20241027T010000
END:STANDARD
END:VTIMEZONE
BEGIN:VTIMEZONE
TZID:Europe/Budapest
BEGIN:DAYLIGHT
TZOFFSETFROM:+0100
TZOFFSETTO:+0200
TZNAME:CEST
DTSTART:20220327T010000
END:DAYLIGHT
BEGIN:STANDARD
TZOFFSETFROM:+0200
TZOFFSETTO:+0100
TZNAME:CET
DTSTART:20221030T010000
END:STANDARD
BEGIN:DAYLIGHT
TZOFFSETFROM:+0100
TZOFFSETTO:+0200
TZNAME:CEST
DTSTART:20230326T010000
END:DAYLIGHT
BEGIN:STANDARD
TZOFFSETFROM:+0200
TZOFFSETTO:+0100
TZNAME:CET
DTSTART:20231029T010000
END:STANDARD
BEGIN:DAYLIGHT
TZOFFSETFROM:+0100
TZOFFSETTO:+0200
TZNAME:CEST
DTSTART:20240331T010000
END:DAYLIGHT
BEGIN:STANDARD
TZOFFSETFROM:+0200
TZOFFSETTO:+0100
TZNAME:CET
DTSTART:20241027T010000
END:STANDARD
END:VTIMEZONE
BEGIN:VEVENT
DTSTART;TZID=Europe/Helsinki:20231017T090000
DTEND;TZID=Europe/Helsinki:20231019T160000
DTSTAMP:20260420T075902
CREATED:20220216T080207Z
LAST-MODIFIED:20230823T070034Z
UID:10002157-1697533200-1697731200@pbkik.hu
SUMMARY:Hatékony marketingmegoldások KKV-k számára képzés
DESCRIPTION:Példák\, minták\, módszerek a mindennapi marketinghez \nJól bevált gyakorlatok\, kipróbált sablonok\, amit a rohanó hétköznapokban kiválóan tudnak hasznosítani a cégvezetők\, vállalkozók\, marketingesek. Röviden így lehetne összefoglalni a képzés lényegét. \nMarketing trendek jönnek mennek\, nem könnyű a mai vállalkozóknak eldönteni\, melyiket érdemes bevezetni\, melyik lehet hatásos az ő tevékenységüknél. Melyik eszközre érdemes költeni\, melyik a pénzkidobás? Hol hirdessek\, melyik közösségi médiában jelenjek meg? Ezekre és még sok hasonló kérdésre kaphatnak választ mindazok\, akik részt vesznek ezen a komplex képzésen. \nGyakorlatból jeles. 100% hasznos tudás. \nA 3 napos kurzus során nem csupán elméleti tudás átadása történik. Sokkal inkább hús-vér gyakorlati tréninget takar. Az oktatók olyan szakemberek\, akik vállalkozóként több évtizedes tapasztalattal rendelkeznek marketing területen. \nKépzés tervezett időpontja: 2023. október 17-18-19.\, 09.00-16.00 között. \nKépzési idő: 21 óra. \nMaximális létszám: 30 fő. \nMinimális létszám: 10 fő. \nKépzés formája: csoportos hibrid (személyes és online) képzés \nKépzési díj: 60.000.-Ft/fő + Áfa (támogatott képzés esetén T.A.M.). \nÖnkéntes kamarai tagoknak és/vagy egy vállalkozástól\, legalább 3 fő regisztrálása esetén a képzési díjból 10%/fő kedvezményt biztosítunk. \nA képzési díj tartalmazza a képzés összes költségét\, beleértve a képzés\, a tananyag és a tanúsítvány összegét. \nA képzés elvégzésével megszerezhető dokumentum megnevezése: Tanúsítvány \n\nJelentkezési lap\n\nJelentkezési határidő: 2023.10.05. \nTovábbi információ: \n\nHatékony marketingmegoldások KKV-k számára\n\nA Pécs-Baranyai Kereskedelmi és Iparkamara felnőttképzési engedélyszáma: E/2020/000151\, felnőttképzési nyilvántartási száma: B/2020/006151.
URL:https://pbkik.hu/esemeny/hatekony-marketingmegoldasok-kkv-k-szamara-kepzes/
LOCATION:Pécsi Kereskedelmi Központ
GEO:46.081487;18.2347915
END:VEVENT
BEGIN:VEVENT
DTSTART;TZID=Europe/Budapest:20231026T140000
DTEND;TZID=Europe/Budapest:20231026T160000
DTSTAMP:20260420T075902
CREATED:20230925T110949Z
LAST-MODIFIED:20240207T092046Z
UID:10002845-1698328800-1698336000@pbkik.hu
SUMMARY:Ismerje meg a Kamarát – Ismerjük meg egymást!
DESCRIPTION:A Pécs-Baranyai Kereskedelmi és Iparkamara örömmel várja az idei évben regisztrált vállalkozásokat egy kötetlen tájékoztatóra\, hogy részletesen megismerhessék az igénybe vehető kamarai szolgáltatásokat és együtt megtaláljuk azokat a területeket\, ahol kölcsönösen egymás segítségére lehetünk! \n \nRendezványünkön való részvétel díjmentes\, de előzetes online regisztrációhoz kötött\, melyet a jelentkezés sorrendjében tudunk fogadni maximum 50 főig. Túljelentkezés esetén későbbi időpontot fogunk megadni egy következő rendezvényre válasz e-mailben. \nKérjük\, ha már regisztrált\, de mégsem tudna részt venni a programon\, jelezze felénk 2023. október 25-ig a pazaurek@pbkik.hu címen\, így túljelentkezés esetén a várólistáról tudjuk még másoknak biztosítani a részvételt. \nAmennyiben nem tud eljönni rendezvényeinkre\, de nem szeretne lemaradni vállalkozását érintő tudnivalókról\, iratkozzon fel hírlevelünkre!
URL:https://pbkik.hu/esemeny/ismerje-meg-a-kamarat-ismerjuk-meg-egymast-5/
LOCATION:Pécsi Kereskedelmi Központ
ATTACH;FMTTYPE=image/png:https://pbkik.hu/wp-content/uploads/2017/07/cropped-cropped-pbkik.png
GEO:46.081487;18.2347915
END:VEVENT
END:VCALENDAR