BEGIN:VCALENDAR
VERSION:2.0
PRODID:-//Pécs-Baranyai Kereskedelmi és Iparkamara - ECPv6.15.20//NONSGML v1.0//EN
CALSCALE:GREGORIAN
METHOD:PUBLISH
X-WR-CALNAME:Pécs-Baranyai Kereskedelmi és Iparkamara
X-ORIGINAL-URL:https://pbkik.hu
X-WR-CALDESC:Események Pécs-Baranyai Kereskedelmi és Iparkamara
REFRESH-INTERVAL;VALUE=DURATION:PT1H
X-Robots-Tag:noindex
X-PUBLISHED-TTL:PT1H
BEGIN:VTIMEZONE
TZID:Europe/Helsinki
BEGIN:DAYLIGHT
TZOFFSETFROM:+0200
TZOFFSETTO:+0300
TZNAME:EEST
DTSTART:20190331T010000
END:DAYLIGHT
BEGIN:STANDARD
TZOFFSETFROM:+0300
TZOFFSETTO:+0200
TZNAME:EET
DTSTART:20191027T010000
END:STANDARD
BEGIN:DAYLIGHT
TZOFFSETFROM:+0200
TZOFFSETTO:+0300
TZNAME:EEST
DTSTART:20200329T010000
END:DAYLIGHT
BEGIN:STANDARD
TZOFFSETFROM:+0300
TZOFFSETTO:+0200
TZNAME:EET
DTSTART:20201025T010000
END:STANDARD
BEGIN:DAYLIGHT
TZOFFSETFROM:+0200
TZOFFSETTO:+0300
TZNAME:EEST
DTSTART:20210328T010000
END:DAYLIGHT
BEGIN:STANDARD
TZOFFSETFROM:+0300
TZOFFSETTO:+0200
TZNAME:EET
DTSTART:20211031T010000
END:STANDARD
END:VTIMEZONE
BEGIN:VEVENT
DTSTART;VALUE=DATE:20201012
DTEND;VALUE=DATE:20201015
DTSTAMP:20260420T014203
CREATED:20201007T093558Z
LAST-MODIFIED:20201007T093736Z
UID:10001818-1602460800-1602719999@pbkik.hu
SUMMARY:Eurochambres Rebooting Europe online rendezvénysorozat
DESCRIPTION:A Eurochambres a brüsszeli Régiók Bizottságával közösen\, az EU Régiók Hete társrendezvényeként meghirdette az „EUROCHAMBRES Rebooting Europe” című online rendezvénysorozatot\, amely öt tematikus eseményt ill. egy zárórendezvényt kínál három napon keresztül az idei EPE helyett. Az 5 tematikus esemény az Eurochambres prioritásaira épül\, amelyek: \n\nFenntartható Európa\nSzakképzés és vállalkozói szellem\nGlobális Európa\nKKV-k és gazdaságpolitika\nEgységes uniós piac és digitalizáció\n\n  \nAz eseménysorozat elsősorban a tagországok országos\, regionális és helyi kamaráit célozza meg\, ugyanakkor hasznos és érdekes lehet a kkv-k számára is. A rendezvény nyelve az angol\, magyar tolmácsolás nélkül. \n  \nIdőpont: 2020.október 12-14. \nProgram: mellékelve továbbá: https://chambers4eu.eu/programme/ \nRegisztráció és jelentkezés: https://chambers4eu.eu/register/ \nJelentkezési határidő: a zárórendezvényre október 7.\, a többi programra pedig október 9.
URL:https://pbkik.hu/esemeny/eurochambres-rebooting-europe-online-rendezvenysorozat-2/
LOCATION:Online
END:VEVENT
END:VCALENDAR