BEGIN:VCALENDAR
VERSION:2.0
PRODID:-//Pécs-Baranyai Kereskedelmi és Iparkamara - ECPv6.15.20//NONSGML v1.0//EN
CALSCALE:GREGORIAN
METHOD:PUBLISH
X-WR-CALNAME:Pécs-Baranyai Kereskedelmi és Iparkamara
X-ORIGINAL-URL:https://pbkik.hu
X-WR-CALDESC:Események Pécs-Baranyai Kereskedelmi és Iparkamara
REFRESH-INTERVAL;VALUE=DURATION:PT1H
X-Robots-Tag:noindex
X-PUBLISHED-TTL:PT1H
BEGIN:VTIMEZONE
TZID:Europe/Budapest
BEGIN:DAYLIGHT
TZOFFSETFROM:+0100
TZOFFSETTO:+0200
TZNAME:CEST
DTSTART:20240331T010000
END:DAYLIGHT
BEGIN:STANDARD
TZOFFSETFROM:+0200
TZOFFSETTO:+0100
TZNAME:CET
DTSTART:20241027T010000
END:STANDARD
BEGIN:DAYLIGHT
TZOFFSETFROM:+0100
TZOFFSETTO:+0200
TZNAME:CEST
DTSTART:20250330T010000
END:DAYLIGHT
BEGIN:STANDARD
TZOFFSETFROM:+0200
TZOFFSETTO:+0100
TZNAME:CET
DTSTART:20251026T010000
END:STANDARD
BEGIN:DAYLIGHT
TZOFFSETFROM:+0100
TZOFFSETTO:+0200
TZNAME:CEST
DTSTART:20260329T010000
END:DAYLIGHT
BEGIN:STANDARD
TZOFFSETFROM:+0200
TZOFFSETTO:+0100
TZNAME:CET
DTSTART:20261025T010000
END:STANDARD
END:VTIMEZONE
BEGIN:VEVENT
DTSTART;TZID=Europe/Budapest:20250312T090000
DTEND;TZID=Europe/Budapest:20250312T163000
DTSTAMP:20260420T053729
CREATED:20250305T081805Z
LAST-MODIFIED:20250305T114020Z
UID:10003063-1741770000-1741797000@pbkik.hu
SUMMARY:Fenntarthatóság - költség vagy sikerkritérium az exportban
DESCRIPTION:Kétnapos képzés kerekasztal-beszélgetéssel és több órányi e-learning tananyaggal\nA vállalati fenntarthatóság\, az ESG egy üzleti megközelítés\, ami növeli a vállalat értékét azáltal\, hogy kiaknázza a lehetőségeket és csökkenti a kockázatokat mind a gazdasági\, környezeti és társadalmi fejlődés terén. Már nem csak PR-üzenet\, hanem nemzetközi vevők beszállítói értékelésében kritérium\, banki finanszírozásban átvilágítási alap és EU-s pályázatok esetén alapfeltétel. \nPiacvédés vagy piacépítés az ESG-vel? \nTavalyi évben indította el az Exportakadémia fenntarthatósági képzését\, melynek célja megismertetni a résztvevőket a vállalati fenntarthatóság alapjain túl azon módszerekkel\, eszközökkel\, nemzetközi és hazai gyakorlatokkal\, amelyek elengedhetetlenek a következő pár évben a versenyképesség megtartásához és a nemzetközi vevőkkel való együttműködéshez. \nFenntarthatóság – Költség vagy sikerkritérium az exportban? \nA vállalati fenntarthatóság nagyon komplex\, a teljes vállalati struktúrát érintő stratégiai és működési folyamat. Nem lehet egyik napról a másikra megvalósítani\, de amennyiben a szándék valós\, akkor apró lépésekkel\, kitartó munkával hosszútávú értékeket teremthet a cégnek és az egész társadalomnak. \nA gyakorlatorientált tréningen lehetőséget kapnak a résztvevők\, hogy saját iparágukra\, vállalatukra\, termékükre\, kereskedelmi értékláncukra és vezetői szemléletükre testre szabva is értelmezzék az elméletet és adaptálhassák a tanultakat. \nA képzés része egy e-learning tananyag is. Emberi jogok védelme\, felelős foglalkoztatás\, etikus üzletvitel\, körforgásos gazdaság\, klímavédelem\, karbonsemlegesség\, fenntartható beszerzés\, nem pénzügyi jelentéstétel\, stakeholder szemlélet és hasonló kifejezésekkel lehet találkozni az EU és egyéb nyugati országok jogszabályai között\, vevői szerződésekben\, beszállítói etikai kódexekben és vevői helyszíni auditok során. A kurzus választ ad arra\, mit jelentenek ezek egy kis- és közép vállalat számára\, milyen gyakorlatok tartoznak ide\, és ezek hogyan kapcsolódnak az üzleti sikerességhez. \nKerekasztal-beszélgetés az első nap végén: \n\nBolyán Róbert\, ESG Központ igazgató\, EXIM Bank\nDr. Botos Barbara\, PhD Klímaügyekért és Klímadiplomáciáért Felelős Utazó Nagykövet\nBory László\, DHL Express Hungary Ltd.\nTárkány-Szücs Dénes\, Sourcing Sustainability Supervisor\, Grundfos\n\nModerátor: Fertetics Mandy ügyvezető\, Alternate Tanácsadó Kft.; fenntarthatósági vezető\, MVÜK \nKiknek ajánljuk a képzést? \nA képzés célcsoportját jelenti minden olyan exportáló vagy exportálni kívánó KKV munkatársa\, aki a képzési programmal elérhető ismeretek\, készségek és kompetenciák megszerzését tűzte ki célként maga elé.\nA képzés különösen ajánlott:\n• exportáló kkv-k munkatársainak\n• exporttevékenység megkezdése előtt álló\, exportképes termékkel vagy szolgáltatással rendelkező kkv-k vezetőinek\, szakértőinek\n• fejlődő és fejlődni vágyó kis- és középvállalkozásoknak\, startupoknak \nIdőpont: \n\nnap – 2025. március 12. (szerda) – 9.00 – 16.30 óráig\nnap – 2025. március 27. (csütörtök) – 9.00 – 16.30 óráig\n\nHelyszín:\nHEPA Magyar Exportfejlesztési Ügynökség székháza – Földszinti Rendezvényterem (1027 Budapest\, Kacsa utca 15-23.) \n\n\n\nA program állami támogatás mellett valósul meg\, a részvétel regisztrációhoz kötött. Kedvezményes részvételi díj: 9.900 Ft (ÁFA mentes) \nBővebb információ és jelentkezés itt.
URL:https://pbkik.hu/esemeny/fenntarthatosag-koltseg-vagy-sikerkriterium-az-exportban-2/
LOCATION:HEPA Magyar Exportfejlesztési Ügynökség székháza\, 1027 Budapest\, Kacsa utca 15.\, Budapest\, 1027
ATTACH;FMTTYPE=image/jpeg:https://pbkik.hu/wp-content/uploads/2024/05/hepa-export-akademia.jpg
END:VEVENT
BEGIN:VEVENT
DTSTART;TZID=Europe/Budapest:20250313T080000
DTEND;TZID=Europe/Budapest:20250314T170000
DTSTAMP:20260420T053729
CREATED:20250114T065916Z
LAST-MODIFIED:20250114T070853Z
UID:10003026-1741852800-1741971600@pbkik.hu
SUMMARY:Forward Green Energy Tech B2B 2025 Thessaloniki
DESCRIPTION:A rendezvény olyan témákról fog szólni\, mint a körkörös gazdaság\, a fenntartható fejlődés és a megújuló energia\, hangsúlyozva az üzleti modellek fenntarthatóság irányába történő átalakítását. \n \nFő fókuszterületek: \n\nÚjrahasznosítás\nA nyersanyagok hatékony felhasználása\nEnergiatárolás és -megőrzés\nIntelligens energiagazdálkodás\nEnergiahatékonyság\nFenntartható építőanyagok és csomagolás\nFenntartható üzleti gyakorlat és tervezés (bioklimatikus tervezés\, zöld marketing stb.)\nKörforgásos gazdasági technológiák\nMegújuló energiaforrások és zöld energia\nHidrogén és más megújuló zöld gázok\nKörnyezetvédelmi megoldások (gépek\, eszközök és berendezések a fenntartható megoldásokhoz\, hulladékkezelés\, újrahasznosítási technológiák stb.)\n\nIdőpont: 2025.03.13-14. \nHelyszín: Thessaloniki\, Görögország \nBővebb információ és regisztráció: https://www.b2match.com/e/forward-green-energy-tech-b2b/components/49740/info \n 
URL:https://pbkik.hu/esemeny/forward-green-energy-tech-b2b-2025-thessaloniki/
LOCATION:Thessaloniki
CATEGORIES:EEN események
END:VEVENT
BEGIN:VEVENT
DTSTART;TZID=Europe/Budapest:20250313T100000
DTEND;TZID=Europe/Budapest:20250313T143000
DTSTAMP:20260420T053729
CREATED:20250220T073243Z
LAST-MODIFIED:20250220T074832Z
UID:10003046-1741860000-1741876200@pbkik.hu
SUMMARY:Energiahatékonyság\, költségcsökkentés és finanszírozási lehetőségek KKV-k számára! 
DESCRIPTION:Szeretné növelni vállalata energiahatékonyságát\, csökkenteni a költségeit\, vagy új finanszírozási lehetőségekhez jutni? Szeretne naprakész maradni a fenntartható energia legújabb innovációival kapcsolatban? \nCsatlakozzon hozzánk az SMEnergy Connect eseményen\, ahol iparági szakértők osztanak meg gyakorlati betekintéseket\, finanszírozási stratégiákat és valódi sikeres átalakulási történeteket\, hogy segíthessék a KKV-kat az energetikai kihívások leküzdésében és a fenntartható fejlődésben. \nMiért érdemes részt venni? \n✅ Konkrét lépéseket ismerhet meg vállalata energiahatékonyságának növelésére\n✅ Tájékozódhat a fenntartható projektek finanszírozási lehetőségeiről\n✅ Megismerheti a piaci trendeket és innovatív energiarendszereket\n✅ Kapcsolatot építhet szakértőkkel és hasonló gondolkodású vállalkozókkal \nEsemény részletei \n📅 Dátum: 2025. március 13.\n📍 Helyszín: CXI TUL\, Bendlova 6\, 460 01 Liberec vagy ONLINE csatlakozás – a linket a regisztráció után küldjük meg.\n🔗 Regisztráció itt: https://docs.google.com/forms/d/e/1FAIpQLSfz5ZvM1bSEfJh_xFv38HWAiib9MeNsdB56SwNlQtwGZzz9DQ/viewform \nProgram\n🕙 10:00 – 10:15 | Projektbemutató: Lehetőségek KKV-k számára\n🕥 10:15 – 11:00 | Tomáš Svoboda – Az energiaátalakítás előnyei\n🕚 11:00 – 11:45 | Andrea Milecová – Finanszírozási lehetőségek és tippek\n☕ 11:45 – 12:00 | Kávészünet\n🕛 12:00 – 12:30 | TBA Speaker – [Hamarosan bejelentésre kerülő téma]\n🕧 12:30 – 13:30 | Legjobb gyakorlatok: KKV-k sikertörténetei\n🥗 13:30 – 14:30 | Ebéd & networking \n🌍 Hibrid esemény: Ha online csatlakozik\, az elérési linket előzetesen megosztjuk.  Az esemény angol nyelven kerül megrendezésre\, tolmácsolás nélkül. \nNe hagyja ki ezt a lehetőséget\, hogy tanuljon\, kapcsolatokat építsen és inspirálódjon!
URL:https://pbkik.hu/esemeny/energiahatekonysag-koltsegcsokkentes-es-finanszirozasi-lehetosegek-kkv-k-szamara/
END:VEVENT
BEGIN:VEVENT
DTSTART;TZID=Europe/Budapest:20250320T140000
DTEND;TZID=Europe/Budapest:20250320T160000
DTSTAMP:20260420T053729
CREATED:20250310T152034Z
LAST-MODIFIED:20250814T113450Z
UID:10003068-1742479200-1742486400@pbkik.hu
SUMMARY:Kamarai Fenntarthatósági Klub - ESG a gyakorlatban - egy nagyvállalati példán keresztül
DESCRIPTION:Az ESG szempontok napjaink vállalati világában egyre nagyobb jelentőséget kapnak. \n \nEzek a kritériumok nem csupán a környezetvédelmi gyakorlatokra korlátozódnak\, hanem magukban foglalják a társadalmi felelősségvállalást és a vállalatirányítási szempontokat is. A fenntarthatóság iránti elkötelezettség már nem opcionális\, hanem elengedhetetlen része a modern üzleti stratégiáknak. A 2023. évi CVIII. [ESG] törvény az Európai Unió CSRD (Corporate Sustainability Reporting Directive) irányelvéhez igazodva állítja kötelező érvényű követelményekké az ESG célok elérését a vállalatok számára. Az új szabályozás meghatározza\, hogy mely vállalatoknak és milyen határidőkkel kell ESG jelentést készíteniük\, valamint pontos kereteket ír elő az adatgyűjtés és jelentéstétel alapelveire. \nA januári klubülésen egy általános tájékoztatót hallhattak a résztvevők a témával kapcsolatban. A soron következő ülésen a gyakorlatban – egy nagyvállalat példáján keresztül – fogják bemutatni azt\, amit az ESG-ről tudni érdemes. \nIdőpont: 2025. 03. 20. (csütörtök) 14:00-16:00 \nHelyszín: PBKIK\, 7625 Pécs\, Majorossy I. u. 36. \nElőadó: Sudár Balázs – ügyvezető – www.avalex.hu \n\n\nA klub működése nyilvános\, várjuk a téma iránt érdeklődők jelentkezését\, illetve a klubtagoktól a témajavaslatokat. \nRegisztráció (az új jelentkezőknek): https://forms.gle/oVd2LDKzgiFc3GFb9 \nAz eseményt az Enterprise Europe Network támogatja. \n\n  \n  \n 
URL:https://pbkik.hu/esemeny/kamarai-fenntarthatosagi-klub-esg-a-gyakorlatban-egy-nagyvallalati-peldan-keresztul/
LOCATION:Pécsi Kereskedelmi Központ
CATEGORIES:EEN események,Kamarai Fenntarthatósági Klub rendezvény
GEO:46.081487;18.2347915
END:VEVENT
BEGIN:VEVENT
DTSTART;VALUE=DATE:20250331
DTEND;VALUE=DATE:20250405
DTSTAMP:20260420T053729
CREATED:20250325T072841Z
LAST-MODIFIED:20250325T074131Z
UID:10003077-1743379200-1743811199@pbkik.hu
SUMMARY:Hannover Messe 2025 - nemzetközi üzletember találkozó
DESCRIPTION:Vegyen részt Ön is az Enterprise Europe Network szervezésében megvalósuló nemzetközi hibrid (jelenléti és online) B2B találkozón! \n \nHasználja ki a lehetőséget az innovációra! Szerezzen új lehetőségeket és versenyelőnyt a K+F és technológiai\, valamint üzleti együttműködések révén! \nA rendezvény az alábbi területeken nyújt lehetőséget új nemzetközi partnerek megismerésére és együttműködések kialakítására előre egyeztetett kétoldalú B2B tárgyalások keretében: \n\nIpar 4.0 és Intelligens Gyár (Smart Factory) megoldások\nErőforrás- és energiahatékony gyártási technológiák\nFenntartható energia és mobilitás\nMérőeszközök\n\nA részvétel térítésmentes\, de előzetes regisztrációhoz kötött. \nKérjük regisztráljon a rendezvény online felületén és foglaljon tárgyalásokat a résztvevő cégekkel! \nREGISZTRÁCIÓ\nTovábbi információ: een@pbkik.hu \n 
URL:https://pbkik.hu/esemeny/hannover-messe-2025-nemzetkozi-uzletember-talalkozo/
LOCATION:Hibrid
ATTACH;FMTTYPE=image/png:https://pbkik.hu/wp-content/uploads/2025/03/Technology-Business-Cooperation-Days-2025.png
END:VEVENT
END:VCALENDAR