BEGIN:VCALENDAR
VERSION:2.0
PRODID:-//Pécs-Baranyai Kereskedelmi és Iparkamara - ECPv6.15.20//NONSGML v1.0//EN
CALSCALE:GREGORIAN
METHOD:PUBLISH
X-WR-CALNAME:Pécs-Baranyai Kereskedelmi és Iparkamara
X-ORIGINAL-URL:https://pbkik.hu
X-WR-CALDESC:Események Pécs-Baranyai Kereskedelmi és Iparkamara
REFRESH-INTERVAL;VALUE=DURATION:PT1H
X-Robots-Tag:noindex
X-PUBLISHED-TTL:PT1H
BEGIN:VTIMEZONE
TZID:Europe/Helsinki
BEGIN:DAYLIGHT
TZOFFSETFROM:+0200
TZOFFSETTO:+0300
TZNAME:EEST
DTSTART:20190331T010000
END:DAYLIGHT
BEGIN:STANDARD
TZOFFSETFROM:+0300
TZOFFSETTO:+0200
TZNAME:EET
DTSTART:20191027T010000
END:STANDARD
BEGIN:DAYLIGHT
TZOFFSETFROM:+0200
TZOFFSETTO:+0300
TZNAME:EEST
DTSTART:20200329T010000
END:DAYLIGHT
BEGIN:STANDARD
TZOFFSETFROM:+0300
TZOFFSETTO:+0200
TZNAME:EET
DTSTART:20201025T010000
END:STANDARD
BEGIN:DAYLIGHT
TZOFFSETFROM:+0200
TZOFFSETTO:+0300
TZNAME:EEST
DTSTART:20210328T010000
END:DAYLIGHT
BEGIN:STANDARD
TZOFFSETFROM:+0300
TZOFFSETTO:+0200
TZNAME:EET
DTSTART:20211031T010000
END:STANDARD
END:VTIMEZONE
BEGIN:VEVENT
DTSTART;VALUE=DATE:20200401
DTEND;VALUE=DATE:20200402
DTSTAMP:20260419T221947
CREATED:20200218T072359Z
LAST-MODIFIED:20200218T074058Z
UID:10002028-1585699200-1585785599@pbkik.hu
SUMMARY:Gépipar\, fémfeldolgozás\, lézertechnológia - STOM 2020
DESCRIPTION:Az Enterprise Europe Network és a Strapolskai Kereskedelmi és Iparkamara társszervezésében nemzetközi üzletember találkozót szerveznek Kielce-ben (Lengyelország) \n \nA Kielce-ben tartott STOM vásárok a fémfeldolgozásban használt legújabb technológiák\, gépek\, eszközök és anyagok bemutatása mellett lehetőséget adnak üzleti tárgyalások lebonyolítására is. A hatodik alkalommal megrendezésre kerülő STOM vásárok alkalmával megismerkedhetnek a világ minden tájáról érkező potenciális partnerekkel\, a fém- és gépipar képviseletében. \nKiemelt területek: \n\nlézer- és vízvágó rendszerek\,\nhajlítás és formázás\,\ngépek\, berendezések és technológiai megoldások\, valamint a hegesztőiparban használt anyagok\,\nhegesztési folyamatok\, automatizált berendezések\, robotok.\n\n  \nREGISZTRÁCIÓ\nTovábbi információért keresse az Enterprise Europe Network pécsi irodáját: \ne-mail: eenpecs@pbkik.hu
URL:https://pbkik.hu/esemeny/stom2020/
LOCATION:Kielce Trade Fairs\, 1 Zakładowa\, Kielce\, 25-672\, Lengyelország
END:VEVENT
END:VCALENDAR