BEGIN:VCALENDAR
VERSION:2.0
PRODID:-//Pécs-Baranyai Kereskedelmi és Iparkamara - ECPv6.15.20//NONSGML v1.0//EN
CALSCALE:GREGORIAN
METHOD:PUBLISH
X-WR-CALNAME:Pécs-Baranyai Kereskedelmi és Iparkamara
X-ORIGINAL-URL:https://pbkik.hu
X-WR-CALDESC:Események Pécs-Baranyai Kereskedelmi és Iparkamara
REFRESH-INTERVAL;VALUE=DURATION:PT1H
X-Robots-Tag:noindex
X-PUBLISHED-TTL:PT1H
BEGIN:VTIMEZONE
TZID:Europe/Budapest
BEGIN:DAYLIGHT
TZOFFSETFROM:+0100
TZOFFSETTO:+0200
TZNAME:CEST
DTSTART:20230326T010000
END:DAYLIGHT
BEGIN:STANDARD
TZOFFSETFROM:+0200
TZOFFSETTO:+0100
TZNAME:CET
DTSTART:20231029T010000
END:STANDARD
BEGIN:DAYLIGHT
TZOFFSETFROM:+0100
TZOFFSETTO:+0200
TZNAME:CEST
DTSTART:20240331T010000
END:DAYLIGHT
BEGIN:STANDARD
TZOFFSETFROM:+0200
TZOFFSETTO:+0100
TZNAME:CET
DTSTART:20241027T010000
END:STANDARD
BEGIN:DAYLIGHT
TZOFFSETFROM:+0100
TZOFFSETTO:+0200
TZNAME:CEST
DTSTART:20250330T010000
END:DAYLIGHT
BEGIN:STANDARD
TZOFFSETFROM:+0200
TZOFFSETTO:+0100
TZNAME:CET
DTSTART:20251026T010000
END:STANDARD
BEGIN:DAYLIGHT
TZOFFSETFROM:+0100
TZOFFSETTO:+0200
TZNAME:CEST
DTSTART:20260329T010000
END:DAYLIGHT
BEGIN:STANDARD
TZOFFSETFROM:+0200
TZOFFSETTO:+0100
TZNAME:CET
DTSTART:20261025T010000
END:STANDARD
END:VTIMEZONE
BEGIN:VEVENT
DTSTART;VALUE=DATE:20241009
DTEND;VALUE=DATE:20241012
DTSTAMP:20260425T203225
CREATED:20240916T131719Z
LAST-MODIFIED:20240916T131719Z
UID:10002973-1728432000-1728691199@pbkik.hu
SUMMARY:Nemzetközi gépipari fórum Ausztriában
DESCRIPTION:Az Osztrák Gazdasági Kamara 2024. október 9-11. között Bécsben International Machinery Forum néven szervez gépgyártási konferenciát és nemzetközi üzletember találkozót\, B2B tárgyalásokat. \n\n \nIdén immár hatodik alkalommal kerül megrendezésre az esemény\, amely a szakmai tartalom mellett a gépipar szereplőinek találkozására is lehetőséget kínál. \nAz idei konferencia a következő témákra fókuszál: \n\nVersenyképes gyártás a globalizált világban\nFenntartható termelési technológiák\nIpari mesterséges intelligencia és AR/VR\nAdditív gyártás\nAutomatizálás és robotika\nBeszerzés: nemzetközi\, fenntartható és hatékony\nAz uniós ellátási láncról szóló törvény\n\nAz érdekes szakmai előadások\, kirándulások és beszélgetések mellet idén is lehetőség van B2B tárgyalásokon keresztül új kapcsolatok kialakítására. További információ\, a teljes program és a jelentkezés a rendezvény hivatalos oldalán elérhető: https://www.machineryforum.at/ \nA részvétel a bécsi helyszínen és online is egyaránt ingyenes. A rendezvény hivatalos nyelve az angol.
URL:https://pbkik.hu/esemeny/nemzetkozi-gepipari-forum-ausztriaban/
LOCATION:Austrian Federal Economic Chamber\, Vienna\, Wiedner Hauptstraße 63\, Bécs\, Austria
CATEGORIES:EEN események
END:VEVENT
BEGIN:VEVENT
DTSTART;TZID=Europe/Budapest:20250312T100000
DTEND;TZID=Europe/Budapest:20250312T170000
DTSTAMP:20260425T203225
CREATED:20241108T102558Z
LAST-MODIFIED:20241108T102558Z
UID:10002992-1741773600-1741798800@pbkik.hu
SUMMARY:CONTACT 2025 – Nemzetközi üzletember találkozó
DESCRIPTION:Kombinált szakvásár és nemzetközi B2B a gépipar\, gyártástechnológiai és beszállítói ipar számára. Az Enterprise Europe Network 2025-ben is mengrendezi a “Contact:Business meeting” nemzetközi üzletember találkozót az „intec/Zuliefermesse” társrendezvényként. \n \nKiemelt témák: \n\nGép-\, berendezés- és szerszámgyártás\nAutó- és járműgyártás\nGyártás- és automatizálási technológia\nGyártástechnikai szolgáltatások\n\nMit kínál Önnek a CONTACT? \n\nTervezett kapcsolatfelvételi találkozók új ügyfeleket vagy minősített beszállítókat kereső vállalatokkal határokon átnyúlóan.\nTalálkozók új technológiák és innovatív megoldások szolgáltatóival.\nPotenciális partnerek megismerése a jövőbeli közös kutatási és fejlesztési projektek számára.\n\nA részvétel díjmentes\, de előzetes regisztrációhoz kötött. \nTovábbi információ és REGISZTRÁCIÓ
URL:https://pbkik.hu/esemeny/contact-2025-nemzetkozi-uzletember-talalkozo/
LOCATION:CCL – Congress Center\, Seehausener Allee 1\, Lipcse\, 04356\, Németország
CATEGORIES:Ajánló,EEN események
ATTACH;FMTTYPE=image/png:https://pbkik.hu/wp-content/uploads/2024/11/contact_2025.png
END:VEVENT
BEGIN:VEVENT
DTSTART;TZID=Europe/Budapest:20250402T100000
DTEND;TZID=Europe/Budapest:20250402T170000
DTSTAMP:20260425T203225
CREATED:20250320T090532Z
LAST-MODIFIED:20250320T091538Z
UID:10003073-1743588000-1743613200@pbkik.hu
SUMMARY:Magyar-Lengyel Üzleti Fórum - Gdansk
DESCRIPTION:A Lengyel Tengergazdasági Kamara (KIGM) és a gdanski magyar főkonzulátusa közös szervezésében egy Lengyel-Magyar Üzleti Fórum kerül megszervezése Gdanskban 2025 április 2-án. \n \nOlyan magyar vállalatok részvételére számítanak\, akik rendelkeznek ipari\, gépipari gyártási export szakmai tapasztalattal és megbízható beszállítói tudnának lenni a gdanski és gdyniai kikötőben működő gépipari termelést folytató lengyel vállalatok számára. A Fórum keretében a Lengyel Tengergazdasági Kamara közreműködésével fogadják a helyszínen az érdeklődő magyar partnereket\, bemutatva számukra a helyi üzleti potenciált\, különös tekintettel a helyi kikötőkre (Gdansk\, Gdynia). A két és többoldalú megbeszélések mellett hangsúlyos elem lesz a gdanski kikötő területén működő Comal (https://comal.pl/) vállalat felkeresése. \n  \nFórum tervezett programja: \n10:00-12:00 a gdanski kikötőben lévő Comal vállalat látogatása a magyar cégek számára \n12:00-13:30 ebéd (TBD) \n14:00-15:30 Magyar cégek bemutatkozása (4-5 cég 15 perces prezentáció) \n15:30-17:00 fogadás és borkóstoló a Fórum résztvevői számára\, B2B találkozók (NEXT-KPI támogatásból finanszírozza a főkonzulátus) \n  \nA Fórum helyszíne: Gdansk\, a Magyar Főkonzulátus helyszíne (plac Porozumienia Gdanskiego 1.) \nA rendezvényre történő kiutazást és a szállást a vendégek maguknak intézik saját költségen. A főkonzulátus a helyszínen történő szállítást és a rendezvényen történő vendéglátást tudja biztosítani. Amennyiben szükség lenne támogatásra az utazás megszervezésére\, természetesen szívesen segítenek a szervezésben. \nJelentkezés\, illetve további információ: Pauler Pál gdanski külgazdasági attasé\, e-mail:  pal.pauer@mfa.gov.hu
URL:https://pbkik.hu/esemeny/magyar-lengyel-uzleti-forum-gdansk/
LOCATION:Gdańsk\, Magyarország Főkonzulátusa\, plac Porozumienia Gdańskiego 1\, Gdańsk\, 80-864\, Poland
CATEGORIES:Ajánló
ATTACH;FMTTYPE=image/jpeg:https://pbkik.hu/wp-content/uploads/2025/03/250402-magyar-lengyel-uzleti-forum.jpg
END:VEVENT
END:VCALENDAR