BEGIN:VCALENDAR
VERSION:2.0
PRODID:-//Pécs-Baranyai Kereskedelmi és Iparkamara - ECPv6.15.20//NONSGML v1.0//EN
CALSCALE:GREGORIAN
METHOD:PUBLISH
X-WR-CALNAME:Pécs-Baranyai Kereskedelmi és Iparkamara
X-ORIGINAL-URL:https://pbkik.hu
X-WR-CALDESC:Események Pécs-Baranyai Kereskedelmi és Iparkamara
REFRESH-INTERVAL;VALUE=DURATION:PT1H
X-Robots-Tag:noindex
X-PUBLISHED-TTL:PT1H
BEGIN:VTIMEZONE
TZID:Europe/Helsinki
BEGIN:DAYLIGHT
TZOFFSETFROM:+0200
TZOFFSETTO:+0300
TZNAME:EEST
DTSTART:20200329T010000
END:DAYLIGHT
BEGIN:STANDARD
TZOFFSETFROM:+0300
TZOFFSETTO:+0200
TZNAME:EET
DTSTART:20201025T010000
END:STANDARD
BEGIN:DAYLIGHT
TZOFFSETFROM:+0200
TZOFFSETTO:+0300
TZNAME:EEST
DTSTART:20210328T010000
END:DAYLIGHT
BEGIN:STANDARD
TZOFFSETFROM:+0300
TZOFFSETTO:+0200
TZNAME:EET
DTSTART:20211031T010000
END:STANDARD
BEGIN:DAYLIGHT
TZOFFSETFROM:+0200
TZOFFSETTO:+0300
TZNAME:EEST
DTSTART:20220327T010000
END:DAYLIGHT
BEGIN:STANDARD
TZOFFSETFROM:+0300
TZOFFSETTO:+0200
TZNAME:EET
DTSTART:20221030T010000
END:STANDARD
END:VTIMEZONE
BEGIN:VEVENT
DTSTART;TZID=Europe/Helsinki:20210603T100000
DTEND;TZID=Europe/Helsinki:20210603T120000
DTSTAMP:20260426T045947
CREATED:20210518T130646Z
LAST-MODIFIED:20210520T083135Z
UID:10002354-1622714400-1622721600@pbkik.hu
SUMMARY:Van egy ötlete\, amely gyökeresen átalakíthatja a gyártói ökoszisztémát?
DESCRIPTION:Vegyen részt a Better Factory első nyílt pályázati felhívásáról szóló online szemináriumon\, és tudja meg\, hogyan vehet részt gyártóként\, technológiai beszállítóként vagy ipari háttérrel rendelkező művészként a tudástranszfer programban. Az első webináriumra 2021. június 3-án (csütörtökön) 10-12 óra között kerül sor. \nA Better Factory egy Horizont 2020 program által támogatott projekt\, melyben 2 nyílt felhíváson keresztül 8-8\, egyenként háromtagú konzorciumot választanak ki. A konzorciumokat 1 gyártócég\, 1 művész és 1 technológiai beszállító alkotja. \nA kiválasztott konzorciumok arra tesznek kísérletet\, hogy új termékvonalak tervezését\, illetve automatizálási megoldásokat valósítsanak meg. \nRegisztráció a 2021. június 3. (csütörtök) 10-12 órai webináriumra:
URL:https://pbkik.hu/esemeny/van-egy-otlete-amely-gyokeresen-atalakithatja-a-gyartoi-okoszisztemat/
LOCATION:Online
END:VEVENT
BEGIN:VEVENT
DTSTART;VALUE=DATE:20210623
DTEND;VALUE=DATE:20210625
DTSTAMP:20260426T045947
CREATED:20210622T080335Z
LAST-MODIFIED:20210622T081828Z
UID:10002401-1624406400-1624579199@pbkik.hu
SUMMARY:H2020 - Információs Napok
DESCRIPTION:A H2020 keretprogram pályázati lehetőségeinek bemutatására és projektpartnerségek kialakítására online tájékoztató tájékoztató rendezvénysorozatot szervez. Várják minden érdeklődő vállalkozás\, egyetem\, kutatóintézet részvételét! \n \nAz Európai Bizottság elfogadta a Horizont Európa program 2021–2022 közötti időszakra vonatkozó fő munkaprogramját 14\,7 milliárd eurós összköltségvetéssel. A támogatások elősegítik a zöld és a digitális átmenet felgyorsítását\, hozzájárulnak a koronavírus-járvány után fenntartható helyreállítási folyamatokhoz és erősítik az EU ellenálló képességét a jövőbeli válságokkal szemben.\n\nAz információs napokra az Európai Bizottság szervezésében kerül sor online közvetítés során. A felhívásokkal kapcsolatos kérdések akár előzetesen is feltehetők a rendezvény honlapján. \nEuropean Research and Innovation Days 
URL:https://pbkik.hu/esemeny/h2020-informacios-napok/
LOCATION:Online
END:VEVENT
BEGIN:VEVENT
DTSTART;VALUE=DATE:20210624
DTEND;VALUE=DATE:20210626
DTSTAMP:20260426T045947
CREATED:20210622T082340Z
LAST-MODIFIED:20210622T083850Z
UID:10002404-1624492800-1624665599@pbkik.hu
SUMMARY:Horizon Europe Digital - online tájékoztató és konzorciumépítő rendezvény
DESCRIPTION:A H2020 keretprogram Digitális gazdaság tématerületéhez tartozó pályázati lehetőségeinek bemutatására és projektpartnerségek kialakítására online rendezvény kerül megrendezésre. \n \nHorizon Europe információs nap sorozatot és partnerségi/konzorciumépítő rendezvénysorozatot szervez. Utóbbiakra előzetes regisztráció szükséges\, online kétoldalú tárgyalásokat lehet kezdeményezni a többi résztvevővel\, illetve a projektötletek is prezentálhatók. \nCluster 4 Digital\, Industry & Space – Digitális gazdaság \nKiemelt témák: \n3. cél: Világszínvonalú adat- és számítástechnika\n4. cél: Digitális és feltörekvő technológiák a versenyképességért megfelelve az európai zöld megállapodásnak\n6. cél: A digitális és ipari technológiák emberközpontú és etikus fejlesztése
URL:https://pbkik.hu/esemeny/horizon-europe-digital-online-tajekoztato-es-konzorciumepito-rendezveny/
LOCATION:Online
ATTACH;FMTTYPE=image/jpeg:https://pbkik.hu/wp-content/uploads/2021/06/HE_infodays_brokerage3_CL4d-4x3-1.jpg
END:VEVENT
BEGIN:VEVENT
DTSTART;TZID=Europe/Helsinki:20210628T000000
DTEND;TZID=Europe/Helsinki:20210628T235900
DTSTAMP:20260426T045947
CREATED:20210622T084035Z
LAST-MODIFIED:20241001T124312Z
UID:10002406-1624838400-1624924740@pbkik.hu
SUMMARY:Horizon Europe Space - online tájékoztató és konzorciumépítő rendezvény
DESCRIPTION:A H2020 keretprogram Digitális világűr tématerületéhez tartozó pályázati lehetőségeinek bemutatására és projektpartnerségek kialakítására online rendezvény kerül megrendezésre. \n \nHorizon Europe információs nap sorozatot és partnerségi/konzorciumépítő rendezvénysorozatot szervez. Utóbbiakra előzetes regisztráció szükséges\, online kétoldalú tárgyalásokat lehet kezdeményezni a többi résztvevővel\, illetve a projektötletek is prezentálhatók. \nCluster 4 Digital\, Industry & Space – Digitális világűr \nKiemelt témák: \n\nAz űrrendszerek versenyképességének elősegítése\nEU kapacitásának növelése az űrhöz való hozzáféréshez és használatához\nCopernicus szolgáltatások fejlesztése\nInnovatív űrkapacitások: SSA\, GOVSATCOM\, Quantum\nŰrvállalkozói ökoszisztéma\nCélzott és stratégiai intézkedések az EU űrszektorának támogatására
URL:https://pbkik.hu/esemeny/horizon-europe-space-online-tajekoztato-es-konzorciumepito-rendezveny/
LOCATION:Online
ATTACH;FMTTYPE=image/jpeg:https://pbkik.hu/wp-content/uploads/2021/06/0628.jpg
END:VEVENT
BEGIN:VEVENT
DTSTART;VALUE=DATE:20210630
DTEND;VALUE=DATE:20210702
DTSTAMP:20260426T045947
CREATED:20210622T090355Z
LAST-MODIFIED:20210622T091040Z
UID:10002408-1625011200-1625183999@pbkik.hu
SUMMARY:Horizon Europe Civil Security for Society - online tájékoztató és konzorciumépítő rendezvény
DESCRIPTION:A H2020 keretprogram ‘A társadalmat szolgáló polgári biztonság’ tématerületéhez tartozó pályázati lehetőségeinek bemutatására és projektpartnerségek kialakítására online rendezvény kerül megrendezésre. \n \nHorizon Europe információs nap sorozatot és partnerségi/konzorciumépítő rendezvénysorozatot szervez. Utóbbiakra előzetes regisztráció szükséges\, online kétoldalú tárgyalásokat lehet kezdeményezni a többi résztvevővel\, illetve a projektötletek is prezentálhatók. \nCluster 3 A társadalmat szolgáló polgári biztonság \nKiemelt témák: \n\nAz EU és polgárainak jobb védelme a bűnözéssel és a terrorizmussal szemben\nAz EU külső határainak hatékony kezelése\nRugalmas infrastruktúra\nFokozott kiberbiztonság\nKatasztrófákkal szemben ellenálló társadalom Európáért\nMegerősített biztonsági kutatás és innováció
URL:https://pbkik.hu/esemeny/horizon-europe-civil-security-for-society-online-tajekoztato-es-konzorciumepito-rendezveny/
LOCATION:Online
ATTACH;FMTTYPE=image/png:https://pbkik.hu/wp-content/uploads/2021/06/horizon-europe_info-days-banner.png
END:VEVENT
END:VCALENDAR