BEGIN:VCALENDAR
VERSION:2.0
PRODID:-//Pécs-Baranyai Kereskedelmi és Iparkamara - ECPv6.15.20//NONSGML v1.0//EN
CALSCALE:GREGORIAN
METHOD:PUBLISH
X-WR-CALNAME:Pécs-Baranyai Kereskedelmi és Iparkamara
X-ORIGINAL-URL:https://pbkik.hu
X-WR-CALDESC:Események Pécs-Baranyai Kereskedelmi és Iparkamara
REFRESH-INTERVAL;VALUE=DURATION:PT1H
X-Robots-Tag:noindex
X-PUBLISHED-TTL:PT1H
BEGIN:VTIMEZONE
TZID:Europe/Helsinki
BEGIN:DAYLIGHT
TZOFFSETFROM:+0200
TZOFFSETTO:+0300
TZNAME:EEST
DTSTART:20200329T010000
END:DAYLIGHT
BEGIN:STANDARD
TZOFFSETFROM:+0300
TZOFFSETTO:+0200
TZNAME:EET
DTSTART:20201025T010000
END:STANDARD
BEGIN:DAYLIGHT
TZOFFSETFROM:+0200
TZOFFSETTO:+0300
TZNAME:EEST
DTSTART:20210328T010000
END:DAYLIGHT
BEGIN:STANDARD
TZOFFSETFROM:+0300
TZOFFSETTO:+0200
TZNAME:EET
DTSTART:20211031T010000
END:STANDARD
BEGIN:DAYLIGHT
TZOFFSETFROM:+0200
TZOFFSETTO:+0300
TZNAME:EEST
DTSTART:20220327T010000
END:DAYLIGHT
BEGIN:STANDARD
TZOFFSETFROM:+0300
TZOFFSETTO:+0200
TZNAME:EET
DTSTART:20221030T010000
END:STANDARD
END:VTIMEZONE
BEGIN:VEVENT
DTSTART;VALUE=DATE:20210630
DTEND;VALUE=DATE:20210702
DTSTAMP:20260424T205733
CREATED:20210622T090355Z
LAST-MODIFIED:20210622T091040Z
UID:10002408-1625011200-1625183999@pbkik.hu
SUMMARY:Horizon Europe Civil Security for Society - online tájékoztató és konzorciumépítő rendezvény
DESCRIPTION:A H2020 keretprogram ‘A társadalmat szolgáló polgári biztonság’ tématerületéhez tartozó pályázati lehetőségeinek bemutatására és projektpartnerségek kialakítására online rendezvény kerül megrendezésre. \n \nHorizon Europe információs nap sorozatot és partnerségi/konzorciumépítő rendezvénysorozatot szervez. Utóbbiakra előzetes regisztráció szükséges\, online kétoldalú tárgyalásokat lehet kezdeményezni a többi résztvevővel\, illetve a projektötletek is prezentálhatók. \nCluster 3 A társadalmat szolgáló polgári biztonság \nKiemelt témák: \n\nAz EU és polgárainak jobb védelme a bűnözéssel és a terrorizmussal szemben\nAz EU külső határainak hatékony kezelése\nRugalmas infrastruktúra\nFokozott kiberbiztonság\nKatasztrófákkal szemben ellenálló társadalom Európáért\nMegerősített biztonsági kutatás és innováció
URL:https://pbkik.hu/esemeny/horizon-europe-civil-security-for-society-online-tajekoztato-es-konzorciumepito-rendezveny/
LOCATION:Online
ATTACH;FMTTYPE=image/png:https://pbkik.hu/wp-content/uploads/2021/06/horizon-europe_info-days-banner.png
END:VEVENT
BEGIN:VEVENT
DTSTART;VALUE=DATE:20210701
DTEND;VALUE=DATE:20210702
DTSTAMP:20260424T205733
CREATED:20210622T084822Z
LAST-MODIFIED:20210622T090225Z
UID:10002407-1625097600-1625183999@pbkik.hu
SUMMARY:Horizon Europe Industry - online tájékoztató és konzorciumépítő rendezvény
DESCRIPTION:A H2020 keretprogram Digitális ipar tématerületéhez tartozó pályázati lehetőségeinek bemutatására és projektpartnerségek kialakítására online rendezvény kerül megrendezésre. \n \nHorizon Europe információs nap sorozatot és partnerségi/konzorciumépítő rendezvénysorozatot szervez. Utóbbiakra előzetes regisztráció szükséges\, online kétoldalú tárgyalásokat lehet kezdeményezni a többi résztvevővel\, illetve a projektötletek is prezentálhatók. \nCluster 4 Digital\, Industry & Space – Digitális ipar \nKiemelt témák: \n1. cél: Klímasemleges\, körkörös és digitalizált termelés \n2. cél: Fokozott autonómia a stratégiai értékláncokban a rugalmas ipar számára \n4. cél: Digitális és feltörekvő technológiák a versenyképességért megfelelve az európai zöld megállapodásnak \n6. cél: A digitális és ipari technológiák emberközpontú és etikus fejlesztése
URL:https://pbkik.hu/esemeny/horizon-europe-industry-online-tajekoztato-es-konzorciumepito-rendezveny/
LOCATION:Online
ATTACH;FMTTYPE=image/jpeg:https://pbkik.hu/wp-content/uploads/2021/06/HE_infodays_brokerage-INDUSTRY_DATE-4x3-1.jpg
END:VEVENT
BEGIN:VEVENT
DTSTART;VALUE=DATE:20210701
DTEND;VALUE=DATE:20210703
DTSTAMP:20260424T205733
CREATED:20210622T092433Z
LAST-MODIFIED:20210622T101814Z
UID:10002409-1625097600-1625270399@pbkik.hu
SUMMARY:Horizon Europe Culture\, Creativity and Inclusive Society - online tájékoztató és konzorciumépítő rendezvény
DESCRIPTION:A H2020 keretprogram ‘Kultúra\, kreativitás és befogadó társadalom’ tématerületéhez tartozó pályázati lehetőségeinek bemutatására és projektpartnerségek kialakítására online rendezvény kerül megrendezésre. \n \nHorizon Europe információs nap sorozatot és partnerségi/konzorciumépítő rendezvénysorozatot szervez. Utóbbiakra előzetes regisztráció szükséges\, online kétoldalú tárgyalásokat lehet kezdeményezni a többi résztvevővel\, illetve a projektötletek is prezentálhatók. \nCluster 2 Kultúra\, kreativitás és befogadó társadalom \nKiemelt témák: \n\nDemokrácia és kormányzás\nEurópai kulturális örökség\, valamint a kulturális és kreatív ipar\nTársadalmi és gazdasági átalakulás\n\n 
URL:https://pbkik.hu/esemeny/horizon-europe-culture-creativity-and-inclusive-society-online-tajekoztato-es-konzorciumepito-rendezveny/
LOCATION:Online
ATTACH;FMTTYPE=image/jpeg:https://pbkik.hu/wp-content/uploads/2021/06/CCI.jpg
END:VEVENT
BEGIN:VEVENT
DTSTART;VALUE=DATE:20210705
DTEND;VALUE=DATE:20210706
DTSTAMP:20260424T205733
CREATED:20210622T102026Z
LAST-MODIFIED:20210622T102520Z
UID:10002410-1625443200-1625529599@pbkik.hu
SUMMARY:Horizon Europe Health - online tájékoztató és konzorciumépítő rendezvény
DESCRIPTION:A H2020 keretprogram ‘Egészségügy’ tématerületéhez tartozó pályázati lehetőségeinek bemutatására és projektpartnerségek kialakítására online rendezvény kerül megrendezésre. \n \nHorizon Europe információs nap sorozatot és partnerségi/konzorciumépítő rendezvénysorozatot szervez. Utóbbiakra előzetes regisztráció szükséges\, online kétoldalú tárgyalásokat lehet kezdeményezni a többi résztvevővel\, illetve a projektötletek is prezentálhatók. \nCluster 1 Egészségügy \nKiemelt témák: \n\nEgészséget meghatározó környezeti és társadalmi tényezők\nEszközök\, technológiák és digitális megoldások az egészségügyben és az ápolás-gondozásban\nEgészségügyi rendszerek
URL:https://pbkik.hu/esemeny/horizon-europe-health-online-tajekoztato-es-konzorciumepito-rendezveny/
LOCATION:Online
ATTACH;FMTTYPE=image/jpeg:https://pbkik.hu/wp-content/uploads/2021/06/health.jpg
END:VEVENT
BEGIN:VEVENT
DTSTART;TZID=Europe/Helsinki:20210707T080000
DTEND;TZID=Europe/Helsinki:20210707T170000
DTSTAMP:20260424T205733
CREATED:20210622T102627Z
LAST-MODIFIED:20210622T103442Z
UID:10002411-1625644800-1625677200@pbkik.hu
SUMMARY:Horizon Europe Climate\, Energy and Mobility - online tájékoztató és konzorciumépítő rendezvény
DESCRIPTION:A H2020 keretprogram ‘Éghajlat\, energia és mobilitás’ tématerületéhez tartozó pályázati lehetőségeinek bemutatására és projektpartnerségek kialakítására online rendezvény kerül megrendezésre. \n \nHorizon Europe információs nap sorozatot és partnerségi/konzorciumépítő rendezvénysorozatot szervez. Utóbbiakra előzetes regisztráció szükséges\, online kétoldalú tárgyalásokat lehet kezdeményezni a többi résztvevővel\, illetve a projektötletek is prezentálhatók. \nCluster 5 Éghajlat\, energia és mobilitás \nKiemelt témák: \n\nÉghajlatkutatás és az éghajlattal kapcsolatos megoldások\nEnergiarendszerek és -hálózatok\nKözösségek és városok\nIpari versenyképesség a közlekedési ágazatban\nIntelligens mobilitás
URL:https://pbkik.hu/esemeny/horizon-europe-climate-energy-and-mobility-online-tajekoztato-es-konzorciumepito-rendezveny/
LOCATION:Online
ATTACH;FMTTYPE=image/jpeg:https://pbkik.hu/wp-content/uploads/2021/06/HE-Cluster-5-Info-Days-21-visual.jpg
END:VEVENT
BEGIN:VEVENT
DTSTART;VALUE=DATE:20210709
DTEND;VALUE=DATE:20210710
DTSTAMP:20260424T205733
CREATED:20210622T103525Z
LAST-MODIFIED:20210622T104207Z
UID:10002419-1625788800-1625875199@pbkik.hu
SUMMARY:Horizon Europe  Food\, Bioeconomy\, Natural Resources\, Agriculture and Environment - online tájékoztató és konzorciumépítő rendezvény
DESCRIPTION:A H2020 keretprogram ‘Élelmiszerek\, biogazdaság\, természeti erőforrások és környezet’ tématerületéhez tartozó pályázati lehetőségeinek bemutatására és projektpartnerségek kialakítására online rendezvény kerül megrendezésre. \n \nHorizon Europe információs nap sorozatot és partnerségi/konzorciumépítő rendezvénysorozatot szervez. Utóbbiakra előzetes regisztráció szükséges\, online kétoldalú tárgyalásokat lehet kezdeményezni a többi résztvevővel\, illetve a projektötletek is prezentálhatók. \nCluster 6 Élelmiszerek\, biogazdaság\, természeti erőforrások és környezet \nKiemelt témák: \n\nKörnyezeti megfigyelés\nMezőgazdaság\, erdőgazdálkodás és vidéki térségek\nKörforgásos rendszerek\nÉlelmiszerrendszerek\nBiológiai sokféleség és természeti erőforrások\nTengerek\, óceánok és szárazföldi vizek\nBioalapú innovációs rendszerek az uniós biogazdaságban
URL:https://pbkik.hu/esemeny/horizon-europe-food-bioeconomy-natural-resources-agriculture-and-environment-online-tajekoztato-es-konzorciumepito-rendezveny/
LOCATION:Online
ATTACH;FMTTYPE=image/jpeg:https://pbkik.hu/wp-content/uploads/2021/06/cluster-6.jpg
END:VEVENT
END:VCALENDAR