BEGIN:VCALENDAR
VERSION:2.0
PRODID:-//Pécs-Baranyai Kereskedelmi és Iparkamara - ECPv6.15.20//NONSGML v1.0//EN
CALSCALE:GREGORIAN
METHOD:PUBLISH
X-WR-CALNAME:Pécs-Baranyai Kereskedelmi és Iparkamara
X-ORIGINAL-URL:https://pbkik.hu
X-WR-CALDESC:Események Pécs-Baranyai Kereskedelmi és Iparkamara
REFRESH-INTERVAL;VALUE=DURATION:PT1H
X-Robots-Tag:noindex
X-PUBLISHED-TTL:PT1H
BEGIN:VTIMEZONE
TZID:Europe/Helsinki
BEGIN:DAYLIGHT
TZOFFSETFROM:+0200
TZOFFSETTO:+0300
TZNAME:EEST
DTSTART:20210328T010000
END:DAYLIGHT
BEGIN:STANDARD
TZOFFSETFROM:+0300
TZOFFSETTO:+0200
TZNAME:EET
DTSTART:20211031T010000
END:STANDARD
BEGIN:DAYLIGHT
TZOFFSETFROM:+0200
TZOFFSETTO:+0300
TZNAME:EEST
DTSTART:20220327T010000
END:DAYLIGHT
BEGIN:STANDARD
TZOFFSETFROM:+0300
TZOFFSETTO:+0200
TZNAME:EET
DTSTART:20221030T010000
END:STANDARD
BEGIN:DAYLIGHT
TZOFFSETFROM:+0200
TZOFFSETTO:+0300
TZNAME:EEST
DTSTART:20230326T010000
END:DAYLIGHT
BEGIN:STANDARD
TZOFFSETFROM:+0300
TZOFFSETTO:+0200
TZNAME:EET
DTSTART:20231029T010000
END:STANDARD
END:VTIMEZONE
BEGIN:VTIMEZONE
TZID:Europe/Budapest
BEGIN:DAYLIGHT
TZOFFSETFROM:+0100
TZOFFSETTO:+0200
TZNAME:CEST
DTSTART:20220327T010000
END:DAYLIGHT
BEGIN:STANDARD
TZOFFSETFROM:+0200
TZOFFSETTO:+0100
TZNAME:CET
DTSTART:20221030T010000
END:STANDARD
BEGIN:DAYLIGHT
TZOFFSETFROM:+0100
TZOFFSETTO:+0200
TZNAME:CEST
DTSTART:20230326T010000
END:DAYLIGHT
BEGIN:STANDARD
TZOFFSETFROM:+0200
TZOFFSETTO:+0100
TZNAME:CET
DTSTART:20231029T010000
END:STANDARD
BEGIN:DAYLIGHT
TZOFFSETFROM:+0100
TZOFFSETTO:+0200
TZNAME:CEST
DTSTART:20240331T010000
END:DAYLIGHT
BEGIN:STANDARD
TZOFFSETFROM:+0200
TZOFFSETTO:+0100
TZNAME:CET
DTSTART:20241027T010000
END:STANDARD
END:VTIMEZONE
BEGIN:VEVENT
DTSTART;TZID=Europe/Helsinki:20220216T100000
DTEND;TZID=Europe/Helsinki:20220216T120000
DTSTAMP:20260425T231233
CREATED:20220202T093229Z
LAST-MODIFIED:20221122T101921Z
UID:10002617-1645005600-1645012800@pbkik.hu
SUMMARY:Üzleti és befektetési lehetőségek a Horvát Köztársaságban - magyar-horvát gazdasági fórum - online
DESCRIPTION:A Pécs-Baranyai Kereskedelmi és Iparkamara\, az MKIK Magyar-Horvát Tagozata és a Horvát Köztársaság Pécsi Főkonzulátusa együttműködésében kerül megrendezésre az alábbi horvát-magyar gazdasági fórum. \n \nA rendezvény a horvát piac iránt érdeklődő vállalkozások számára nyújt tájékoztatást: \n\nhorvát befektetési lehetőségekről\,\naz aktuális horvát gazdasági helyzetről\,\nüzleti  és együttműködési lehetőségekről.\n\nA rendezvény nyelve magyar és angol. Az angol nyelvű prezentáció fordítása magyar nyelven is kiküldésre kerül. \nPROGRAMTERV \n\n\n\nKöszöntő\nDrago Horvat\, főkonzul\, Horvát Köztársaság Főkonzulátusa – Pécs\nRabb Szabolcs\, főtitkár\, Pécs-Baranyai Kereskedelmi és Iparkamara\nLiszácz Mihály\, elnök\, Magyar-Horvát Tagozat\n\n\nEconomic Bilateral Relations Between Croatia and Hungary (angol nyelvű előadás) /Kétoldalú gazdasági kapcsolatok Horvátország és Magyarország között/ \nmr. sc. Rina Eterović Goreta\, európai gazdasági kapcsolatokért felelős ágazati vezető\, Igazgatóság Gazdasági Ügyek és Fejlesztési Együttműködés\, Horvát Köztársaság Külügyi és Európai Ügyek Minisztériuma\n\n\nCroatia for Investors (angol nyelvű előadás) /Befektetési lehetőségek Horvátországban/\nBojan Batinić\, igazgató\, Nemzetköziesítési Igazgatóság\, Horvát Köztársaság Gazdasági és Fenntartható Fejlődési Minisztérium\n\n\nÜzleti lehetőségek a magyar vállalkozások számára\nPálizs-Tóth Hajnalka\, irodavezető\, Eszék – CED Közép-európai Gazdaságfejlesztési Hálózat\n\n\nA horvát gazdaság aktuális helyzete\, lehetőségek a horvát piacon\nDr. Bakó Tamás\, vezető külgazdasági attasé\, Magyar Nagykövetség – Zágráb\nRiczkó Botond\, külgazdasági attasé\, Magyar Nagykövetség – Zágráb\n\n\nKérdések és válaszok\n\n\n\nJelentkezési határidő: 2022. február 15. (kedd) 14.00 óra\nA rendezvényen való részvétel díjmentes\, de előzetes online regisztrációhoz kötött.\nA csatlakozáshoz szükséges linket és információkat 2022. február 15-én\, kedd délután küldjük meg e-mailben a jelentkezőknek. \nA regisztráció lezárult.
URL:https://pbkik.hu/esemeny/uzleti-es-befektetesi-lehetosegek-a-horvat-koztarsasagban-magyar-horvat-gazdasagi-forum-online/
LOCATION:online
ATTACH;FMTTYPE=image/png:https://pbkik.hu/wp-content/uploads/2022/02/huhr-fekvo.png
END:VEVENT
BEGIN:VEVENT
DTSTART;TZID=Europe/Helsinki:20220316T080000
DTEND;TZID=Europe/Helsinki:20220319T170000
DTSTAMP:20260425T231233
CREATED:20220223T123020Z
LAST-MODIFIED:20220223T130709Z
UID:10002626-1647417600-1647709200@pbkik.hu
SUMMARY:26. GAST Nemzetközi Élelmiszeripari és Vendéglátóipari Kiállítás\, Split
DESCRIPTION:A GAST Nemzetközi Élelmiszeripari és Vendéglátóipari Kiállítás\, Horvátország legjelentősebb\, 26 évre visszanyúló gyökerekkel rendelkező gasztronómiai eseménye\, amely az alábbi szakkiállítások gyűjtőrendezvénye: \n\n26. Nemzetközi Élelmiszeripari Kiállítás\n26. Nemzetközi ital-\, szeszesital kiállítás\n26. Nemzetközi HORECA kiállítás és vásár\n16. Kávé szakkiállítás\n18. FURNITURA bútoripari szakkiállítás (hotelek\, vendéglátóipari egységek\, magánszállások-nyaralók felszerelése)\n26. Dionizijana – borkiállítás és verseny\n16. Turisztikai szakkiállítás\n6. Fagylalt-jégkrém és édesipari szakkiállítás\n\nA rendezvény idén március 16. és 19-e között kerül megrendezésre. \nA horvát kereskedelmi láncok\, hotelek és az éttermek a nyári turista szezon előtt ezen a kiállításon keresnek és választanak új termékeket\, beszállítókat. \nA szakmai látogatók számára a szervezők ingyenes\, regisztrációhoz kötött belépőket biztosítanak\, illetve a kiállító cégek az általuk meghívott partnereinek is ingyenes belépőt biztosít a Vásár. \nA szervezett formában\, pl. nemzeti standon megjelenő kiállítók számára\, a standon megjelenő cégek tevékenysége alapján célzott partnerkereséssel segíti a kiállítás sikerét a Spliti Vásárközpont\, amellett\, hogy számos szakmai rendezvény\, konferencia és bemutató is zajlik a rendezvényen\, amelyekhez szintén lehet csatlakozni. \nA Vásár ideje alatt számos ún. közönségprogramot is szervez pl. konyha-show\, amelyet élő televíziós műsorban is figyelemmel lehet kísérni\, de látványkonyha bemutatót szabadon tarthat bármely kiállító is. \nA Spliti GAST Nemzetközi Élelmiszeripari és Vendéglátóipari Kiállításon az elmúlt 15 évben számottevő magyar megjelenés nem volt\, így mind üzletileg\, mind szakmailag indokolt lenne a magyar élelmiszeripari termékek arányának növelését szolgáló magyar megjelenés a kiállításon. \nAz esemény: \n\nFacebook oldala\nHonlapja\n\nA kiállítással kapcsolatban a zágrábi nagykövetség külgazdasági attaséi tudnak további információval szolgálni az alábbi elérhetőségeken: \n\n\n\nDr. Bakó Tamás\nEmail: TBako@mfa.gov.hu\nHivatali telefonszám: 00 385 1 489 0919\nMobil telefonszám: 00 385 99 231 7726\nRiczkó Botond\nEmail: briczko@mfa.gov.hu\nMobil telefonszám: 00 385 95 526 1990
URL:https://pbkik.hu/esemeny/26-gast-nemzetkozi-elelmiszeripari-es-vendeglatoipari-kiallitas-split/
LOCATION:Spaladium Arena\, Split\, Ul. Zrinsko Frankopanska 211\, Split\, 21000\, Horvátország:
END:VEVENT
BEGIN:VEVENT
DTSTART;TZID=Europe/Budapest:20230929T170000
DTEND;TZID=Europe/Budapest:20230929T230000
DTSTAMP:20260425T231233
CREATED:20230907T091214Z
LAST-MODIFIED:20230907T092526Z
UID:10002377-1696006800-1696028400@pbkik.hu
SUMMARY:Balkánkert a Balokányban
DESCRIPTION:2023. szeptember 29-én kerül megrendezésre a „Balkánkert a Balokányban” első rendezvénye\, amelynek keretében 17 órakor kerül bemutatásra a \n\nMagyar Nemzeti Levéltár Baranya Vármegyei Levéltára által készített „50 éves Pécs-Eszék testvérvárosi kapcsolata” – „Képek és történetek a testvérvárosi múltból” kiállítás melyet Dr. Gőzsy Zoltán MNL BaVL igazgató PTE BTK TTI egyetemi docens nyit meg. Ehhez kapcsolódik\ndr. Varga Szabolcs történész „Egymásra utalva: Osijek és Pécs/ Eszék i Pečuh” című előadása.\n\nAz eseményen részt vesz Dr. Lehoczki-Samardžić Anna\, az Eszéki Bölcsészettudományi Kar egyetemi tanára\, tanszékvezető\, az MTA Glotta Nyelvi Intézet vezetője is\, aki a horvátországi magyarság helyzetéről kezdeményez beszélgetést. \nAz előadás után a vendégek megkóstolhatják az AquaVitaeGyerman pálinkákat és a különleges báránypörköltet. A rendezvény zenés programmal zárul. \n\nA rendezvénnyel kapcsolatos további információkkal az alábbi elérhetőségeken szolgálnak: \n\nBátori Erzbet – +36 30 452 6492 (magyar nyelven) – Balokány-ligetért Egyesület\nGyermán István – +36 20 228 3235 (magyar-angol-szerb-horvát nyelven) – AquaVitaeGyerman\, Balkánkert
URL:https://pbkik.hu/esemeny/balkankert-a-balokanyban/
ATTACH;FMTTYPE=image/jpeg:https://pbkik.hu/wp-content/uploads/2023/09/balkankert-a-balokanyban_email_plakat.jpg
END:VEVENT
END:VCALENDAR