BEGIN:VCALENDAR
VERSION:2.0
PRODID:-//Pécs-Baranyai Kereskedelmi és Iparkamara - ECPv6.15.20//NONSGML v1.0//EN
CALSCALE:GREGORIAN
METHOD:PUBLISH
X-ORIGINAL-URL:https://pbkik.hu
X-WR-CALDESC:Események Pécs-Baranyai Kereskedelmi és Iparkamara
REFRESH-INTERVAL;VALUE=DURATION:PT1H
X-Robots-Tag:noindex
X-PUBLISHED-TTL:PT1H
BEGIN:VTIMEZONE
TZID:Europe/Helsinki
BEGIN:DAYLIGHT
TZOFFSETFROM:+0200
TZOFFSETTO:+0300
TZNAME:EEST
DTSTART:20210328T010000
END:DAYLIGHT
BEGIN:STANDARD
TZOFFSETFROM:+0300
TZOFFSETTO:+0200
TZNAME:EET
DTSTART:20211031T010000
END:STANDARD
BEGIN:DAYLIGHT
TZOFFSETFROM:+0200
TZOFFSETTO:+0300
TZNAME:EEST
DTSTART:20220327T010000
END:DAYLIGHT
BEGIN:STANDARD
TZOFFSETFROM:+0300
TZOFFSETTO:+0200
TZNAME:EET
DTSTART:20221030T010000
END:STANDARD
BEGIN:DAYLIGHT
TZOFFSETFROM:+0200
TZOFFSETTO:+0300
TZNAME:EEST
DTSTART:20230326T010000
END:DAYLIGHT
BEGIN:STANDARD
TZOFFSETFROM:+0300
TZOFFSETTO:+0200
TZNAME:EET
DTSTART:20231029T010000
END:STANDARD
END:VTIMEZONE
BEGIN:VEVENT
DTSTART;TZID=Europe/Helsinki:20220512T100000
DTEND;TZID=Europe/Helsinki:20220512T113000
DTSTAMP:20260422T015239
CREATED:20220504T130033Z
LAST-MODIFIED:20221122T092500Z
UID:10002199-1652349600-1652355000@pbkik.hu
SUMMARY:"IP for you" szeminárium közösségi védjegy témában
DESCRIPTION:A Szellemi Tulajdon Nemzeti Hivatala (SZTNH) az Európai Unió Szellemi Tulajdoni Hivatalával (EUIPO) és az EURiddel együttműködésben online szemináriumot rendez\, melynek célja a kis- és középvállalkozások (kkv-k) és az induló vállalkozások tájékoztatása a közösségi védjegyekről. \nTervezett program: \n\n\n\n10:00-10:10\nKöszöntés és bevezetés\n\n\n\nEURÓPAI UNIÓS VÉDJEGYEK:\n\n\n10:10-11:10\na) Az európai uniós védjegyek vizsgálata az EUIPO-nál a feltétlen kizáró okok szemszögéből. Hogyan történik?\n\n\n\nb) A feltétlen kizáró okok rövid áttekintése néhány példával [7(1)(a)-(m).\n\n\n\nc) EUVR 7. cikk (3) – A használat révén megszerzett megkülönböztető képesség. Mit tegyünk és mit érdemes elkerülni amikor a válaszunkban a 7. Cikk (3) bekezdésére hivatkozunk?\n\n\n\nKÉRDÉS-FELELET\n\n\n11:10-11:30\nA kkv-alap rövid bemutatása\n\n\n11:30\nZárás\n\n\n\nA jelentkezés és a részvétel ingyenes\, de regisztrációköteles. \nTovábbi információ és regisztráció \nForrás: sztnh.gov.hu \nSzellemitulajdon-védelemmel kapcsolatos kérdéseivel forduljon a kamara szakértőjéhez. \nhttps://pbkik.hu/szolgaltatasok/szellemitulajdon-vedelmi-szolgaltatasok/ \n 
URL:https://pbkik.hu/esemeny/ip-for-you-szeminarium-kozossegi-vedjegy-temaban/
LOCATION:Online
ORGANIZER;CN="SZTNH":MAILTO:anna.szenczi@hipo.gov.hu
END:VEVENT
BEGIN:VEVENT
DTSTART;TZID=Europe/Helsinki:20220524T100000
DTEND;TZID=Europe/Helsinki:20220524T160000
DTSTAMP:20260422T015239
CREATED:20220419T132408Z
LAST-MODIFIED:20221122T092504Z
UID:10002661-1653386400-1653408000@pbkik.hu
SUMMARY:City for the Future 2022 Budapest: V4 Smart City Expo & B2B Forum
DESCRIPTION:A Cseh Köztársaság Budapesti Nagykövetsége\, a budapesti CzechTrade iroda\, a Brno-i Regionális Kereskedelmi Kamara\, a Hajdú-Bihar Megyei Kereskedelmi és Iparkamara\, a Települési Önkormányzatok Országos Szövetsége (TÖOSZ)\, a Digitális Jólét Program\, az Óbudai Egyetem\, és a Dél-Morva Innovációs Központ (JIC) közös rendezvényt szervez City for the Future 2022 Budapest: V4 Smart City Expo & B2B Forum címmel 2022. május 24-én Budapesten\, a Hungexpon. \n \nAz Expo és B2B Fórum keretében a látogatók megismerkedhetnek az okos városok aktuális technológiai trendjeiről\, és találkozhattak a V4 régió innovatív okos város szolgáltatóival. \nÖsszefoglaló honlap (program\, B2B felület\, kapcsolati adatok): https://hbkik.hu/esemenyek/city-for-the-future-2022-budapest-v4-smart-city-expo-b2b-forum/ \nA rendezvény az Enterprise Europe Network támogatásával valósul meg.
URL:https://pbkik.hu/esemeny/city-for-the-future-2022-budapest-v4-smart-city-expo-b2b-forum/
LOCATION:HUNGEXPO Budapesti Vásárközpont\, Albertirsai út 10.\, Budapest\, 1101\, Magyarország
ATTACH;FMTTYPE=image/jpeg:https://pbkik.hu/wp-content/uploads/2022/04/CEE-Smart-City-Expo.jpg
END:VEVENT
BEGIN:VEVENT
DTSTART;TZID=Europe/Helsinki:20220526T093000
DTEND;TZID=Europe/Helsinki:20220526T114500
DTSTAMP:20260422T015239
CREATED:20220516T072558Z
LAST-MODIFIED:20220516T073032Z
UID:10002209-1653557400-1653565500@pbkik.hu
SUMMARY:Marie Skłodowska-Curie Program - tájékoztató webinárium
DESCRIPTION:A Nemzeti Kutatási\, Fejlesztési és Innovációs Hivatal webináriumot szervez a Marie Skłodowska-Curie (MSCA) program Doktori Hálózatok 2022-es felhívásáról. A webinárium keretében részletesen bemutatják a doktori hálózatok programot\, a pályázat részeit\, valamint nyertes pályázó részvételével útmutatást\, gyakorlati tanácsokat kívánnak nyújtani azon intézmények képviselőinek\, akik pályázatot terveznek benyújtani az MSCA Doktori Hálózatok 2022. november 15-én záruló felhívására. \n \nTervezett program \n09:30-11:00 A Doktori Hálózatok program részletes bemutatása (általános bemutatás\, a pályázat részei\, mire érdemes figyelni)\n11:00 – 11:20 Nyertes pályázó tapasztalatai (Dr. Császár Attila\, ELTE)\n11:20 – 11:45 Kérdések és válaszok \nHelyszíne: online\nAz eseményt YouTube felületen közvetítik. A felmerülő kérdések megválaszolásához\, a Slido alkalmazást használják. \nA rendezvényen való részvétel ingyenes\, de regisztrációhoz kötött. \nAz eseményre jelentkezés határideje: 2022. május 24. \nA regisztrált résztvevők levélben kapják meg 2022. május 25-én azt a közvetlen linket\, amelyen keresztül figyelemmel kísérhetik a YouTube-közvetítést és elérhetik a Slido alkalmazást. \nREGISZTRÁCIÓ\nTovábbi információ: \nJeney Nóra\nMSCA NCP\nnora.jeney@nkfih.gov.hu \nBorza Beatrix\nMSCA NCP\nbeatrix.borza@nkfih.gov.hu \n  \nForrás: nkfih.gov.hu
URL:https://pbkik.hu/esemeny/marie-sklodowska-curie-program-tajekoztato-webinarium/
LOCATION:Online
END:VEVENT
BEGIN:VEVENT
DTSTART;TZID=Europe/Helsinki:20220530T090000
DTEND;TZID=Europe/Helsinki:20220530T130000
DTSTAMP:20260422T015239
CREATED:20220504T045654Z
LAST-MODIFIED:20220516T085335Z
UID:10002668-1653901200-1653915600@pbkik.hu
SUMMARY:Társadalmi vállalkozások az üzleti szektorban - SAGA projekt
DESCRIPTION:Hogyan lehet egy együttműködésen alapuló\, fenntarható szociális vállallkozás forprofit? Hogy néz ki a működése? Milyen szervezeti formát érdemes választani? Ezekre a kérdésekre is választ kaphat a SAGA projekt tájékoztató rendezvényén! \n \nA Dél-Dunántúli Regionális Innovációs Ügynökség Nonprofit Kft. vezető partnerként vesz részt a SAGA Social And GAstronomic entrepreneurship in empty Europe KA204-259AFC28 Erasmus + projektben (http://projectsaga.eu/)\, amelynek célja\, hogy segítse az egyenlőtlenségek csökkentését\, a gazdasági fellendülést\, valamint az inkluzív és fenntartható hosszú távú növekedést a partnerek együttműködése révén. \nA projektben kidolgozott innovatív tréning a résztvevők számára ismereteket biztosít\, kompetenciákat és készségeket fejleszt annak érdekében\, hogy létrehozhassák hatékonyan működő szociális vállalkozásaikat (elsősorban a gasztronómia és az élelmiszeripar területén). \nA projekt fő célja – a munkanélküliség csökkentéséhez\, valamint a gazdasági és társadalmi újjáélesztéshez kapcsolódóan- a képzéssel való segítségnyújtás azokban az európai vidéki régiókban\, ahol a vidéki elnéptelenedés tendenciájával kell szembenézni. \nA DDRIÜ Nonprofit Kft. 2022. május 30-án tartja a projekt magyar nyelvű rendezvényét\, 9:30-13:00 óra között\, melynek témája Az együttműködő szociális vállalkozás létrehozása (Creating your collaborative social enterprise). \nA rendezvényen való részvétel INGYENES\, de előzetes regisztrációhoz kötött. Részvételi szándékát kérjük\, legkésőbb 2022. május 23-ig legyen szíves jelezni az alábbi linkre kattintva \nREGISZTÁRCIÓ\nDátum: 2022. május 30. (hétfő) \nHelyszín: KOHÓ CoWorking House Pécs (7626 Pécs\, Koller utca 5.) emelet \n\n\n\nIdőpont\nElőadások\nElőadók\n\n\n9:30-9:45\nKöszöntő\, bemutatkozás\nHaász Zoltán ügyvezető igazgató\, DDRIÜ Nonprofit Kft.\n\n\n  9:45 – 10:00\nSAGA projekt bemutatása\nPazaurek Diána projektmenedzser\, DDRIÜ Nonprofit Kft.\n\n\n10:00 – 10:30\nIO1 – Tanulási módszertan és tanterv (Learning approach and curriculum)\nTóthné Márton Gabriella ügyvezető/Szűcsné Szabó Katalin szakmai vezető KONTAKT Kft\n\n\n10:30 – 11:00\nSZÜNET\n\n\n\n11:00 – 11:30\nIO2 – Vegyes tanulási program ((Blended) learning programme)\nTóthné Márton Gabriella ügyvezető/Szűcsné Szabó Katalin szakmai vezető KONTAKT Kft.\n\n\n11:30-11:45\nTársadalmi innováció a Közép-Duna Menti Kiemelt Térségben — együttműködés térségi társadalmi vállalkozásokkal\nMajoros Zsuzsanna\, stratégiai vezető\, KDMFÜ Nonprofit Kft\n\n\n11:45 – 12:30\nA képzési program tesztelése \nhttps://sagalearningprogramme.eu/hu/\nTóthné Márton Gabriella ügyvezető/Szűcsné Szabó Katalin szakmai vezető KONTAKT Kft\n\n\n12:30 – 12:40\nA projekt és a rendezvény értékelése\nPazaurek Diána projektmenedzser\, DDRIÜ Nonprofit Kft.\n\n\n12:40 – 13:00\nKérdések és válaszok \nAz esemény zárása\nPazaurek Diána projektmenedzser\, DDRIÜ Nonprofit Kft.\n\n\n\nREGISZTRÁCIÓ\nTovábbi információ: \nPazaurek Diána \ne-mail: pazaurekdiana@ddriu.hu \ntel.: +36 30 852 1883 \n  \n 
URL:https://pbkik.hu/esemeny/tarsadalmi-vallalkozasok-az-uzleti-szektorban-saga-projekt/
LOCATION:KOHÓ\, Kollár u. 5/2.\, Pécs\, Baranya\, 7626
ATTACH;FMTTYPE=image/png:https://pbkik.hu/wp-content/uploads/2022/05/SAGA-Logo.png
END:VEVENT
END:VCALENDAR