BEGIN:VCALENDAR
VERSION:2.0
PRODID:-//Pécs-Baranyai Kereskedelmi és Iparkamara - ECPv6.15.20//NONSGML v1.0//EN
CALSCALE:GREGORIAN
METHOD:PUBLISH
X-WR-CALNAME:Pécs-Baranyai Kereskedelmi és Iparkamara
X-ORIGINAL-URL:https://pbkik.hu
X-WR-CALDESC:Események Pécs-Baranyai Kereskedelmi és Iparkamara
REFRESH-INTERVAL;VALUE=DURATION:PT1H
X-Robots-Tag:noindex
X-PUBLISHED-TTL:PT1H
BEGIN:VTIMEZONE
TZID:Europe/Helsinki
BEGIN:DAYLIGHT
TZOFFSETFROM:+0200
TZOFFSETTO:+0300
TZNAME:EEST
DTSTART:20190331T010000
END:DAYLIGHT
BEGIN:STANDARD
TZOFFSETFROM:+0300
TZOFFSETTO:+0200
TZNAME:EET
DTSTART:20191027T010000
END:STANDARD
BEGIN:DAYLIGHT
TZOFFSETFROM:+0200
TZOFFSETTO:+0300
TZNAME:EEST
DTSTART:20200329T010000
END:DAYLIGHT
BEGIN:STANDARD
TZOFFSETFROM:+0300
TZOFFSETTO:+0200
TZNAME:EET
DTSTART:20201025T010000
END:STANDARD
BEGIN:DAYLIGHT
TZOFFSETFROM:+0200
TZOFFSETTO:+0300
TZNAME:EEST
DTSTART:20210328T010000
END:DAYLIGHT
BEGIN:STANDARD
TZOFFSETFROM:+0300
TZOFFSETTO:+0200
TZNAME:EET
DTSTART:20211031T010000
END:STANDARD
END:VTIMEZONE
BEGIN:VEVENT
DTSTART;VALUE=DATE:20201118
DTEND;VALUE=DATE:20201121
DTSTAMP:20260422T000937
CREATED:20200615T090951Z
LAST-MODIFIED:20221122T093436Z
UID:10002063-1605657600-1605916799@pbkik.hu
SUMMARY:Smart Manufacturing Matchmaking 2020 - ipar 4.0 lehetőségek tárháza
DESCRIPTION:A Smart Manufacturing Matchmaking 2020 (SMM2020) keretében idén virtuális üzletember találkozó\, üzemlátogatás és webináriumok is várják az intelligens gyártás és az ipar 4.0 iránt érdeklődőket\, ezeken a területeken aktív vállalkozásokat\, kutatókat. \n \n  \nA Smart Manufacturing Matchmaking 2020 keretében szervezett online üzletember találkozó egyedülálló lehetőséget kínál az intelligens gyártás és ipar 4.0 területén dolgozó tudósokkal\, kutatókkal és vállalatirányítókkal való találkozásra. Remek lehetőség arra is\, hogy naprakészek legyünk a legújabb\, a legfejlettebb technológiákat\, az intézmények és városok innovációs igényét\, a kkv-k új alkalmazásait és a nagyvállalatok előtt álló műszaki kihívásokat illetően. \n  \nBrokerage Event @Smart Manufacturing Matchmaking 2020\nEz az online üzletember találkozó kiváló lehetőséget teremt az intelligens gyártás és ipar 4.0 területén működő vállalati vezetőkkel\, kutatókkal és állami testületekkel való találkozásra\, tárgyalásra. \nBE @ SMM 2020 fő témák: \n\nDigital twin – digitális iker\nIpari IoT\nVirtuális / kiterjesztett / vegyes valóság alkalmazások az iparban\nBig data elemzések\nKiberfizikai rendszerek\nSzimuláció\nAutonóm robotok\nAI és gépi tanulás ipari alkalmazásokhoz\nAdditív gyártástechnológia\nKiberbiztonság és felhő\nEmber-gép interfészek\nEmber-gép együttműködések\nPrediktív karbantartás\nRendszerintegráció\nAutonóm gyártás\n\nTOVÁBBI INFORMÁCIÓ ÉS REGISZTRÁCIÓ \nVirtuális üzemlátogatás (Virtual Company Mission)\nA vállalati missziók vállalkozások kis csoportjainak nemzetközi látogatásai. Ezek a személyre szabott üzemlátogatások az alapos felkészülésnek és a helyismeretnek köszönhetően számos sikeres partnerséghez vezetnek. Az SMM2020 keretében a virtuális üzemlátogatások során a résztvevők online ismerkedhetnek meg egy cég\, vagy kutatócsoport termékeivel\, szolgáltatásaival. \nAz első virtuális üzemlátogatás címe és témája: \nInkluzív digitális megoldások a közúti árufuvarozás előrelépéséhez a válság után \nA Last Mile Team egy technológiai alapú\, innovatív startup a közúti árufuvarozási ágazatban. A 2016-ban alapított cég 2020 januárjában indította el a városi elosztási problémákra vonatkozó\, inkluzív digitális megoldásait\, amelyek a jelenlegi járműparkkal folyamatosan\, 30% -ot meghaladó mértékben csökkentik a torlódásokat és a károsanyag-kibocsátást\, valamint 25%-kal csökkentik a költségeket. \nTovábbi információ és regisztráció\nVirtuális üzemlátogatás – felhasználói útmutató (EN) \nWebinar 4.0\nAz SMM2020 weboldalán már aktív a Webinar 4.0 platform. Ezen keresztül lehetőség lesz részt venni az SMM2020 fent leírt témáiban. \nA virtuális üzemlátogatás és a webinar4.0 platform egységes regisztrációval működik\, egy regisztrációval mindkét felület használható. \nTovábbi információ és regisztráció \nWorld Investment\nA World Investment @Smart Manufacturing Matchmaking 2020 egy olyan kezdeményezés\, amely megkönnyíti az innovatív projektek beruházási kínálatának és keresletének összehangolását. A vállalkozások és start-upok online platformon keresztül rövid prezentáció csatolásával nyújthatnak be innovatív projekteket. \nA projektjavaslatokat az Ipar 4.0 és az Intelligens gyártás témakörökben várják\, kellő figyelmet fordítva az ENSZ 2030. évi fenntartható fejlődési céljaira. \nValamennyi javaslatra szakértő tanácsadók válaszolnak\, és azok\, akiket azonnal potenciálisan finanszírozhatónak tartanak\, lehetőséget kapnak arra\, hogy online bemutassák a tanácsadóknak korábban benyújtott prezentációjukat. \nA World Investment regisztráció hozzáférést biztosít az SMM2020 webhely többi eseményéhez (Webinar 4.0\, Virtual Company Mission) \nTovábbi információ és regisztráció \nA rendezvény munkanyelve az angol.
URL:https://pbkik.hu/esemeny/brokerage-event-smart-manufacturing-matchmaking-2020/
LOCATION:Online
END:VEVENT
BEGIN:VEVENT
DTSTART;VALUE=DATE:20201122
DTEND;VALUE=DATE:20201123
DTSTAMP:20260422T000937
CREATED:20201026T124502Z
LAST-MODIFIED:20201026T124736Z
UID:10001825-1606003200-1606089599@pbkik.hu
SUMMARY:Ipar 4.0 - fókuszban az autóipar
DESCRIPTION:A rendezvényen német és magyar szakemberek számolnak be az Ipar 4.0 helyzetéről Magyarországon és Németországban\, különös tekintettel az autóiparra. Emellett olyan német vállalatok mutatják be innovatív termékeiket\, megoldásaikat\, amelyek üzleti kapcsolatokat\, együttműködő partnereket keresnek Magyarországon. \n \nAz esemény 2020. november 24-én és 25-én online kooperációs megbeszélésekkel egészül ki a konferencián előadó német vállalatok részvételével. A német vállalatok profil leírása: https://filehub.admiralcloud.com/v5/deliverFile/c561cdbd-366d-43a8-8e13-ff728febb6b5?download=true \n  \nA konferencián\, valamint a tárgyalásokon való részvétel ingyenes\, de előzetes regisztrációhoz kötött a következő linken: https://www.ahkungarn.hu/hu/rendezvenyek/oldalnezet/industrie-40-mit-fokus-auf-die-automobilindustrie \n  \nJelentkezési határidő \n\nEgyéni tárgyalásokra: 2020. november 11.\nKonferenciára: 2020. november 22.\n\n  \nKérdés esetén az érdeklődő cégek az alábbi elérhetőségen vehetik fel a kapcsolatot a szervezőkkel: \n  \nSzabó Erika \nMarktberatung \nÜzletfejlesztés \nDeutsch-Ungarische Industrie- und Handelskammer \nNémet-Magyar Ipari és Kereskedelmi Kamara  \nH-1024 Budapest\, Lövőház u. 30. \nTel: +36/1/3457-618 \nFax: +36/1/3457-651 \nE-Mail: szabo@ahkungarn.hu \nwww.duihk.hu
URL:https://pbkik.hu/esemeny/ipar-4-0-fokuszban-az-autoipar/
LOCATION:Online
END:VEVENT
END:VCALENDAR