BEGIN:VCALENDAR
VERSION:2.0
PRODID:-//Pécs-Baranyai Kereskedelmi és Iparkamara - ECPv6.15.20//NONSGML v1.0//EN
CALSCALE:GREGORIAN
METHOD:PUBLISH
X-ORIGINAL-URL:https://pbkik.hu
X-WR-CALDESC:Események Pécs-Baranyai Kereskedelmi és Iparkamara
REFRESH-INTERVAL;VALUE=DURATION:PT1H
X-Robots-Tag:noindex
X-PUBLISHED-TTL:PT1H
BEGIN:VTIMEZONE
TZID:Europe/Helsinki
BEGIN:DAYLIGHT
TZOFFSETFROM:+0200
TZOFFSETTO:+0300
TZNAME:EEST
DTSTART:20210328T010000
END:DAYLIGHT
BEGIN:STANDARD
TZOFFSETFROM:+0300
TZOFFSETTO:+0200
TZNAME:EET
DTSTART:20211031T010000
END:STANDARD
BEGIN:DAYLIGHT
TZOFFSETFROM:+0200
TZOFFSETTO:+0300
TZNAME:EEST
DTSTART:20220327T010000
END:DAYLIGHT
BEGIN:STANDARD
TZOFFSETFROM:+0300
TZOFFSETTO:+0200
TZNAME:EET
DTSTART:20221030T010000
END:STANDARD
BEGIN:DAYLIGHT
TZOFFSETFROM:+0200
TZOFFSETTO:+0300
TZNAME:EEST
DTSTART:20230326T010000
END:DAYLIGHT
BEGIN:STANDARD
TZOFFSETFROM:+0300
TZOFFSETTO:+0200
TZNAME:EET
DTSTART:20231029T010000
END:STANDARD
END:VTIMEZONE
BEGIN:VEVENT
DTSTART;TZID=Europe/Helsinki:20220112T110000
DTEND;TZID=Europe/Helsinki:20220112T123000
DTSTAMP:20260424T142639
CREATED:20220104T101056Z
LAST-MODIFIED:20221122T101458Z
UID:10002594-1641985200-1641990600@pbkik.hu
SUMMARY:Szellemi tulajdon védelem Kínában: nagy piac\, nagy lehetőség - és 3 nagy csapda\, amit mindenképpen kerüljön el
DESCRIPTION:Piacralépés? Innováció értékesítése Kínában? Technológia transzfer? Védjegybitorlási vita? Az 5 legfontosabb dolog\, amit tudnunk kell a szellemi tulajdon védelméről\, ha kínai üzleti kapcsolatokat építünk\, és 3 nagy csapda\, amit jó\, ha elkerülünk – gyakorlatiasan és közérthetően\, díjmentes webináriumon. \n \n90 perces online szeminárium: a részvétel ingyenes \nKinek szól a rendezvény? \nMinden olyan magyar cégnek\, akik: \n\nKínai piacralépésben\, kereskedelmi kapcsolatok kialakításában gondolkodnak\nStartupok\, innovátorok és kínai befektetőt keresnek\nAzért nem terveztek eddig Kínával\, mert féltették szellemi tulajdonukat\n\n  \nKik adnak elő? \nA Cathay IP kínai tagja\, a Sinofaith\, Kína egyik első és legnagyobb IP (intellectual property\, szellemi tulajdon) ügynökségének szakértői. Ők magyarázzák el az IP védelmével kapcsolatos lényeges tudnivalókat\, az esetleges buktatókat és azok megoldásait magyar cégek számára\, érthetően összefoglalva a terület kínai sajátosságait\, és a külföldi cégek előtt nyitva álló lehetőségeket. \n  \nOsztogatnak vagy fosztogatnak? \nA közhiedelemmel ellentétben a kínai jogrendszer mára a világ egyik legfejlettebb IP védelmét nyújtja\, ráadásul az ezzel kapcsolatos költségek szinte minden esetben az amerikai vagy EU-s szint alatt maradnak. Megfelelő felkészültséggel és helyismerettel a magas hozzáadott értékű cégek is biztonsággal léphetnek az ázsiai ország piacára\, nem leselkedik rájuk nagyobb veszély\, mintha egy nyugati országban kezdenék el működésüket. \n  \nMit nyer\, aki részt vesz? \nMegértést és közvetlen hozzáférést: az online rendezvény egyik célja\, hogy a résztvevők számára röviden\, gyakorlati megközelítéssel összefoglaljuk a legfontosabb tudnivalókat\, és közvetlenül vehessenek igénybe szellemi tulajdon védelmével kapcsolatos szolgáltatásokat\, és így elkerüljék a jogi szabályozás sajátosságai miatt fellépő csapdákat. Mindebben a Várnai és Társa ügyvédi iroda\, a Cathay IP magyar tagja lesz a segítségükre\, így hidaljuk át a kulturális és nyelvi korlátokat. \nBefektetőt és/vagy üzleti partnert: bemutatjuk a BRIdge elnevezésű\, kifejezetten Kínát a nagyvilággal összekötő digitális üzleti platformunkat\, amelyen keresztül megfelelő jogi védelem mellett találhatnak ellenőrzött vevőt vagy finanszírozót saját innovációjuk vagy startup-juk számára a magyar cégek. \n  \nMit kap\, aki részt vesz? \nA szemináriumok anyaga hozzáférhető az eseményt követően prezentáció formájában is\, a résztvevőknek lehetősége van Q&A session keretében felvenni velünk a kapcsolatot. \n  \nSZERVEZŐK: \nCathay Group \nA Cathay Group a világ öt kontinensének 88 országában van jelen\, partnerein keresztül egyablakos – one stop shop – szolgáltatást kínál ügyfeleinek a jog\, IP\, adózás\, könyvelés\, klasszikus üzleti tanácsadás\, valamint kommunikációs és marketing területén. A globális tudást és a lokális helyismeretet ötvöző cégcsoport budapesti és sanghaji központtal működik\, partnerein keresztül 128 városban több\, mint 5 ezer tanácsadóval. \nSinofaith IP \nA Sinofaith Kína egyik első\, és legnagyobb szellemi tulajdonok védelmével foglalkozó cégcsoportja\, amely amellett\, hogy Kína összes jelentős nagyvárosában aktív\, rendelkezik irodákkal az Egyesült Államokban és Japánban is. Több tízezer védjegy bejegyeztetésben\, sok ezer nyomozásban és védjegybitorlási eljárásban képviselte sikerrel ügyfeleit\, több százezer esetben gondoskodott arról\, hogy a hamisítványok\, megtévesztő termékek eltűnjenek az ország kereskedelmi kínálatából\, és jelenleg is 12 millió termék online jelenlétét monitorozza folyamatosan. \nVárnai és Társa \n15 éve Kínára és Ázsiára fókuszáló butik ügyvédi iroda magyar és kínai kollégákkal\, budapesti központtal és saját irodával Sanghajban. A Cathay Group és a Cathay IP kizárólagos magyarországi tagja. \n  \nREGISZTRÁCIÓ: \nhttps://webinar.cathay.global/ip-hu/
URL:https://pbkik.hu/esemeny/szellemi-tulajdon-vedelem-kinaban-nagy-piac-nagy-lehetoseg-es-3-nagy-csapda-amit-mindenkeppen-keruljon-el/
LOCATION:Online
END:VEVENT
END:VCALENDAR