BEGIN:VCALENDAR
VERSION:2.0
PRODID:-//Pécs-Baranyai Kereskedelmi és Iparkamara - ECPv6.15.20//NONSGML v1.0//EN
CALSCALE:GREGORIAN
METHOD:PUBLISH
X-ORIGINAL-URL:https://pbkik.hu
X-WR-CALDESC:Események Pécs-Baranyai Kereskedelmi és Iparkamara
REFRESH-INTERVAL;VALUE=DURATION:PT1H
X-Robots-Tag:noindex
X-PUBLISHED-TTL:PT1H
BEGIN:VTIMEZONE
TZID:Europe/Helsinki
BEGIN:DAYLIGHT
TZOFFSETFROM:+0200
TZOFFSETTO:+0300
TZNAME:EEST
DTSTART:20210328T010000
END:DAYLIGHT
BEGIN:STANDARD
TZOFFSETFROM:+0300
TZOFFSETTO:+0200
TZNAME:EET
DTSTART:20211031T010000
END:STANDARD
BEGIN:DAYLIGHT
TZOFFSETFROM:+0200
TZOFFSETTO:+0300
TZNAME:EEST
DTSTART:20220327T010000
END:DAYLIGHT
BEGIN:STANDARD
TZOFFSETFROM:+0300
TZOFFSETTO:+0200
TZNAME:EET
DTSTART:20221030T010000
END:STANDARD
BEGIN:DAYLIGHT
TZOFFSETFROM:+0200
TZOFFSETTO:+0300
TZNAME:EEST
DTSTART:20230326T010000
END:DAYLIGHT
BEGIN:STANDARD
TZOFFSETFROM:+0300
TZOFFSETTO:+0200
TZNAME:EET
DTSTART:20231029T010000
END:STANDARD
END:VTIMEZONE
BEGIN:VTIMEZONE
TZID:Europe/Budapest
BEGIN:DAYLIGHT
TZOFFSETFROM:+0100
TZOFFSETTO:+0200
TZNAME:CEST
DTSTART:20230326T010000
END:DAYLIGHT
BEGIN:STANDARD
TZOFFSETFROM:+0200
TZOFFSETTO:+0100
TZNAME:CET
DTSTART:20231029T010000
END:STANDARD
BEGIN:DAYLIGHT
TZOFFSETFROM:+0100
TZOFFSETTO:+0200
TZNAME:CEST
DTSTART:20240331T010000
END:DAYLIGHT
BEGIN:STANDARD
TZOFFSETFROM:+0200
TZOFFSETTO:+0100
TZNAME:CET
DTSTART:20241027T010000
END:STANDARD
BEGIN:DAYLIGHT
TZOFFSETFROM:+0100
TZOFFSETTO:+0200
TZNAME:CEST
DTSTART:20250330T010000
END:DAYLIGHT
BEGIN:STANDARD
TZOFFSETFROM:+0200
TZOFFSETTO:+0100
TZNAME:CET
DTSTART:20251026T010000
END:STANDARD
END:VTIMEZONE
BEGIN:VEVENT
DTSTART;TZID=Europe/Helsinki:20221117T080000
DTEND;TZID=Europe/Helsinki:20221118T210000
DTSTAMP:20260426T053411
CREATED:20220916T072825Z
LAST-MODIFIED:20220916T075533Z
UID:10002713-1668672000-1668805200@pbkik.hu
SUMMARY:Fejlett gyártástechnológiák – @Smart Manufacturing Matchmaking 2022
DESCRIPTION:Az intelligens gyártás és ipar 4.0 területén működő vállalkozásokat\, szakembereket\, egyetemeket és kutatóintézeteket ismét virtuális üzletember találkozókkal\, üzemlátogatásokkal és webináriumokkal várják a Smart Manufacturing Matchmaking 2022 keretében. \nA rendezvénysorozat keretében\, az Enterprise Europe Network közreműködésével megrendezésre kerülő online üzletember találkozó kiváló lehetőséget teremt az intelligens gyártás és ipar 4.0 területén működő vállalati vezetőkkel\, kutatókkal és állami testületekkel való kapcsolatfelvételre\, tárgyalásra. \nKiemelt témák: \n\nFejlett gyártási megoldások: automatikus anyagmozgató rendszerek\, kollaboratív robot/cobot\nAdditív gyártástechnológia\nMezőgazdaság 4.0\nAI és gépi tanulás ipari felhasználása\nAlkalmazások a közösségi médiaadatok kezelésére\nAR\, VR\, XR\, MR\nAutonóm robotok\nBig Data elemzés\nKiberfizikai rendszerek\nKiberbiztonság és felhőmegoldások\nSzimuláció\nDigital Twin\nEmber-gép interfészek\nKörnyezeti fenntarthatóság\nFenntartható ipar\n\nA részvétel díjmentes\, de előzetes regisztrációhoz kötött: \nREGISZTRÁCIÓ
URL:https://pbkik.hu/esemeny/fejlett-gyartastechnologiak-smart-manufacturing-matchmaking-2022/
LOCATION:online
ATTACH;FMTTYPE=image/png:https://pbkik.hu/wp-content/uploads/2022/09/SMM2022.png
END:VEVENT
BEGIN:VEVENT
DTSTART;TZID=Europe/Budapest:20240514T090000
DTEND;TZID=Europe/Budapest:20240515T160000
DTSTAMP:20260426T053411
CREATED:20240503T121923Z
LAST-MODIFIED:20240503T122623Z
UID:10002935-1715677200-1715788800@pbkik.hu
SUMMARY:Két nap innováció\, partnerség és MI
DESCRIPTION:A Mesterséges Intelligencia és a tudományos és üzleti kapcsolatok fejlesztése áll az idei Innovációs Napok fókuszában!\nBaranya vármegye üzleti és tudományos közéletében már évek óta kiemelt fontossággal bír a PTE szervezésében az Innovációs Napok. A kétnapos program idén a Deutsche Telekom IT Solutions (DTITS) és a PTE koprodukciójában valósul meg május 14-15-én. \n \nA program első napjának fő fókuszában a mesterséges intelligenciával kapcsolatos kutatások\, innovációk és üzleti-technológiai megoldások állnak. Az nem kérdés\, hogy a MI megváltoztatja a világot – a rendezvény arra keresi a választ\, hogy miként tudunk felkészülni és reagálni erre\, miként aknázhatjuk ki a MI képességeit\, és milyen hatásaira kell kiemelt figyelmet szentelnünk. \nA második nap központjában\, szinte már hagyományos módon a partnerségek\, az üzleti és tudományos kapcsolatok\, együttműködések fejlesztése áll. Idén a TTK Partnernap keretében külön figyelmet kapnak a természettudományos kutatási eredmények és azok hasznosíthatósága: az ultraprecíziós megmunkálás aspektusai és a mikotoxinok élelmiszeripari vonatkozásai.  A GYTK Partnernap című programon a gyógyszerészettudományi képzések aktuális kérdései\, továbblépési lehetőségei és a gyógyszerészettudomány területén található tudás professzionális hasznosíthatósága kerül előtérbe. \nTermészetesen több kísérőrendezvényen is részt vehetnek az érdeklődők. A gépi tanulás és mesterséges intelligencia gyakorlati felhasználásába vezet be a DT Mini workshop. A MedTech Minds műhelyen a vállalkozásfejlesztés\, a termékek piacosítása és az egészségtudományi kutatás-fejlesztési eredmények hasznosíthatósága lesz az elsődleges téma. Az Adat EDIH programon pedig a vállalkozások digitalizációs lehetőségeivel ismerkedhetnek a résztvevők. \nAhogy évek óta\, idén is átvehetik a PTE Innovációs díjat három kategóriában olyan feltalálók\, kutatók és hallgatók\, akik innovatív megoldásokkal kapcsolódtak a MI alkalmazhatóságához. A díjak sorát ebben az évben a PBKIK és a DTITS különdíjai bővítik. \nTovábbi részletek\, regisztráció: https://pteinnovacio2024.ticketninja.io/
URL:https://pbkik.hu/esemeny/ket-nap-innovacio-partnerseg-es-mi/
LOCATION:Dél-Dunántúli Regionális Könyvtár és Tudásközpont\, Universitas u. 2/A\,\, Pécs\, Magyarország
ATTACH;FMTTYPE=image/png:https://pbkik.hu/wp-content/uploads/2023/05/PTE.png
END:VEVENT
END:VCALENDAR