BEGIN:VCALENDAR
VERSION:2.0
PRODID:-//Pécs-Baranyai Kereskedelmi és Iparkamara - ECPv6.15.20//NONSGML v1.0//EN
CALSCALE:GREGORIAN
METHOD:PUBLISH
X-WR-CALNAME:Pécs-Baranyai Kereskedelmi és Iparkamara
X-ORIGINAL-URL:https://pbkik.hu
X-WR-CALDESC:Események Pécs-Baranyai Kereskedelmi és Iparkamara
REFRESH-INTERVAL;VALUE=DURATION:PT1H
X-Robots-Tag:noindex
X-PUBLISHED-TTL:PT1H
BEGIN:VTIMEZONE
TZID:Europe/Helsinki
BEGIN:DAYLIGHT
TZOFFSETFROM:+0200
TZOFFSETTO:+0300
TZNAME:EEST
DTSTART:20180325T010000
END:DAYLIGHT
BEGIN:STANDARD
TZOFFSETFROM:+0300
TZOFFSETTO:+0200
TZNAME:EET
DTSTART:20181028T010000
END:STANDARD
BEGIN:DAYLIGHT
TZOFFSETFROM:+0200
TZOFFSETTO:+0300
TZNAME:EEST
DTSTART:20190331T010000
END:DAYLIGHT
BEGIN:STANDARD
TZOFFSETFROM:+0300
TZOFFSETTO:+0200
TZNAME:EET
DTSTART:20191027T010000
END:STANDARD
BEGIN:DAYLIGHT
TZOFFSETFROM:+0200
TZOFFSETTO:+0300
TZNAME:EEST
DTSTART:20200329T010000
END:DAYLIGHT
BEGIN:STANDARD
TZOFFSETFROM:+0300
TZOFFSETTO:+0200
TZNAME:EET
DTSTART:20201025T010000
END:STANDARD
END:VTIMEZONE
BEGIN:VEVENT
DTSTART;TZID=Europe/Helsinki:20190617T100000
DTEND;TZID=Europe/Helsinki:20190617T170000
DTSTAMP:20260423T195942
CREATED:20190531T090100Z
LAST-MODIFIED:20190729T065247Z
UID:10001838-1560765600-1560790800@pbkik.hu
SUMMARY:Orosz interkulturális tréning
DESCRIPTION:A HEPA Magyar Exportfejlesztési Ügynökség – az Enterprise Europe Network magyarországi partnere – 2019. június 17-én (hétfőn) egy napos felkészítő szemináriumot tart Orosz interkulturális tréning címmel. \n \n\n \nAz üzleti rendezvény célja\, hogy gyakorlatorientált módon betekintést nyújtson az orosz kulturális sajátosságokba\, melyek ismerete elengedhetetlenül fontos az üzleti kommunikációban. \n  \n  \nA külföldi tréner tapasztalattal rendelkezik ország-specifikus tréningek\, tanácsadás\, interkulturális kommunikáció és projekt menedzsment témákban is. \nA program nyelve angol. \n  \nMeghívó és részletes program \n  \nA rendezvényen a részvétel előzetes regisztrációhoz kötött. A tréningre a jelentkezések beérkezési sorrendben kerülnek elfogadásra korlátozott számban. Egy cég részéről legfeljebb két fő részvételére van lehetőség. \nKérjük\, hogy részvételi szándékát a képzés regisztrációs felületén jelezze\, legkésőbb 2019. június 11-ig. A regisztráció során kérjük\, hogy néhány kérdésünkre is válaszoljon angol nyelven!  \n  \nA rendezvény helyszíne:     HEPA Magyar Exportfejlesztési Ügynökség Nonprofit Zrt. \n(1095 Budapest\, Ipar u. 5. 6. em. rendezvényterem) \n  \nBővebb információért forduljon bizalommal kollégánkhoz: \ndr. Juhász Gabriella juhasz.gabriella@hepa.hu  +36 (20) 239 5860
URL:https://pbkik.hu/esemeny/orosz-interkulturalis-trening/
LOCATION:HEPA Nonprofit Zrt.\, Ipar utca 5.\, Budapest\, 1095\, Magyarország
END:VEVENT
BEGIN:VEVENT
DTSTART;TZID=Europe/Helsinki:20190627T100000
DTEND;TZID=Europe/Helsinki:20190627T120000
DTSTAMP:20260423T195942
CREATED:20190606T071653Z
LAST-MODIFIED:20190729T065311Z
UID:10001844-1561629600-1561636800@pbkik.hu
SUMMARY:Magyar-Orosz Üzleti Fórum
DESCRIPTION:A Magyar Kereskedelmi és Iparkamara Magyar-Orosz Tagozatának közös szervezésében valósul meg a  „Magyar-Orosz Üzleti Fórum és az MKIK Magyar-Orosz Tagozatának közgyűlése” című rendezvény. \n \n  \nProgramterv \n  \n\n\n\n09.30 – 10.00\nRegisztráció \n \n\n\n10.00 – 10.15 \n  \n \nKöszöntők \nDr. Parragh László\, elnök\, MKIK \nSzekeres István\, elnök\, MKIK Magyar-Orosz Tagozat\n\n\n10.15 – 10.30 \n  \n \nMagyar-orosz gazdasági kapcsolatok \nJoó István\, az export növeléséért felelős helyettes államtitkár\, Külgazdasági és Külügyminisztérium (egyeztetés alatt)\n\n\n10.30 – 10.45\n Üzleti lehetőségek Oroszországban \nIljin Pável\, megbízott vezető\, Oroszországi Föderáció Kereskedelmi Képviselete\n\n\n10.45 – 11.00 \n \nA HEPA szerepe a magyar vállalkozások orosz piacra jutásának elősegítésében \nHendrich Balázs\, vezérigazgató\, Magyar Exportfejlesztési Ügynökség (egyeztetés alatt) \n \n\n\n11.00 – 11.15 \n  \n \nFinanszírozási eszközök az orosz piaci gazdasági ügyletekhez \nJákli Gergely\, vezérigazgató\, EXIM (egyeztetés alatt)\n\n\n11.15 – 11.30\nAz Országos Vállalkozói Mentorprogram bemutatása \nTényiné Stark Mária\, szakmai vezető (külpiaci mentorálás)\n\n\n\n  \nRészvétel feltételei \nJelentkezési határidő: 2018. június 24.\, hétfő 14.00 óra \n  \nA férőhelyek száma korlátozott\, ezért a jelentkezéseket azok beérkezésének sorrendjében fogadjuk el. Egy vállalkozás képviseletében maximum 2 fő vehet részt az eseményen. \nA rendezvényen való részvétel ingyenes\, de előzetes online regisztrációhoz kötött.
URL:https://pbkik.hu/esemeny/magyar-orosz-uzleti-forum/
LOCATION:Magyar Kereskedelmi és Iparkamara székháza\, Pethényi köz 10.\, Budapest\, 1122\, Magyarország
ATTACH;FMTTYPE=image/jpeg:https://pbkik.hu/wp-content/uploads/2019/03/mkik_logo_1.jpg
END:VEVENT
END:VCALENDAR