BEGIN:VCALENDAR
VERSION:2.0
PRODID:-//Pécs-Baranyai Kereskedelmi és Iparkamara - ECPv6.15.20//NONSGML v1.0//EN
CALSCALE:GREGORIAN
METHOD:PUBLISH
X-WR-CALNAME:Pécs-Baranyai Kereskedelmi és Iparkamara
X-ORIGINAL-URL:https://pbkik.hu
X-WR-CALDESC:Események Pécs-Baranyai Kereskedelmi és Iparkamara
REFRESH-INTERVAL;VALUE=DURATION:PT1H
X-Robots-Tag:noindex
X-PUBLISHED-TTL:PT1H
BEGIN:VTIMEZONE
TZID:Europe/Helsinki
BEGIN:DAYLIGHT
TZOFFSETFROM:+0200
TZOFFSETTO:+0300
TZNAME:EEST
DTSTART:20180325T010000
END:DAYLIGHT
BEGIN:STANDARD
TZOFFSETFROM:+0300
TZOFFSETTO:+0200
TZNAME:EET
DTSTART:20181028T010000
END:STANDARD
BEGIN:DAYLIGHT
TZOFFSETFROM:+0200
TZOFFSETTO:+0300
TZNAME:EEST
DTSTART:20190331T010000
END:DAYLIGHT
BEGIN:STANDARD
TZOFFSETFROM:+0300
TZOFFSETTO:+0200
TZNAME:EET
DTSTART:20191027T010000
END:STANDARD
BEGIN:DAYLIGHT
TZOFFSETFROM:+0200
TZOFFSETTO:+0300
TZNAME:EEST
DTSTART:20200329T010000
END:DAYLIGHT
BEGIN:STANDARD
TZOFFSETFROM:+0300
TZOFFSETTO:+0200
TZNAME:EET
DTSTART:20201025T010000
END:STANDARD
END:VTIMEZONE
BEGIN:VEVENT
DTSTART;TZID=Europe/Helsinki:20190911T083000
DTEND;TZID=Europe/Helsinki:20190911T170000
DTSTAMP:20260423T194003
CREATED:20190906T112237Z
LAST-MODIFIED:20190919T132612Z
UID:10001917-1568190600-1568221200@pbkik.hu
SUMMARY:Disszeminatív szakmai workshop
DESCRIPTION:A Külgazdasági és Külügyminisztérium a KÖFOP-2.1.4-VEKOP-16-2016-00001azonosító jelű\, „A Külgazdasági és Külügyminisztérium humánerőforrás-gazdálkodásának és belső képzési rendszerének fejlesztése”című kiemelt projektje keretében –nyolc regionális helyszínen –a projekt keretében megvalósuló „Külügyi és Külgazdasági Tudásbázis” egyes eredményei\, különösen a külgazdasági tevékenység lokális\, helyi szintű támogatásának–\, így a működő tőke beruházás-illetve export-ösztönzésnek a helyi önkormányzatok által is megvalósítható és adaptálható eszközeinek\, módszereinek–\, valamint a kapcsolódó hazai és nemzetközi jó gyakorlatoknak a bemutatása\, illetve az e tématerületet célzó\,a Minisztérium által a projekt keretében kidolgozott közszolgálati belső továbbképzéseknek a szélesebb körű megismertetése céljából 2019. szeptember 9-19. között disszeminatív szakmai workshop-sorozatot szervez. \n \n  \nPROGRAM: \n8:30-9:00 ÉRKEZÉS\, REGISZTRÁCIÓ \n9:00-9:15 KÖSZÖNTŐ \n9:15-10:00 KÖFOP-2.1.4-VEKOP-16 KIEMELT PROJEKT ÉS A KÜLÜGYI ÉS KÜLGAZDASÁGI TUDÁSBÁZIS BEMUTATÁSA \n10:00 -10:15 KÁVÉSZÜNET \n10:15 -12:00 ELŐADÁSOK –KÜLGAZDASÁGI TEVÉKENYSÉG HELYI TÁMOGATÁSÁNAK ESZKÖZEI\, JÓ GYAKORLATAI I. (MŰKÖDŐ TŐKE BERUHÁZÁS-ÖSZTÖNZÉS\, EXPORT-ÖSZTÖNZÉS) \n12:00-13:00 EBÉD \n13:00-13:45 ELŐADÁSOK–KÜLGAZDASÁGI TEVÉKENYSÉG HELYI TÁMOGATÁSÁNAK ESZKÖZEI\, JÓ GYAKORLATAI II. (KÜLGAZDASÁGI INTÉZMÉNY RENDSZER ÉS SZOLGÁLTATÁSI KÖR) \n13:45 -14:45 KEREKASZTAL-BESZÉLGETÉS \n14:45-15:00 KÁVÉSZÜNET \n15:00 -17:00 WORLD CAFÉ – INTERAKTÍV ESZMECSERE \n  \nFelhívjuk a figyelmet\, hogy a disszeminatív workshopon való részvételt a közszolgálati továbbképzési kötelezettség („Probono”) alá tartozó tisztviselők éves továbbképzési tervükben –pont értékkel –beszámíthatják. \nA rendezvényen való részvétel díjtalan\, de regisztrációhoz kötött. \nKérem\, hogy részvételi szándékát\, illetve távolmaradása esetén a témában jártas szakértő kollégájának delegálását a kofoprendezveny@mfa.gov.hu e-mail címen jelezze!
URL:https://pbkik.hu/esemeny/disszeminativ-szakmai-workshop/
LOCATION:Kapos Hotel és Étterem\, Kossuth tér\, Kaposvár\, Magyarország
END:VEVENT
BEGIN:VEVENT
DTSTART;TZID=Europe/Helsinki:20190924T133000
DTEND;TZID=Europe/Helsinki:20190924T160000
DTSTAMP:20260423T194003
CREATED:20190912T114851Z
LAST-MODIFIED:20191031T143928Z
UID:10001938-1569331800-1569340800@pbkik.hu
SUMMARY:Exporthatékonyság a német piacon
DESCRIPTION:A Magyar-Német Üzleti és Beszállítói Fórum (2019. szeptember 24.) az MKIK Magyar-Német Tagozatának és a Borsod-Abaúj-Zemplén Megyei Kereskedelmi és Iparkamarának a szervezésében valósul meg. \n \nA rendezvény célja\, hogy tájékoztassa a hazai kis- és középvállalkozásokat a német piaci exportlehetőségekről. Továbbá céges jó gyakorlatként sikeres hazai\, a német piacra is exportáló vállalkozások osztják meg tapasztalataikat és ismertetik az aktuális beszállítói lehetőségeket cégüknél. \nAz előadások után a résztvevőknek lehetőségük lesz kötetlen formában konzultálni az előadókkal a networking kávészünet során. \n  \nPROGRAM \n\n\n\n13.30 – 14.00\nRegisztráció\n\n\n14.00 – 14.15\nKöszöntők \nBihall Tamás\, a BOKIK elnöke és az MKIK oktatás- és képzési ügyekért felelős alelnöke \nBódi László\, az MKIK Magyar-Német Tagozatának elnöke\n\n\n14.15 – 14.35\nA jövő exportőreinek finanszírozása – tájékoztató az EXIM versenyképességet javító hitelprogramjáról és a hitelfedezeti garanciáról  \nSzőcs Gábor\, igazgató\, Vezérigazgatói Kabinet\, EXIM\n\n\n14.35 – 14.55\nBest practice – a Robert Bosch Energy and Body Systems Kft. legdinamikusabban fejlődő eBike üzletágának bemutatása és beszállítói lehetőségek (a Bosch ezen üzletágánál) \nRoland Ahl\, gyárigazgató\, Robert Bosch Energy and Body Systems Kft.\n\n\n14.55 – 15.15\nÖnálló exportőri tapasztalatok a német piacon – beszállítói lehetőségek a FUX Zrt.-nél  \nBartos Ildikó\, kereskedelmi igazgató\, Fux Zrt.\n\n\n15.15 – 15.35\nTapasztalatok a német piacon német multik beszállítójaként – beszállítói lehetőségek a Fireplace Manufacturing and Trading Company-nél  \nDemeter László – felkérés alatt\, kereskedelmi vezető\, Fireplace Kft.\n\n\n15.35 – 16.00 \n \nNetworking kávészünet \nKonzultációs lehetőség az előadókkal\n\n\n\n  \nRészvétel feltételei \nJelentkezési határidő: 2019. szeptember 20.\, péntek 12.00 óra  \nA rendezvényen való részvétel ingyenes\, de előzetes online regisztrációhoz kötött. \nA férőhelyek száma korlátozott\, ezért a jelentkezések azok beérkezésének sorrendjében kerülnek elfogadásra. Egy vállalkozás képviseletében maximum 2 fő vehet részt az eseményen. \n  \nTovábbi információ: \nNév: Béres László \nTel: +36 1 474 5177 \nE-mail: beres.laszlo@mkik.hu
URL:https://pbkik.hu/esemeny/exporthatekonysag-a-nemet-piacon/
LOCATION:BOKIK székhely\, Szentpáli u. 1.\, Miskolc\, 3525\, Magyarország
ATTACH;FMTTYPE=image/jpeg:https://pbkik.hu/wp-content/uploads/2019/03/mkik_logo_1.jpg
END:VEVENT
BEGIN:VEVENT
DTSTART;TZID=Europe/Helsinki:20190926T140000
DTEND;TZID=Europe/Helsinki:20190926T153000
DTSTAMP:20260423T194003
CREATED:20190918T103211Z
LAST-MODIFIED:20191031T143954Z
UID:10001668-1569506400-1569511800@pbkik.hu
SUMMARY:Fókuszban a BREXIT
DESCRIPTION:  \nA Brit Nagykövetség és a Magyar Kereskedelmi és Iparkamara által szervezett „Fókuszban a BREXIT” című rendezvénysorozat következő eseménye 2019. szeptember 26. 14.00-15.10 lesz a Brit Rezidencián. \n \nAz esemény a BREXIT tárgyalások alakulása\, valamint a BREXIT következményei iránt érdeklődő és az arra való felkészülésre törekvő vállalkozások számára kíván tájékoztatást nyújtani. \n  \nPROGRAM \n  \n\n\n\n13:30-14:00\nRegisztráció \n\n\n14:00-14:10\nKöszöntők \nŐexc. Iain Lindsay\, nagykövet\, Brit Nagykövetség \nTényiné Stark Mária\, nemzetközi igazgató\, Magyar Kereskedelmi és Iparkamara\n\n\n14:10-14:30\nA BREXIT tárgyalások jelenlegi állása brit szemszögből \nZ. Szilágyi Katalin\, vezető gazdaságpolitikai attasé\, Brit Nagykövetség\n\n\n14:30-14:50\nA vállalkozások BREXIT-re való felkészülése vámügyi szempontból \nDr. Somogyi Éva\, osztályvezető\, NAV\, Vám Főosztály\n\n\n14:50-15:10\nKérdések és válaszok\n\n\n\n  \nRészvétel feltételei \nJelentkezési határidő: 2019. szeptember 25.\, szerda\, 12.00 \nA férőhelyek száma korlátozott\, ezért a jelentkezéseket azok beérkezésének sorrendjében fogadjuk el. Egy vállalkozás képviseletében csak 2 fő vehet részt az eseményen. \nA rendezvényen való részvétel ingyenes\, de előzetes online regisztrációhoz kötött.
URL:https://pbkik.hu/esemeny/fokuszban-a-brexit-2/
LOCATION:Brit Rezidencia\, Lórántffy Zsuzsanna út 7.\, Budapest\, 1022\, Magyarország
ATTACH;FMTTYPE=image/jpeg:https://pbkik.hu/wp-content/uploads/2019/03/mkik_logo_1.jpg
END:VEVENT
END:VCALENDAR