BEGIN:VCALENDAR
VERSION:2.0
PRODID:-//Pécs-Baranyai Kereskedelmi és Iparkamara - ECPv6.15.20//NONSGML v1.0//EN
CALSCALE:GREGORIAN
METHOD:PUBLISH
X-ORIGINAL-URL:https://pbkik.hu
X-WR-CALDESC:Események Pécs-Baranyai Kereskedelmi és Iparkamara
REFRESH-INTERVAL;VALUE=DURATION:PT1H
X-Robots-Tag:noindex
X-PUBLISHED-TTL:PT1H
BEGIN:VTIMEZONE
TZID:Europe/Helsinki
BEGIN:DAYLIGHT
TZOFFSETFROM:+0200
TZOFFSETTO:+0300
TZNAME:EEST
DTSTART:20180325T010000
END:DAYLIGHT
BEGIN:STANDARD
TZOFFSETFROM:+0300
TZOFFSETTO:+0200
TZNAME:EET
DTSTART:20181028T010000
END:STANDARD
BEGIN:DAYLIGHT
TZOFFSETFROM:+0200
TZOFFSETTO:+0300
TZNAME:EEST
DTSTART:20190331T010000
END:DAYLIGHT
BEGIN:STANDARD
TZOFFSETFROM:+0300
TZOFFSETTO:+0200
TZNAME:EET
DTSTART:20191027T010000
END:STANDARD
BEGIN:DAYLIGHT
TZOFFSETFROM:+0200
TZOFFSETTO:+0300
TZNAME:EEST
DTSTART:20200329T010000
END:DAYLIGHT
BEGIN:STANDARD
TZOFFSETFROM:+0300
TZOFFSETTO:+0200
TZNAME:EET
DTSTART:20201025T010000
END:STANDARD
END:VTIMEZONE
BEGIN:VEVENT
DTSTART;TZID=Europe/Helsinki:20191009T093000
DTEND;TZID=Europe/Helsinki:20191009T130000
DTSTAMP:20260423T002711
CREATED:20190926T134029Z
LAST-MODIFIED:20191031T144145Z
UID:10001678-1570613400-1570626000@pbkik.hu
SUMMARY:Magyar-ghánai gazdasági fórum és üzletember-találkozó
DESCRIPTION:  \n  \nMagyarország Accrai Nagykövetségével együttműködésben a Ghánai Befektetési Központ Magyarországra látogató delegációjához kapcsolódóan a Magyar Kereskedelmi és Iparkamara Magyar-ghánai gazdasági fórum és üzletember-találkozót szervez. \n \nA rendezvényen tájékoztatást adunk a kétoldalú gazdasági kapcsolatokról\, valamint a kereskedelmi és befektetési lehetőségekről Ghánában. \nA fórumot követően üzletember-találkozót szervezünk a magyar és  ghánai vállalkozásoknak. \n  \nProgram \n\n\n\n9.30 – 10.00\nRegisztráció\n\n\n10.00 – 10.20\nKöszöntők \nDr. Kiss Zoltán\, elnök\, Magyar Kereskedelmi és Iparkamara Afrika Tagozat \nBékési Dávid\, nagykövet-helyettes\, Magyarország Nagykövetsége\, Accra \nH.E. Virginia Hesse\, nagykövet\, Ghánai Köztársaság Nagykövetsége\, Prága (felkérés alatt)\n\n\n10.20 – 10.35\nA magyar-ghánai kereskedelmi kapcsolatok alakulása \nDr. Benes Károly\, főosztályvezető\, Afrika Főosztály\, Külgazdasági és Külügyminisztérium ­\n\n\n10.35 – 10.50\nA HEPA szerepe a magyar-ghánai kereskedelmi kapcsolatok fejlesztésében \nHendrich Balázs\, vezérigazgató\, HEPA Exportfejlesztési Ügynökség (felkérés alatt)\n\n\n10.50 – 11.20\nBefektetési lehetőségek Ghánában  \nA Ghánai Befektetési Központ előadása \n\n\n11.20 – 11.40\nKérdések és válaszok\n\n\n11.40 – 13.00\nNetworking kávészünet és kétoldalú üzleti tárgyalások (előzetes online regisztrációhoz kötött a jelentkezési felületen) \n\n\n\n  \nRészvétel feltételei \nAz előadások és az üzleti megbeszélések hivatalos nyelve az angol\, tolmácsolás nem biztosított. \nA rendezvényen való részvétel ingyenes\, de előzetes online regisztrációhoz kötött. \nA tárgyalópartnerekhez az online regisztrációs lap alján található táblázatban tudnak időpontot foglalni. \nA férőhelyek száma korlátozott\, ezért a jelentkezések beérkezési sorrendben kerülnek elfogadásra. Egy vállalkozás képviseletében maximum 2 fő vehet részt az eseményen. \n 
URL:https://pbkik.hu/esemeny/magyar-ghanai-gazdasagi-forum-es-uzletember-talalkozo/
LOCATION:Bank Center Irodaház\, Szabadság tér 7.\, Budapest\, 1054\, Magyarország
ATTACH;FMTTYPE=image/jpeg:https://pbkik.hu/wp-content/uploads/2019/03/mkik_logo_1.jpg
END:VEVENT
BEGIN:VEVENT
DTSTART;TZID=Europe/Helsinki:20191024T130000
DTEND;TZID=Europe/Helsinki:20191024T173000
DTSTAMP:20260423T002711
CREATED:20191015T061323Z
LAST-MODIFIED:20191031T144257Z
UID:10001946-1571922000-1571938200@pbkik.hu
SUMMARY:Ipari konferencia az Egyesült Királyság határain végrehajtandó intézkedésekről a BREXIT után
DESCRIPTION:A Brit Nagykövetség szervezésében 2019. október 24-én a Novotel Budapest Danube Hotelben kerül megrendezésre a BREXIT utáni teendőkről szóló konferencia Industry Conference on measures at UK borders after BREXIT címen. \nA rendezvény angol nyelvű. \nProgram \n13.00 Registration \n13.30 Opening remarks and briefing about the state of negotiations from Ambassador Iain Lindsay \n13.50 The Hungarian perspective from Ministerial Commissioner for Brexit Szabolcs Takács (TBC) \n14.10 Q&A14.20 Coffee break \n14.30 Border Delivery Group presentations \n\nCustoms applications and requirements\nProcedures for high risk food/feed\, animals\, plants and other controlled goods\nTransport requirements\nGoods\, product standards and regulations\nBorder security update\n\n17.00 Q&A session and networking opportunity \n17.30 Event ends \nIndustry Conference – measures at UK borders – INVITATION. \n  \nA részvétel díjmentes\, de az előzetes regisztráció kötelező\, melynek határideje október 21.
URL:https://pbkik.hu/esemeny/ipari-konferencia-az-egyesult-kiralysag-hatarain-vegrehajtando-intezkedesekrol-a-brexit-utan/
LOCATION:Novotel Budapest Centrum\, Zsolnay terem\, Rákóczi út 43-45.\, Budapest\, Baranya\, 1088\, Magyarország
END:VEVENT
BEGIN:VEVENT
DTSTART;TZID=Europe/Helsinki:20191024T130000
DTEND;TZID=Europe/Helsinki:20191024T173000
DTSTAMP:20260423T002711
CREATED:20191015T081103Z
LAST-MODIFIED:20191031T144306Z
UID:10001954-1571922000-1571938200@pbkik.hu
SUMMARY:Ipari konferencia az Egyesült Királyság határait érintő intézkedésekről a BREXIT után
DESCRIPTION:Az eseményen részt vesznek az Egyesült Királyság határokon átnyúló csoportjának tagjai és az Egyesült Királyság kormányzati szervezeteinek számos tapasztalt tisztviselője. A konferencia középpontjában az Egyesült Királyság EU-ból való kilépésének előkészítése áll a vámeljárások\, az áruk\, az élelmiszerek\, az élő állatok\, az állati termékek és a takarmányok\, valamint a növények behozatala és kivitele vonatkozásában. Ezen túl kiterjed az Egyesült Királyság és a szomszédos országok közötti összeköttetésben lévő közlekedési infrastruktúrára gyakorolt hatásokra is. \n \n  \nIdőpont: 2019. október 24. \nHelyszín: Novotel Budapest Danube Hotelben\, 1024 Budapest\, Bem rakpart 33-34. \n  \nMEGHÍVÓ \n 
URL:https://pbkik.hu/esemeny/ipari-konferencia-az-egyesult-kiralysag-hatarait-erinto-intezkedesekrol-a-brexit-utan/
LOCATION:Novotel Budapest Danube Hotel\, Bem rakpart 33-34.\, Budapest\, Pest\, 1024\, Magyarország
END:VEVENT
BEGIN:VEVENT
DTSTART;TZID=Europe/Helsinki:20191028T140000
DTEND;TZID=Europe/Helsinki:20191028T170000
DTSTAMP:20260423T002711
CREATED:20191018T064920Z
LAST-MODIFIED:20191031T144319Z
UID:10001961-1572271200-1572282000@pbkik.hu
SUMMARY:Magyar-ománi gazdasági fórum és üzletember-találkozó
DESCRIPTION:Időpont: 2019.október 28.\, hétfő14.00 óra \nHelyszín: President Hotel1054 Budapest\, Hold utca 3-5 \n \n  \nElőzetes program \n13.30-14.00 Regisztráció  \n14.00-14.15 Köszöntők\nDr. Parragh László\,elnök\, Magyar Kereskedelmiés Iparkamara\nQais bin Mohammed al Yousef\,elnök\, Ománi Kereskedelmi és Iparkamara\nŐexc. Yousuf bin Ahmed bin Hamad Al Jabri\, nagykövet\, az Ománi Szultánság Nagykövetsége\, Bécs (felkérés alatt) \n14.15-14.35 A magyar-ománi kétoldalú gazdasági kapcsolatok alakulása\nGőbel Adrienn\, osztályvezető\, Külgazdasági és Külügyminisztérium \n14.35-14.55 Befektetési lehetőségek Magyarországon\nÉsik Róbert\,elnök\, Nemzeti Befektetési Ügynökség (HIPA) (felkérés alatt) \n14.55-15.20 Befektetési lehetőségek Ománban\nAz Ománi Kereskedelmi és Iparkamara előadása \n15.20-15.30 Kérdések és válaszok \n15.30-17.00 Networking kávészünet és üzletember-találkozók \n  \nA rendezvény nyelve az angol\, tolmácsolás nem biztosított. \nA részvétel ingyenes\, de előzetes online regisztrációhoz kötött. \nJelentkezési határidő: 2019. október 25.\,péntek\, 19:00 óra \n  \nTovábbi információ: MKIK Nemzetközi igazgatóság\, Babák Péter\, nemzetközi referens \nTelefon: (1)4745131 e-mail: babak.peter@mkik.hu
URL:https://pbkik.hu/esemeny/magyar-omani-gazdasagi-forum-es-uzletember-talalkozo/
LOCATION:Hotel President Budapest\, Prága terem\, 1054 Budapest\, Hold u. 3-5.\, Budapest
ATTACH;FMTTYPE=image/jpeg:https://pbkik.hu/wp-content/uploads/2019/03/mkik_logo_1.jpg
END:VEVENT
END:VCALENDAR