BEGIN:VCALENDAR
VERSION:2.0
PRODID:-//Pécs-Baranyai Kereskedelmi és Iparkamara - ECPv6.15.20//NONSGML v1.0//EN
CALSCALE:GREGORIAN
METHOD:PUBLISH
X-ORIGINAL-URL:https://pbkik.hu
X-WR-CALDESC:Események Pécs-Baranyai Kereskedelmi és Iparkamara
REFRESH-INTERVAL;VALUE=DURATION:PT1H
X-Robots-Tag:noindex
X-PUBLISHED-TTL:PT1H
BEGIN:VTIMEZONE
TZID:Europe/Helsinki
BEGIN:DAYLIGHT
TZOFFSETFROM:+0200
TZOFFSETTO:+0300
TZNAME:EEST
DTSTART:20200329T010000
END:DAYLIGHT
BEGIN:STANDARD
TZOFFSETFROM:+0300
TZOFFSETTO:+0200
TZNAME:EET
DTSTART:20201025T010000
END:STANDARD
BEGIN:DAYLIGHT
TZOFFSETFROM:+0200
TZOFFSETTO:+0300
TZNAME:EEST
DTSTART:20210328T010000
END:DAYLIGHT
BEGIN:STANDARD
TZOFFSETFROM:+0300
TZOFFSETTO:+0200
TZNAME:EET
DTSTART:20211031T010000
END:STANDARD
BEGIN:DAYLIGHT
TZOFFSETFROM:+0200
TZOFFSETTO:+0300
TZNAME:EEST
DTSTART:20220327T010000
END:DAYLIGHT
BEGIN:STANDARD
TZOFFSETFROM:+0300
TZOFFSETTO:+0200
TZNAME:EET
DTSTART:20221030T010000
END:STANDARD
END:VTIMEZONE
BEGIN:VEVENT
DTSTART;VALUE=DATE:20210412
DTEND;VALUE=DATE:20210416
DTSTAMP:20260424T021900
CREATED:20210203T180809Z
LAST-MODIFIED:20210203T181725Z
UID:10002236-1618185600-1618531199@pbkik.hu
SUMMARY:Hannover Messe - Technology & Business Cooperation Days 2021
DESCRIPTION:A Hannover Messe egyedülálló módon\, egy helyen és időben mutatja be a technológiai innovációk teljes skáláját az egész értékesítési láncon keresztül – az automatizálástól a beszállítói megoldásokig. \n \nAz Enterprise Europe Network szervezésében megrendezésre kerülő online üzletember találkozó lehetővé teszi a vállalkozások és a kutatási intézmények számára\, hogy megfelelő partnereket találjanak üzleti\, technológiai és kutatási együttműködésre\, valamint kereskedelmi partnerségre. \nKiemelt témák: \n\n\n\n\n\n\n\nIpar 4.0 és okos gyár megoldások\nErőforrás- és energia-hatékony termelési technológiák\nFenntartható energia és mobilitás\nMérőeszközök\n\n\n\n\n\n\n\nA rendezvényen történő részvétel díjmentes\, de előzetes regisztációhoz kötött: \nREGISZTRÁCIÓ
URL:https://pbkik.hu/esemeny/hannover-messe-technology-business-cooperation-days-2021/
LOCATION:Online
ATTACH;FMTTYPE=image/jpeg:https://pbkik.hu/wp-content/uploads/2019/02/hannover-messe-800x800.jpg
END:VEVENT
BEGIN:VEVENT
DTSTART;VALUE=DATE:20210414
DTEND;VALUE=DATE:20210430
DTSTAMP:20260424T021900
CREATED:20210217T093742Z
LAST-MODIFIED:20210304T105536Z
UID:10002251-1618358400-1619740799@pbkik.hu
SUMMARY:A gyártás és kiskereskedelem új korszaka - nemzetközi üzletember találkozó
DESCRIPTION:Az online rendezvény keretében a gyártók\, kereskedők és technológiai vállalatok vehetnek részt szakmai programokon és folytathatnak üzleti tárgylásokat potenciális partnerekkel\, felkészülve a fellendülési szakaszra\, hiszen a vállalkozásoknak mind üzleti tevékenységük\, mind technológiai felkészültségük folyamatos megújítására kell törekedniük. \n \nAz üzleti tárgyalások mellett tematikus workshopokon vehetnek részt a gyártási és a kiskereskedelmi szektor képviselői egyaránt. \nKiemelt témák- GYÁRTÁS (2021.04.14-15.) \n\nIpar 4.0 – elmélet és gyakorlat a termelési folyamatokban\nFenntarthatóság és költségcsökkentés\n\nKiemelt témák – KERESKEDELEM (2021.04.28-29.) \n\nÉrintésmentes megoldások – a kattintásos kiskereskedelemi modell\nMinőségi üzlet – minőségi ügyfelek\n\nAz online rendezvényre az Enterprise Europe Network és a Máltai Kereskedelmi és Iparkamara társszervezésében kerül sor. \nA részvétel díjmentes\, de előzetes regisztrációhoz kötött: \nREGISZTRÁCIÓ
URL:https://pbkik.hu/esemeny/gyartas-es-kiskereskedelem/
LOCATION:Online
ATTACH;FMTTYPE=image/png:https://pbkik.hu/wp-content/uploads/2021/02/re-engeneering.png
END:VEVENT
BEGIN:VEVENT
DTSTART;TZID=Europe/Helsinki:20210414T090000
DTEND;TZID=Europe/Helsinki:20210414T180000
DTSTAMP:20260424T021900
CREATED:20210317T201447Z
LAST-MODIFIED:20210323T104710Z
UID:10002284-1618390800-1618423200@pbkik.hu
SUMMARY:Fenntarthatóság és alpesi technológiák - Green Mountain DigithON
DESCRIPTION:Az Enterprise Europe Network társszervezésében megvalósuló online konferencia és üzletember találkozón várják minden a digitalizációval és azzal kapcsolatos területen tevékenykedő vállalkozás\, start-up\, szakember részvételét. \n \nA rendezvény célja a digitalizációs megoldásokkal és a kapcsolódó szakterületekkel foglalkozó vállalkozók nemzetközi üzleti együttműködésének elősegítése\, teret adva a legújabb fejlesztések és innovatív megoldások bemutatására. \nKiemelt témák: \n\nAlpesi technológiák\nMegújuló energia és fenntarthatóság\nIoT\, gépi tanulás\, adatelemzés\, AI\nTextíliák\, alapanyagok\n\n  \nA részvétel díjmentes\, de előzetes regisztrációhoz kötött: \nREGISZTRÁCIÓ
URL:https://pbkik.hu/esemeny/fenntarthatosag-es-alpesi-technologiak-green-mountain-digithon/
LOCATION:Online
ATTACH;FMTTYPE=image/jpeg:https://pbkik.hu/wp-content/uploads/2021/03/digithon.jpg
END:VEVENT
BEGIN:VEVENT
DTSTART;VALUE=DATE:20210415
DTEND;VALUE=DATE:20210416
DTSTAMP:20260424T021900
CREATED:20210204T100244Z
LAST-MODIFIED:20210204T204407Z
UID:10002237-1618444800-1618531199@pbkik.hu
SUMMARY:EENGINEX 2021 - online gépipari és elektronikai beszállítói fórum
DESCRIPTION:Online beszállítói fórum kerül megrendezésre az Entreprise Europe Network szervezésében\, ami remek lehetőséget biztosít minden a gépiparban tevékenykedő\, alkatrészek\, gépek\, szerszámok gyártásával\, automatizációval foglalkozó cég számára\, aki kiemelten érdeklődik az ír piac iránt. \n \nFókuszban: \n\n\n\n\n\n\n\n\n\n\n\ngépipar\nipari szerszámgyártás\nfelületkezelő anyagok\nalapnyagok és alkatrészek\nvillamossági termékek\nprecíziós technológia\n\n\n\n\n\n\n\n\n\n\n\nA részvétel díjmentes\, de előzetes regisztrációhoz kötött. \nREGISZTRÁCIÓ\nAz érdeklődőknek lehetősége van – díjmentesen – egy profil létrehozására és konkrét üzleti ajánlatok feltöltésére a rendezvény honlapján\, ahol megtekinthetik a többi résztvevő adatlapját is. Javasoljuk a résztvevőknek\,  hogy részletes cégprofilt és együttműködési ajánlatokat készítsenek a számukra megfelelő partner megtalálása érdekében!
URL:https://pbkik.hu/esemeny/eenginex-2021-online-gepipari-es-elektronikai-beszallitoi-forum/
LOCATION:Online
ATTACH;FMTTYPE=image/png:https://pbkik.hu/wp-content/uploads/2021/02/EENGINEX-2021-web-image.png
END:VEVENT
BEGIN:VEVENT
DTSTART;TZID=Europe/Helsinki:20210421T090000
DTEND;TZID=Europe/Helsinki:20210421T150000
DTSTAMP:20260424T021900
CREATED:20210217T103844Z
LAST-MODIFIED:20210217T105140Z
UID:10002253-1618995600-1619017200@pbkik.hu
SUMMARY:INNOFORM®2021 - Nemzetközi konferencia és üzletember találkozó
DESCRIPTION:A hazai szerszám- és feldolgozóipar képviselőit is várják az idei online INNOFORM® Kiállítás társrendezvényeként megrendezésre kerülő nemzetköz iüzletember találkozóra. \n \nAz ötödik alkalommal megrendezésre kerülő eseményen a gyártók\, forgalmazók és szakemberek számára lehetőség nyílik új\, nemzetközi piacok megismerésére és potenciális üzleti partnerek megismerésére a szerszámgyártás\, műanyag-feldolgozó ipar\, valamint az autóiparhoz kapcsolódó minden területéről. \nA rendezvényen való részvétel díjmentes\, de előzetes regisztrációhoz kötött: \nREGISZTRÁCIÓ\n 
URL:https://pbkik.hu/esemeny/innoform2021-nemzetkozi-konferencia-es-uzletember-talalkozo/
LOCATION:Online
ATTACH;FMTTYPE=image/png:https://pbkik.hu/wp-content/uploads/2021/02/innoform-2021.png
END:VEVENT
BEGIN:VEVENT
DTSTART;VALUE=DATE:20210426
DTEND;VALUE=DATE:20210501
DTSTAMP:20260424T021900
CREATED:20210204T105710Z
LAST-MODIFIED:20221122T095047Z
UID:10002239-1619395200-1619827199@pbkik.hu
SUMMARY:Divat- és textilipari beszállítói napok - Fashion Match Supply 2021
DESCRIPTION:Az online üzletember találkozó és konferencia lehetőséget biztosít a divat- és textilipari ellátási lánc minden szereplőjének a gyártóktől a tervezőkön át a fuvarozó cégekig a legújabb trendek és potenciális partnerek megismerésére egyaránt. \n \nMIÉRT ÉRDEMES RÉSZT VENNI? \n\nLehetőség üzleti tárgyalások folytatására nemzetközi divatipari partnerekkel.\n\n\nÚj piacok megismerése\, információgyűjtés\, piaci igények felmérése.\n\n\nHatáron túli kapcsolatok és együttműködések kezdeményezése.\n20 perces\, előre megszervezett üzleti megbeszélések.\n\nFÓKUSZBAN: \n\nbeszállítói láncok a divat- és textiliparban\ngyártás\, bérgyártás\ne-kereskedelem és logisztika\nfenntartható textilgyártás\n\nREGISZTRÁCIÓ\nAz érdeklődőknek lehetősége van – díjmentesen – egy profil létrehozására és konkrét üzleti ajánlatok feltöltésére a rendezvény honlapján\, ahol megtekinthetik a többi résztvevő adatlapját is. Javasoljuk a résztvevőknek\,  hogy részletes cégprofilt és együttműködési ajánlatokat készítsenek a számukra megfelelő partner megtalálása érdekében!
URL:https://pbkik.hu/esemeny/divat-es-textilipari-beszallitoi-napok-fashion-match-supply-2021/
LOCATION:Online
ATTACH;FMTTYPE=image/jpeg:https://pbkik.hu/wp-content/uploads/2021/02/fashionmatchsupply.jpg
END:VEVENT
END:VCALENDAR