BEGIN:VCALENDAR
VERSION:2.0
PRODID:-//Pécs-Baranyai Kereskedelmi és Iparkamara - ECPv6.15.20//NONSGML v1.0//EN
CALSCALE:GREGORIAN
METHOD:PUBLISH
X-ORIGINAL-URL:https://pbkik.hu
X-WR-CALDESC:Események Pécs-Baranyai Kereskedelmi és Iparkamara
REFRESH-INTERVAL;VALUE=DURATION:PT1H
X-Robots-Tag:noindex
X-PUBLISHED-TTL:PT1H
BEGIN:VTIMEZONE
TZID:Europe/Helsinki
BEGIN:DAYLIGHT
TZOFFSETFROM:+0200
TZOFFSETTO:+0300
TZNAME:EEST
DTSTART:20200329T010000
END:DAYLIGHT
BEGIN:STANDARD
TZOFFSETFROM:+0300
TZOFFSETTO:+0200
TZNAME:EET
DTSTART:20201025T010000
END:STANDARD
BEGIN:DAYLIGHT
TZOFFSETFROM:+0200
TZOFFSETTO:+0300
TZNAME:EEST
DTSTART:20210328T010000
END:DAYLIGHT
BEGIN:STANDARD
TZOFFSETFROM:+0300
TZOFFSETTO:+0200
TZNAME:EET
DTSTART:20211031T010000
END:STANDARD
BEGIN:DAYLIGHT
TZOFFSETFROM:+0200
TZOFFSETTO:+0300
TZNAME:EEST
DTSTART:20220327T010000
END:DAYLIGHT
BEGIN:STANDARD
TZOFFSETFROM:+0300
TZOFFSETTO:+0200
TZNAME:EET
DTSTART:20221030T010000
END:STANDARD
END:VTIMEZONE
BEGIN:VEVENT
DTSTART;VALUE=DATE:20210531
DTEND;VALUE=DATE:20210612
DTSTAMP:20260423T071110
CREATED:20210204T114437Z
LAST-MODIFIED:20210204T185830Z
UID:10001872-1622419200-1623455999@pbkik.hu
SUMMARY:Get ready for Japan - Üzleti lehetőségek és exportképzés
DESCRIPTION:Az EU Japan-Centre kéthetes online képzést és üzleti partnertalálkozót szervez\, ahol a vállalkozások első kézből ismerhetik meg a japán üzleti környezet és kultúra sajátosságait online workshopok\, céglátogatások és előadások során. \n \n  \n  \n  \n  \n  \nMiért érdemes jelentkezni? \n\n\n\n\n\n\n\nmegismerhetik és elsajátíthatják a japán üzleti környezet\, az üzleti gyakorlatok és a japán stílusú személyes kommunikáció alapvető elemeit\,\núj üzleti kapcsolatokat alakíthatnak ki\,\nmegismerhetik a japán társaságokon belüli döntéshozatali folyamatot\, növelve a sikeres üzleti megállapodások számát\,\nmegerősíthetik üzleti kapcsolatukat a jelenlegi japán ügyfelekkel\, és megkönnyíteni a kapcsolatokat a jövőbeli partnerekkel\n\n\n\n\n\n\n\nJelentkezés feltételei; a résztvevő \n\n\n\n\n\n\n\nEU-tagállam állampolgára\,\nvállalkozása/munkaadója az EU-tagállamok területén található\,\nvállalkozás tulajdonosa  > 50% EU vagy COSME partnerországban található\,\nangol nyelvtudással rendelkezik\,\nvállalkozásnál menedzseri\, vezetői pozíciót tölt be stb.\nvállalkozásnak legyen Japánban történő piacralépésre\, terjeszkedésre vonatkozó stratégiája.\n\n\n\n\n\n\n\nJelentkezési határidő: 2021. április 15. \nKépzés időpontja: 2020. május 31 – június 11. \nRészletes információk és jelentkezés ITT.\n 
URL:https://pbkik.hu/esemeny/get-ready-for-japan-uzleti-lehetosegek-es-exportkepzes/
LOCATION:Online
ATTACH;FMTTYPE=image/png:https://pbkik.hu/wp-content/uploads/2019/11/eu-japan-e1574411620490.png
END:VEVENT
BEGIN:VEVENT
DTSTART;TZID=Europe/Helsinki:20210601T103000
DTEND;TZID=Europe/Helsinki:20210601T113000
DTSTAMP:20260423T071110
CREATED:20210528T064419Z
LAST-MODIFIED:20210528T071110Z
UID:10001955-1622543400-1622547000@pbkik.hu
SUMMARY:Magán- és kockázati tőkebefektetések - lehetőségek KKV-knak és start-upoknak Japánban 
DESCRIPTION:Az EU-Japán KKV Központ online tájékoztató rendezvényt szervez\, melyen az EU-s vállalkozások megismerhetik a japán befektetői csoportokat és finanszírozási opciókat\, felmérve a piacralépési lehetőségeiket. \n \nA részvételhez először regisztrálnia kell a következő címen: \nhttp://www.eubusinessinjapan.eu/user/register \nMiután megerősíti regisztrációját a kapott e-mailben\, be tud jelentkezni a rendezvényre: \nIdőpont: 2021. június 01.  10.30 \nRegisztráció: Magán- és kockázati tőkebefektetések – lehetőségek KKV-knak és start-upoknak Japánban  \nTémák: \n\nA startupok és a kockázati tőke szerepe\nA japán kockázatitőke-piac jellemzői\nA japán közösségi finanszírozás jellemzői\nA kockázati tőke és a magántőke legfontosabb szereplői
URL:https://pbkik.hu/esemeny/magan-es-kockazati-tokebefektetesek-lehetosegek-kkv-knak-es-start-upoknak-japanban/
LOCATION:Online
END:VEVENT
BEGIN:VEVENT
DTSTART;TZID=Europe/Helsinki:20210609T080000
DTEND;TZID=Europe/Helsinki:20210609T160000
DTSTAMP:20260423T071110
CREATED:20210204T185941Z
LAST-MODIFIED:20210224T092038Z
UID:10001873-1623225600-1623254400@pbkik.hu
SUMMARY:Élelmiszeripari beszállítói fórum - Food eirEEN 2021
DESCRIPTION:Az Enterprise Europe Network szervezésében megvalósuló üzletember találkozón várnak minden élelmiszeripari gyártót\, forgalmazót\, nagykereskedőt. \n \nEgyedülálló lehetőség személyes virtuális üzleti találkozókon való részvételre Írországból és az EU-ból származó vezető élelmiszeripari vállalkozások beszerzőivel. A rendezvény célja az élelmiszeripar és a kapcsolódó szakterületek vállalkozóinak nemzetközi üzleti együttműködésének elősegítse\, teret adva a legújabb fejlesztések és innovatív megoldások bemutatására. \nA részvétel díjmentes\, de előzetes regisztrációhoz kötött. \nREGISZTRÁCIÓ\nAz érdeklődőknek lehetősége van – díjmentesen – egy profil létrehozására és konkrét üzleti ajánlatok feltöltésére a rendezvény honlapján\, ahol megtekinthetik a többi résztvevő adatlapját is. Javasoljuk a résztvevőknek\,  hogy részletes cégprofilt és együttműködési ajánlatokat készítsenek a számukra megfelelő partner megtalálása érdekében!
URL:https://pbkik.hu/esemeny/elelmiszeripari-beszallitoi-forum-food-eireen-2021/
LOCATION:Online
ATTACH;FMTTYPE=image/png:https://pbkik.hu/wp-content/uploads/2021/02/food-eireen.png
END:VEVENT
BEGIN:VEVENT
DTSTART;TZID=Europe/Helsinki:20210610T103000
DTEND;TZID=Europe/Helsinki:20210610T113000
DTSTAMP:20260423T071110
CREATED:20210528T072348Z
LAST-MODIFIED:20210528T073716Z
UID:10002362-1623321000-1623324600@pbkik.hu
SUMMARY:Az élelmiszer és italtermékek Japánba történő exportálásának feltételei
DESCRIPTION:Az EU-Japán KKV Központ online tájékoztató rendezvényt szervez\, melyen az EU-s vállalkozások megismerhetik a japán piac élemiszeripari termékekre vonatkozó előírásait és a piacralépés feltételeit. \n \nA részvételhez először regisztrálnia kell a következő címen: \nhttp://www.eubusinessinjapan.eu/user/register \nMiután megerősíti regisztrációját a kapott e-mailben\, be tud jelentkezni a rendezvényre: \nIdőpont: 2021. június 10.  10.30 \nRegisztráció: Az élelmiszer és italtermékek Japánba történő exportálásának feltételei \nTémák:  \n\nA japán étel- és italszabályozás jellemzői\nAz EU által jóváhagyott laboratóriumok szolgáltatásai a KKV-k megfelelőségi értékelésében\nGyakorlati tapasztalatok és esettanulmányok
URL:https://pbkik.hu/esemeny/az-elelmiszer-es-italtermekek-japanba-torteno-exportalasanak-feltetelei/
LOCATION:Online
END:VEVENT
BEGIN:VEVENT
DTSTART;TZID=Europe/Helsinki:20210617T093000
DTEND;TZID=Europe/Helsinki:20210618T110000
DTSTAMP:20260423T071110
CREATED:20210601T105947Z
LAST-MODIFIED:20210615T093050Z
UID:10002368-1623922200-1624014000@pbkik.hu
SUMMARY:Digitális transzformáció\, Ipar4.0 – ismerje meg a lehetőségeket
DESCRIPTION:Vajon az Ön vállalkozása számára mit tartogat a digitalizáció? Ismerje meg lehetőségeit Digital Coach projekt keretében személyesen\, kézzel foghatóan is\, a BME Ipar4.0 Technológiai Központ\, és a pécsi Z Elektronika Kft. tolmácsolásában. \n \n \nA digitális transzformáció már a mindennapjaink része. Ha a magánéletünkben már rendszeresen\, lassan rutinosan használjuk\, miért ne aknáznánk ki a benne rejlő lehetőségeket vállalkozásunk esetében is? Az Ipar4.0 kapcsán mindenkinek a feldolgozóipar\, nagy gyártóüzemek jutnak eszébe. Pedig a technológiai megoldások szinte valamennyi vállalkozás számára hozhatnak előnyöket. \nMindezt most A Digital Coach projekt keretében személyesen\, kézzel foghatóan is megismerhetik az érdeklődők. \nAz Ipar4.0-hoz és a feldolgozóipar digitális átalakulásához kapcsolódik a teljesen új gyári és hozzáadott értékű struktúrák víziója\, amely az „intelligens” informatikai\, kommunikációs technológiai robotikai megoldások széleskörű használatán alapul. Az Ipar 4.0 azonban nem csak a technikai újítások összessége. A nagymértékben hálózatba kötött\, rugalmas és testreszabható gyártási folyamatok megváltoztatják a munkafolyamatokat és a munka tartalmát. Ez új képesítési követelményeket eredményez a gyakorlati tapasztalattal rendelkező szakmunkások és mérnökök számára\, valamint új képzési profilokat eredményez. Figyelembe kell venni a munka tervezését\, a készségfejlesztést és a megelőzést. \nAz Erasmus+ Program keretében\, a Digital Coach projekt olyan megoldásokat dolgoz ki\, amelyek segítik a vállalkozásokat és szervezeteket a digitalizációhoz szükséges készségek és stratégiák fejlesztésében. A cél egy „Digitális edző” (digital coach) feladatprofiljának létrehozása\, aki lehet a vállalkozás saját munkatársa\, vagy külső szakértő. Ennek elérésére a képzési program is készül a digitális edzők számára. \nA vállalkozások aktuális helyzetét a bochumi egyetem ADAPTION nevű értékelő módszertanával mérik fel. A modell összehasonlítja a célt és a tényleges állapotot\, így megmutatja az erősségeket és a további fejlesztési igényeket a vállalatok digitális kompetenciáinak tekintetében. Segít a vállalatok kompetencia-fejlesztési programjainak és egyéni jövőbeli stratégiáinak kidolgozásában is. A jövőben a digitális edző támogathatja a vállalkozásokat a digitális üzleti modellek kidolgozásában és megvalósításában. \nA két napos workshop keretében az érdeklődők betekintést nyerhetnek az ADAPTION módszertan használatába\, valamint meglátogathatják a BME Ipar4.0 Technológiai Központot és a pécsi Z Elektronika Kft. üzemét\, ahol már jelen van a jövő. \nPROGRAMTERV\n2021.06.17. – BME Ipar4.0 Technológiai Központ\, Budapest\n9:00 – 9:30 regisztráció \n9:30 – 10:00 Köszöntő\, résztvevők bemutatkozása \n10:00 – 10:30 A Digital Coach projekt: kihívások és központi kérdések – Prof. Dr. Martin Kröll – Ruhr Universität Bochum\, Munkatudományi Intézet \n10:30 – 11:30 Az ADAPTION modell: bemutatás és gyakorlati alkalmazás – Esra Öztürk\, Ruhr Universität Bochum\, Tanuló és kutató üzem \n11:30 – 12:00 Kávészünet \n12:00 – 13:00 A tanuló és oktató üzem koncepciója: a digitális kompetenciák fejlesztését segítő helyszín – Esra Öztürk \n13:00 – 14:00 Ebédszünet \n14:00 – 15:30 Tanulóüzemek Magyarországon – jó gyakorlatok: bemutatkozik a BME Ipar 4.0 Technológiai Központ \n15:30 – 16:00 Zárás \n  \n2021.06.18. – Z Elektronika Kft.\, Pécs\n9:30 – 11:00 Digitális transzformáció és Ipar 4.0 – jelenlegi helyzet\, jó gyakorlatok\, céges példák \nSerény András – Z Elektronika Kft. \n  \nA részvétel díjmentes\, de regisztrációhoz kötött. \nA június 17-i programra a Pécs-Baranyai Kereskedelmi és Iparkamara buszos utazást biztosít az érdeklődők számára. \nA férőhelyek száma korlátozott\, a jelentkezéseket a beérkezés sorrendjében tudjuk fogadni. \nAz érvényben lévő jogszabályok alapján\, a workshop beltéri jellege miatt\, védettségi igazolvány hiányában a program nem látogatható. \nA rendezvényre a jelentkezés lezárul. Kérjük\, vegye fel a kapcsolatot a szervezőkkel.
URL:https://pbkik.hu/esemeny/digitalis-transzformacio-ipar4-0-ismerje-meg-a-lehetosegeket/
LOCATION:Majorossy Imre utca 36.\, Pécs\, 7625\, Magyarország
END:VEVENT
BEGIN:VEVENT
DTSTART;TZID=Europe/Helsinki:20210622T103000
DTEND;TZID=Europe/Helsinki:20210622T113000
DTSTAMP:20260423T071110
CREATED:20210528T073759Z
LAST-MODIFIED:20210528T074400Z
UID:10002363-1624357800-1624361400@pbkik.hu
SUMMARY:E-egészségügy és telemedicina Japánban
DESCRIPTION:Az EU-Japán KKV Központ online tájékoztató rendezvényt szervez\, melyen az EU-s vállalkozások megismerhetik a japán e-egészségügy és telemedicina területén rejlő lehetőségeket. \n \nA részvételhez először regisztrálnia kell a következő címen: \nhttp://www.eubusinessinjapan.eu/user/register \nMiután megerősíti regisztrációját a kapott e-mailben\, be tud jelentkezni a rendezvényre: \nIdőpont: 2021. június 22.  10.30 \nRegisztráció: E-egészségügy és telemedicina Japánban \nTémák:  \n\nAz egészségügyi piac sajátosságai\nA japán orvostechnológia és IT szektor jövője\nAz orvosi informatikával foglalkozó alkalmazások és vállalatok\nAz uniós KKV-k lehetőségei\, piacralépés\nHogyan importálhatunk orvosi felszerelést Japánba
URL:https://pbkik.hu/esemeny/e-egeszsegugy-es-telemedicina-japanban/
LOCATION:Online
END:VEVENT
BEGIN:VEVENT
DTSTART;TZID=Europe/Helsinki:20210625T140000
DTEND;TZID=Europe/Helsinki:20210625T170000
DTSTAMP:20260423T071110
CREATED:20210613T115808Z
LAST-MODIFIED:20211013T120412Z
UID:10002388-1624629600-1624640400@pbkik.hu
SUMMARY:Kulturális intézmények\, mint együttműködő partnerek\, kreatív projektekben
DESCRIPTION:A Pécs-Baranyai Kereskdelmi és Iparkamara a SACHE – Smart Accelerators of Cultural Heritage Entrepreneurship című projektjének keretében tájékoztató rendezvényt szervez a helyi kulturális és kreatívipari szervezetek számára. \n \nA SACHE projekt célja\, hogy megtalálja a kreatív és kapcsolódó szektorok\, valamint azok szereplőinek együttműködését erősítő tényezőket és megalapozza konkrét fejlesztések\, közös programok\, hosszútávon pedig egy fenntartható értéklánc kialakítását kapcsoaltépítési\, információs rendezvények\, valamint képzések szervezésével. \nA Pécs-Baranyai Kereskedelmi és Iparkamara 2021. Június 25-én (péntek) 14 órától tárlatvezetéssel egybekötött tjékoztató rendezvényt szervez a Modern Magyar Képtárban\, melyre Önt is örömmel várjuk! \nThis form is currently closed for submissions.
URL:https://pbkik.hu/esemeny/kulturalis-intezmenyek-mint-eyuttmukodo-partnerek-kreativ-projektekben/
END:VEVENT
BEGIN:VEVENT
DTSTART;TZID=Europe/Helsinki:20210628T140000
DTEND;TZID=Europe/Helsinki:20210628T170000
DTSTAMP:20260423T071110
CREATED:20210613T120437Z
LAST-MODIFIED:20211013T120808Z
UID:10002390-1624888800-1624899600@pbkik.hu
SUMMARY:Kreatív ipari és high-tech cégek\, mint együttműködő partnerek kreatív projektekben
DESCRIPTION:A Pécs-Baranyai Kereskdelmi és Iparkamara a SACHE – Smart Accelerators of Cultural Heritage Entrepreneurship című projektjének keretében tájékoztató rendezvényt szervez a helyi kreatívipari és IT vállalkozások számára. \n \nA SACHE projekt célja\, hogy megtalálja a kreatív és kapcsolódó szektorok\, valamint azok szereplőinek együttműködését erősítő tényezőket és megalapozza konkrét fejlesztések\, közös programok\, hosszútávon pedig egy fenntartható értéklánc kialakítását kapcsoaltépítési\, információs rendezvények\, valamint képzések szervezésével. \nA Pécs-Baranyai Kereskedelmi és Iparkamara 2021. Június 28-án (hétfő) 14 órától tárlatvezetéssel egybekötött tájékoztató rendezvényt szervez a Modern Magyar Képtárban\, melyre Önt is örömmel várjuk! \nThis form is currently closed for submissions.
URL:https://pbkik.hu/esemeny/kreativ-ipari-es-high-tech-cegek-mint-egyuttmukodo-partnerek-kreativ-projektekben/
END:VEVENT
BEGIN:VEVENT
DTSTART;TZID=Europe/Helsinki:20210630T150000
DTEND;TZID=Europe/Helsinki:20210630T190000
DTSTAMP:20260423T071110
CREATED:20210613T075316Z
LAST-MODIFIED:20211013T080911Z
UID:10002386-1625065200-1625079600@pbkik.hu
SUMMARY:PITCHING EVENT - Emlékezetes előadások kreatív üzleti ötletek megvalósításához
DESCRIPTION:A Pécs-Baranyai Kereskdelmi és Iparkamara a SACHE – Smart Accelerators of Cultural Heritage Entrepreneurship című projektjének keretében bemutatkozó rendezvényt szervez\, ahol a helyi kreatívipari és high-tech cégek mutatkozhatnak be. \n \nA SACHE projekt célja\, hogy megtalálja a kreatív és kapcsolódó szektorok\, valamint azok szereplőinek együttműködését erősítő tényezőket és megalapozza konkrét fejlesztések\, közös programok\, hosszútávon pedig egy fenntartható értéklánc kialakítását kapcsoaltépítési\, információs rendezvények\, valamint képzések szervezésével. \nEnnek részeként a Pécs-Baranyai Kereskedelmi és Iparkamara 2021. Június 30-án (szerda) 15 órától bemutatkozó rendezvényt szervez a Modern Magyar Képtárban\, ahol a helyi kreatívipari és high-tech cégek mutatkozhatnak be\, melyre Önt is örömmel várjuk! \nA rendezvény során a résztvevők olyan vállalkozásokat ismerhetnek meg\, melyekkel az együttműködés lehetővé teheti egy workshop\, termelői piac\, de akár egy kézművesvásár\, koncert vagy fesztivál megvalósítását és hosszútávú partnerséget. \nA rendezvény előzetes regisztrációhoz kötött\, jelentkezésüket a pbkik@pbkik.hu e-mail-címre várjuk\, legkésőbb 2021. június 21-ig\,
URL:https://pbkik.hu/esemeny/pitching-event-emlekezetes-eloadasok-kreativ-uzleti-otletek-megvalositasahoz/
LOCATION:Majorossy Imre utca 36.\, Pécs\, 7625\, Magyarország
END:VEVENT
END:VCALENDAR