BEGIN:VCALENDAR
VERSION:2.0
PRODID:-//Pécs-Baranyai Kereskedelmi és Iparkamara - ECPv6.15.20//NONSGML v1.0//EN
CALSCALE:GREGORIAN
METHOD:PUBLISH
X-ORIGINAL-URL:https://pbkik.hu
X-WR-CALDESC:Események Pécs-Baranyai Kereskedelmi és Iparkamara
REFRESH-INTERVAL;VALUE=DURATION:PT1H
X-Robots-Tag:noindex
X-PUBLISHED-TTL:PT1H
BEGIN:VTIMEZONE
TZID:Europe/Helsinki
BEGIN:DAYLIGHT
TZOFFSETFROM:+0200
TZOFFSETTO:+0300
TZNAME:EEST
DTSTART:20210328T010000
END:DAYLIGHT
BEGIN:STANDARD
TZOFFSETFROM:+0300
TZOFFSETTO:+0200
TZNAME:EET
DTSTART:20211031T010000
END:STANDARD
BEGIN:DAYLIGHT
TZOFFSETFROM:+0200
TZOFFSETTO:+0300
TZNAME:EEST
DTSTART:20220327T010000
END:DAYLIGHT
BEGIN:STANDARD
TZOFFSETFROM:+0300
TZOFFSETTO:+0200
TZNAME:EET
DTSTART:20221030T010000
END:STANDARD
BEGIN:DAYLIGHT
TZOFFSETFROM:+0200
TZOFFSETTO:+0300
TZNAME:EEST
DTSTART:20230326T010000
END:DAYLIGHT
BEGIN:STANDARD
TZOFFSETFROM:+0300
TZOFFSETTO:+0200
TZNAME:EET
DTSTART:20231029T010000
END:STANDARD
END:VTIMEZONE
BEGIN:VEVENT
DTSTART;TZID=Europe/Helsinki:20220106T100000
DTEND;TZID=Europe/Helsinki:20220106T110000
DTSTAMP:20260420T025108
CREATED:20220105T084209Z
LAST-MODIFIED:20220105T093645Z
UID:10002597-1641463200-1641466800@pbkik.hu
SUMMARY:(Ön)értékelés - mit nyerhetünk a körforgásos gazdaságból?  (2. fókuszcsoport)
DESCRIPTION:A Circular SMEs Scan Erasmus+ projekt célja\, hogy a digitális korszak innovatív gyakorlatainak támogatásával olyan önátvilágító és tanulási platformot hozzon létre\, amely a KKV-k körforgásos gazdasággal kapcsolatos készségeit-kompetenciáit fejleszti. \n \nA Circular SME Scan Erasmus+ projektben a Dél-Dunántúli Regionális Innovációs Ügynökség Nonprofit Kft. vezetőpartnerként vesz részt és az oktatási anyag és platform minél jobb megvalósítása érdekében online fókuszcsoportos interjúkat tart a hazai KKV-k bevonásával. A találkozók témája az internetre tervezett KKV önértékelő alkalmazással és tananyaggal kapcsolatos elvárások a körforgásos gazdaság témakörében. (A projektről itt (https://circularsmescan.eu/en/home)\, valamint itt (https://ddriu.hu/futo-projektek/) olvashatnak bővebben.) \nA következő fókuszcsoport időpontja 2022. január 6. (csütörtök) 10.00\, melyre várunk minden érdeklődő vállalkozást! \nIdőpont: 2022. január 6. 10:00. \nAz esemény online kerül megrendezésre\, amely az alábbi linken lesz elérhető: \nhttps://global.gotomeeting.com/join/536796149 \n  \nA találkozó kötetlen beszélgetés\, eszmecsere az alábbi kérdéseket érintve: \n\nMilyen nehézségekkel néznek szembe a vállalkozók\, amikor megpróbálnak még körkörösebbé válni?\nMely témákat kell integrálni az önvizsgálati eszközbe? Mi lenne a kiindulópont?\nHogy nézzen ki az önvizsgálat?\nHogyan kell a vállalkozókat tájékoztatni és motiválni a végén?\n\n  \nBővebb információ: \nPazaurek Diána projektmenedzser \npazaurekdiana@ddriu.hu \n 
URL:https://pbkik.hu/esemeny/42026/
LOCATION:Online
ATTACH;FMTTYPE=image/png:https://pbkik.hu/wp-content/uploads/2021/12/Logo-Circular-SME-Scan-transparent.png
END:VEVENT
BEGIN:VEVENT
DTSTART;TZID=Europe/Helsinki:20220114T100000
DTEND;TZID=Europe/Helsinki:20220114T110000
DTSTAMP:20260420T025108
CREATED:20220105T092509Z
LAST-MODIFIED:20220105T093553Z
UID:10002598-1642154400-1642158000@pbkik.hu
SUMMARY:(Ön)értékelés - mit nyerhetünk a körforgásos gazdaságból? (3. fókuszcsoport)
DESCRIPTION:A Circular SMEs Scan Erasmus+ projekt célja\, hogy a digitális korszak innovatív gyakorlatainak támogatásával olyan önátvilágító és tanulási platformot hozzon létre\, amely a KKV-k körforgásos gazdasággal kapcsolatos készségeit-kompetenciáit fejleszti. \n \nA Circular SME Scan Erasmus+ projektben a Dél-Dunántúli Regionális Innovációs Ügynökség Nonprofit Kft. vezetőpartnerként vesz részt és az oktatási anyag és platform minél jobb megvalósítása érdekében online fókuszcsoportos interjúkat tart a hazai KKV-k bevonásával. A találkozók témája az internetre tervezett KKV önértékelő alkalmazással és tananyaggal kapcsolatos elvárások a körforgásos gazdaság témakörében. (A projektről itt (https://circularsmescan.eu/en/home)\, valamint itt (https://ddriu.hu/futo-projektek/) olvashatnak bővebben.) \nA következő fókuszcsoport időpontja 2022. január 14. (péntek) 10.00\, melyre várunk minden érdeklődő vállalkozást! \nIdőpont: 2022. január 14. 10:00. \nAz esemény online kerül megrendezésre\, amely az alábbi linken lesz elérhető: \nhttps://global.gotomeeting.com/join/998885533 \nA találkozó kötetlen beszélgetés\, eszmecsere az alábbi kérdéseket érintve: \n\nMilyen nehézségekkel néznek szembe a vállalkozók\, amikor megpróbálnak még körkörösebbé válni?\nMely témákat kell integrálni az önvizsgálati eszközbe? Mi lenne a kiindulópont?\nHogy nézzen ki az önvizsgálat?\nHogyan kell a vállalkozókat tájékoztatni és motiválni a végén?\n\n  \nBővebb információ: \nPazaurek Diána projektmenedzser \npazaurekdiana@ddriu.hu
URL:https://pbkik.hu/esemeny/onertekeles-mit-nyerhetunk-a-korforgasos-gazdasagbol-3-fokuszcsoport/
LOCATION:Online
ATTACH;FMTTYPE=image/png:https://pbkik.hu/wp-content/uploads/2021/12/Logo-Circular-SME-Scan-transparent.png
END:VEVENT
BEGIN:VEVENT
DTSTART;TZID=Europe/Helsinki:20220130T080000
DTEND;TZID=Europe/Helsinki:20220201T170000
DTSTAMP:20260420T025108
CREATED:20211216T105026Z
LAST-MODIFIED:20211216T110722Z
UID:10002592-1643529600-1643734800@pbkik.hu
SUMMARY:EU FashionMatch Amsterdam 11.0 – Online
DESCRIPTION:Csatlakozzon az online megrendezésre kerülő EU FashionMatch 11.0 kiállítás és üzletember találkozóhoz! A rendezvényen alkalmuk nyílik a világ minden részéről csatlakozó – divat-\, textil-\, és cipőipari – cégek és potenciális üzleti partnerek megismerésére. \nMinden januárban Amszterdamra figyel a divat világa\, ahol a Divat Hét keretében szervez támogatott nemzetközi üzletember találkozót az Enterprise Europe Network hálózata. A Modefabriek kiállításra érkezők január 23-24-én élőben is végigjárhatják a vevők\, vállalatok\, tervezők\, beszállítók\, gyártók\, szolgáltatók\, szakértők és befektetők standjait a világ számos országából. \nA kiállításhoz kapcsolódóan január 30-tól február 1-ig tartó FashionMatch 11.0 nemzetközi online üzletember találkozón utazási és szállás költségektől megkímélve vehetnek részt a hazai vállalkozások\, mivel az üzleti tárgyalások és érdekes szakmai előadások online formában kerülnek lebonyolításra. Lehetőségük van előzetes online tárgyalások foglalására divat-\, és kiegészítő tervezők valamint ezek kivitelezésében közreműködő\, elsősorban gyártó\, termelő vállalkozásokkal. A tárgyalásokra regisztráló partnerek díjmentesen látogathatják a megelőző kiállítást is. \nTovábbi információ a január 23-24-ei kiállításról itt: www.modefabriek.nl \nA január 30-tól február 1-ig tartó online előadásokra és üzleti tárgyalások foglalására ezen a linken van lehetőség: \nREGISZTRÁCIÓ
URL:https://pbkik.hu/esemeny/eu-fashionmatch-amsterdam-11-0-online/
LOCATION:online
ATTACH;FMTTYPE=image/jpeg:https://pbkik.hu/wp-content/uploads/2021/12/fashionmatch-11.jpg
END:VEVENT
END:VCALENDAR