BEGIN:VCALENDAR
VERSION:2.0
PRODID:-//Pécs-Baranyai Kereskedelmi és Iparkamara - ECPv6.15.20//NONSGML v1.0//EN
CALSCALE:GREGORIAN
METHOD:PUBLISH
X-WR-CALNAME:Pécs-Baranyai Kereskedelmi és Iparkamara
X-ORIGINAL-URL:https://pbkik.hu
X-WR-CALDESC:Események Pécs-Baranyai Kereskedelmi és Iparkamara
REFRESH-INTERVAL;VALUE=DURATION:PT1H
X-Robots-Tag:noindex
X-PUBLISHED-TTL:PT1H
BEGIN:VTIMEZONE
TZID:Europe/Helsinki
BEGIN:DAYLIGHT
TZOFFSETFROM:+0200
TZOFFSETTO:+0300
TZNAME:EEST
DTSTART:20200329T010000
END:DAYLIGHT
BEGIN:STANDARD
TZOFFSETFROM:+0300
TZOFFSETTO:+0200
TZNAME:EET
DTSTART:20201025T010000
END:STANDARD
BEGIN:DAYLIGHT
TZOFFSETFROM:+0200
TZOFFSETTO:+0300
TZNAME:EEST
DTSTART:20210328T010000
END:DAYLIGHT
BEGIN:STANDARD
TZOFFSETFROM:+0300
TZOFFSETTO:+0200
TZNAME:EET
DTSTART:20211031T010000
END:STANDARD
BEGIN:DAYLIGHT
TZOFFSETFROM:+0200
TZOFFSETTO:+0300
TZNAME:EEST
DTSTART:20220327T010000
END:DAYLIGHT
BEGIN:STANDARD
TZOFFSETFROM:+0300
TZOFFSETTO:+0200
TZNAME:EET
DTSTART:20221030T010000
END:STANDARD
END:VTIMEZONE
BEGIN:VEVENT
DTSTART;TZID=Europe/Helsinki:20210504T100000
DTEND;TZID=Europe/Helsinki:20210504T120000
DTSTAMP:20260426T050123
CREATED:20210421T131828Z
LAST-MODIFIED:20210421T134205Z
UID:10001920-1620122400-1620129600@pbkik.hu
SUMMARY:Bevezetés a kóser élelmiszerpiac világába - online fóruma
DESCRIPTION:A Tel-Avivi Magyar Nagykövetség 2021. május 4-én online fórumot szervez „Bevezetés a kóser élelmiszerpiac világába” címmel. \nA fórum célja a kóser minősítés körüli tévhitek eloszlatása\, a globális kóser piac bemutatása\, valamint a résztvevők kérdéseinek megválaszolása. \nA program során az egyik szerző által bemutatásra kerül a Nemzeti Agrárkamara által kiadott „A Kóserság előírásai” című kiadvány\, bemutatkozik az European Kosher ügynökség magyarországi vezetője\, valamint a legnagyobb izraeli kiskereskedelmi üzletlánc private label vezetője és egy nemzetközi kóser élelmiszerügynökség ügyvezetője. \nA rendezvény alatt kérdésekre az időkereteken belül lehetőség van minden előadóhoz. \nA konferencián résztvevő cégek számára lehetőség nyílik 2021 folyamán egy izraeli online-B2B találkozóra\, korlátozott termékminta kiszállítást is vállalva\, ahol a legjelentősebb helyi kiskereskedelmi láncok beszerzési vezetőit és kereskedelmi ügynököket hívjuk meg direkt tárgyalásokra. \nA részvétel ingyenes\, de regisztrációhoz kötött! \nKérjük\, küldjenek e-mailt a résztvevő nevével\, elérhetőségeivel és az általa képviselt vállalat megadásával a trade.science.tlv@mfa.gov.hu e-mail címre. \nA tárgy „Konferencia regisztráció” legyen. \n  \nA teljes programot és a részvételhez szükséges linket a regisztrációt követően küldik meg. \nLegkésőbb április 30-ig jelezzék részvételi szándékukat!
URL:https://pbkik.hu/esemeny/bevezetes-a-koser-elelmiszerpiac-vilagaba-online-foruma/
LOCATION:Online
END:VEVENT
BEGIN:VEVENT
DTSTART;TZID=Europe/Helsinki:20210505T100000
DTEND;TZID=Europe/Helsinki:20210505T123000
DTSTAMP:20260426T050123
CREATED:20210423T070415Z
LAST-MODIFIED:20210423T085934Z
UID:10001922-1620208800-1620217800@pbkik.hu
SUMMARY:Hogyan vállalkozzunk Romániában? - online fórum
DESCRIPTION:A rendezvény célja\, hogy tájékoztatást nyújtson a Romániával kapcsolatos piaci ismeretekről\, jogi és adózási környezetről\, az új piacokat kereső és a szomszédos országban már jelenlévő vállalkozások számára. \nA rendezvényen a részvétel díjmentes\, de tekintettel a technikai befogadóképességre\, regisztrációhoz kötött. A jelentkezéseket a beérkezés sorrendjében tudják fogadni!  \nA belépési link a fórum előtti munkanapon kerül megküldésre az előzetes regisztráció alapján.  \nRegisztrációs határidő: 2021. május 4.\, 14:00 óra \nProgram és további információk \nRegisztráció
URL:https://pbkik.hu/esemeny/hogyan-vallalkozzunk-romaniaban/
LOCATION:Majorossy Imre utca 36.\, Pécs\, 7625\, Magyarország
END:VEVENT
BEGIN:VEVENT
DTSTART;TZID=Europe/Helsinki:20210513T090000
DTEND;TZID=Europe/Helsinki:20210513T110000
DTSTAMP:20260426T050123
CREATED:20210416T093906Z
LAST-MODIFIED:20210416T113526Z
UID:10002314-1620896400-1620903600@pbkik.hu
SUMMARY:Üzleti lehetőségek Tajvanon - webinárium
DESCRIPTION:A Magyar Kereskedelmi és Iparkamara és tajvani partnere\, a Chinese International Economic Cooperation Association (CIECA) webináriumot szervez 2021. május 13-án\, melynek fő témái a tajvani üzleti- és együttműködési lehetőségek lesznek. A rendezvény keretében kerül sor a Magyar-Tajvani Közös Üzleti Tanács ülése 14. ülésére is. \nA konferencia angol nyelven zajlik\, tolmácsolást nem tudnak biztosítani! \nPROGRAM\n\n\n\n9.00 – 9.20\nKöszöntők \nDr. Parragh László\, a Magyar Kereskedelmi és Iparkamara elnöke (felkérés alatt)\nFrank Liu\, a Tajvani-Magyar Gazdasági Együttműködési Tanács elnöke\, a Chi Fu Investments Holdings Group vezérigazgatója\nLőrincz Dániel\, a Tajpeji Magyar Kereskedelmi Iroda vezetője (felkérés alatt)\nShih-chung Liu\, a Budapesti Tajpeji Képviseleti iroda vezetője\nA Tajvani Külkereskedelmi Hivatal (MOEA) képviselője (felkérés alatt) \n\n\n\n9.20– 9.35\nA Magyar Kereskedelmi és Iparkamara tevékenysége \nTényiné Stark Mária\, a Magyar Kereskedelmi és Iparkamara nemzetközi igazgatója \n\n\n\n9.35– 9.50\nA magyar befektetési környezet \nA Nemzeti Befektetési Ügynökség képviselője (felkérés alatt) \n\n\n\n9.50– 10.05\nTapasztalatok a tajvani piacon \nÜzletkötési tapasztalatok Tajvanon egy magyar cég előadásában (felkérés alatt) \n\n\n\n10.05– 10.20\nA tajvani Minima Technology képviselőjének előadása\n\n\n10.20 – 11.00\nKérdések & válaszok\n\n\n\nA részvétel feltételei \nJelentkezési határidő: 2021. május 3.\, hétfő\, 16.00 óra \nA rendezvényen való részvétel ingyenes\, de előzetes online regisztrációhoz kötött. A csatlakozáshoz szükséges linket és információkat május 5-ét követően fogják továbbítani a résztvevőknek. \nREGISZTRÁCIÓ
URL:https://pbkik.hu/esemeny/uzleti-lehetosegek-tajvanon-webinarium/
LOCATION:Online
ATTACH;FMTTYPE=image/jpeg:https://pbkik.hu/wp-content/uploads/2019/03/mkik_logo_1.jpg
END:VEVENT
BEGIN:VEVENT
DTSTART;VALUE=DATE:20210518
DTEND;VALUE=DATE:20210521
DTSTAMP:20260426T050123
CREATED:20210217T105648Z
LAST-MODIFIED:20210217T111019Z
UID:10002254-1621296000-1621555199@pbkik.hu
SUMMARY:Global Innovation Summit 2021
DESCRIPTION:  \n  \n  \n  \n  \n  \n  \n  \n  \nA Global Innovation Summit keretében a vállalkozások\, kutatóintézetek és szakmai szervezetek megismerhetik a legújabb\, innovatív megoldásokat\, új kapcsolatokat és együttműködéseket alakíthatnak ki\, amik további piaci lehetőségeket biztosíthatnak számukra. \n \nKiemelt témák: \n\nGreen Transition – zöld megoldások\, innovatív fejlesztések\, kutatási és innovációs programok\nPost COVID – a gazdaság fellendítése\, nemzetközi együttműködések a válság után\nDigital Transformation – innovatív ötletek megosztása a digitális és a fenntartható fejlődés érdekében\, EUREKA\n\nA rendezvényen történő részévtel díjmentes\, de előzetes regisztrációhoz kötött: \nREGISZTRÁCIÓ
URL:https://pbkik.hu/esemeny/global-innovation-summit-2021/
LOCATION:Online
ATTACH;FMTTYPE=image/jpeg:https://pbkik.hu/wp-content/uploads/2021/02/gis2021.jpg
END:VEVENT
BEGIN:VEVENT
DTSTART;TZID=Europe/Helsinki:20210520T100000
DTEND;TZID=Europe/Helsinki:20210520T114500
DTSTAMP:20260426T050123
CREATED:20210520T105827Z
LAST-MODIFIED:20210520T112241Z
UID:10001949-1621504800-1621511100@pbkik.hu
SUMMARY:Hongkong\, mint megkerülhetetlen üzleti központ - angol nyelvű webinárium
DESCRIPTION:Az online webináriumot a Hong Kong Trade Development Council közösen szervezi a Federation of Hong Kong Business Assocations Worldwide 18 európai üzleti szövetségével\, köztük a Magyar–Hongkongi Üzleti Szövetséggel. A Federation több mint 11 000 tagból álló 46 egyesületet képvisel a világ 35 országában és régiójában. \nA COVID-19 nemcsak jelentős kihívásokat jelent a világgazdaság számára\, hanem azt is hangsúlyozza\, hogy összehangolt erőfeszítésekre van szükség az együttműködés és az innováció megerősítése érdekében a különböző iparágakban. Elismert hongkongi üzleti vezetők osztják meg meglátásaikat Hongkong üzleti jelentőségéről – mint élénk és dinamikus üzleti központ\, valamint előnyben részesített nemzetközi üzleti platform -\, és bemutatják a Greater Bay Area-ban és Ázsiában kínálkozó üzleti lehetőségeket az európai vállalatok számára. \nAz esemény időpontja:  2021. június 10. (csütörtök) 10:00 – 11:45 (magyar idő szerint) \nA rendezvény nyelve: angol  \nREGISZTRÁCIÓ
URL:https://pbkik.hu/esemeny/hongkong-mint-megkerulhetetlen-uzleti-kozpont-angol-nyelvu-webinarium/
LOCATION:Online
END:VEVENT
BEGIN:VEVENT
DTSTART;TZID=Europe/Helsinki:20210520T130000
DTEND;TZID=Europe/Helsinki:20210520T150000
DTSTAMP:20260426T050123
CREATED:20210512T112828Z
LAST-MODIFIED:20210512T114117Z
UID:10002339-1621515600-1621522800@pbkik.hu
SUMMARY:Legyen jelen Ön is Lengyelország legjelentősebb e-kereskedelmi platformján – bemutatkozik az Allegro.pl
DESCRIPTION:A CED Közép-európai Gazdaságfejlesztési Hálózat Nonprofit Kft. krakkói irodája szervezésében zajló rendezvényen a résztvevők megismerhetik a lengyel e-kereskedelem legújabb trendjeit és az Allegro platform nyújtotta piacra lépési  lehetőségeket. \n \nAz e-kereskedelmi piac intenzív fejlődésével a vállalati értékesítés egyik legmeghatározóbb területévé vált az online értékesítés. \nMiért érdemes a webináriumon részt venni? \n\n\n\n\n\nmegismerheti az Allegro kiemelt ajánlatát a magyar vállalatok számára;\nbemutatásra kerül platformon való megjelenés előnyei;\nismertetjük a lengyel piac e-kereskedelmi trendjeit;\nbemutatjuk az e-kereskedelem promóciós eszközeit.\n\n\n\n\n\nProgramterv\n13:00-13:15   Az e-kereskedelem Lengyelországban – trendek\, perspektívák. \nA CED Közép-európai Gazdaságfejlesztési Hálózat Nonprofit Kft. bemutatkozása. Dr. Wisniewski Anna – irodavezető\, CED Közép-európai Gazdaságfejlesztési Hálózat Nonprofit Kft.\, Krakkó \n13:15–13:45 Allegro.pl platform előnyei\, a „magyar sarok”-ra vonatkozó ajánlat bemutatása\, Katarzyna Rosa – Education and Merchant Development Partner\, Allegro.pl\, Poland \n13:45-14:00 Az e-kereskedelem jogi kérdései\, Marcin Pacholski – HPL Legal \n14:00-14:10 A platform hirdetés marketing tudnivalói\,  Farkas Zoltán\, Education and Merchant Development Partner\, Allegro.pl\, Poland \n14:10-14:30 Kérdések – válaszok \nModerátor: Dr. Wisniewski Anna \nA részvétel előzetes regisztrációhoz kötött. Részvételi szándékát kérjük\, a zsebe.blanka@ced.hu e-mail címen\, legkésőbb 2021. május 18-ig jelezni szíveskedjen. Az eseményre regisztrált résztvevők számára a belépési linket a rendezvényt megelőző napon továbbítják a szervezők. \nA rendezvény nyelve angol.
URL:https://pbkik.hu/esemeny/lengyel-piac-allegro-pl/
LOCATION:Online
END:VEVENT
BEGIN:VEVENT
DTSTART;TZID=Europe/Helsinki:20210525T090000
DTEND;TZID=Europe/Helsinki:20210525T103000
DTSTAMP:20260426T050123
CREATED:20210514T094519Z
LAST-MODIFIED:20210514T100612Z
UID:10002348-1621933200-1621938600@pbkik.hu
SUMMARY:Jogi webinárium és konzultáció  a kínai üzletkötések kapcsán
DESCRIPTION:A Magyar Kereskedelmi és Iparkamara Magyar-Kínai Tagozata „Jogi webinárium és konzultáció a kínai üzletkötések kapcsán” címmel online fórumot szervez 2021. május 25-én. \nAz esemény a Kína iránt érdeklődő vállalkozások számára nyújt tájékoztatást \n\nhogy ellenőrizzük a partnert Kínában?\nmilyen szerződést kössünk?\nhogyan hajthatjuk be a pénzünket?\ncégalapítás Kínában.\n\nA rendezvény hivatalos nyelve a magyar és az angol lesz\, tolmácsolást nem biztosítanak. \nAz előadások alatt a résztvevőknek lehetőségük nyílik kérdések feltételére a platform chat-falán keresztül. \nPROGRAMTERV\n\n\n\n9.00 – 9.05\nMegnyitó beszéd\nWolf Csaba\, alelnök\, MKIK Magyar-Kínai Tagozat\n\n\n9.05 – 9.35\nCégalapítás és adózás Kínában – Globális jogi segítség Budapestről\nWolf Csaba\, A Hegymegi-Barakonyi és Társa – Baker& McKenzie Ügyvédi Iroda képviselője\n\n\n9.35 – 10.05\nMegbízható jogi szolgáltató Csungkingban\nGao Baoyu\, a Duan&Duan Jogi Iroda képviselője\n\n\n10.05 – 10.20\nKérdések és válaszok\n\n\n\nJelentkezési határidő: 2021. május 20.\, csütörtök\, 12.00 óra \nA rendezvényen való részvétel ingyenes\, de előzetes online regisztrációhoz kötött. \nA csatlakozáshoz szükséges linket és információkat 2021. május 21-én küldik meg e-mailen a jelentkezőknek. \nREGISZTRÁCIÓ
URL:https://pbkik.hu/esemeny/jogi-webinarium-es-konzultacio-a-kinai-uzletkotesek-kapcsan/
LOCATION:Online
END:VEVENT
BEGIN:VEVENT
DTSTART;TZID=Europe/Helsinki:20210526T100000
DTEND;TZID=Europe/Helsinki:20210526T113000
DTSTAMP:20260426T050123
CREATED:20210505T112112Z
LAST-MODIFIED:20210505T120714Z
UID:10002333-1622023200-1622028600@pbkik.hu
SUMMARY:Hogyan értékesítsünk sikeresen Franciaországba? - online webinárium
DESCRIPTION:A Magyar-Francia Kereskedelmi és Iparkamara a Coface Hungary Kft. támogatásával webináriumot szervez Hogyan értékesítsünk sikeresen Franciaországba? címmel.\n \nA rendezvény célja\, hogy a francia piac iránt érdeklődő magyar vállalatokkal olyan hasznos szakmai információkat ismertessenek meg\, amelyekkel hozzájárulhatnak franciaországi exporttevékenységük sikerességéhez. \nA rendezvény időpontja: 2021. május 26. (szerda) 10:00-11:30 \n  \nPROGRAM\nA rendezvényt megnyitja és moderálja: Ducrot Ágnes\, igazgató\, Magyar-Francia Kereskedelmi és Iparkamara \n\n\n\n10:00-10:10\nA francia piac általános jellemzőinek bemutatása \nElőadó: Szűcs Mariann és Gölöncsér Balázs Külgazdasági attachék\, Magyarország Nagykövetsége\, Párizs\n\n\n10:10-10:20\nA HEPA és az EEN szerepe a magyar vállalatok exporttevékenységének fejlesztésében \nElőadó: Süveges Mária\, üzletfejlesztési és vállalati igazgató\, HEPA\n\n\n10:20-10:40\nMilyen módszerekkel tudjuk leellenőrizni francia partnereink üzleti és pénzügyi megbízhatóságát? \nElőadó: Benyóczky Zsolt\, Channel Sales Manager\, Coface Hungary Kft\n\n\n10:40-10:50\nMilyen jogi feltételekre figyeljünk a franciaországi partnerekkel való együttműködés során? \nElőadó: Olivier DUHAMEAU\, franciaországi ügyvéd – munka-kereskedelem-vállalati jog\n\n\n10:50-11:00\nSzámlázás\, pénzügyi tranzakciók és hazai adózás sajátosságai a francia üzleti partnerrel történő együttműködés során \nElőadó: Keresztes Fanni\, adótanácsadó\, Fix Professional Könyvelő Iroda\n\n\n11:00-11:10\nA megfelelő termékdesign és vállalati arculat fontossága a franciaországi értékesítéshez \nElőadó: Robák Dávid\, tulajdonos Next Ship Kft. marketing design ügynökség\n\n\n11:10-11:20\nHogyan találjuk meg az ideális üzleti partnert Franciaországban? \nElőadó: Ducrot Ágnes\, igazgató és Gyulai-Kertesi Edina\, kereskedelmi vezető\, Magyar-Francia Kereskedelmi és Iparkamara\n\n\n11:20-11:30\nKérdések & Válaszok\n\n\n\nA webinárium után\, 14-17 óra között a résztvevőknek lehetőségük lesz egy 15 perces személyes konzultációt kérni az előadóktól. \nIgényüket az online regisztrációs űrlapon tudják jelezni. \nA részvétel az előadáson és a konzultáción is ingyenes\, de előzetes regisztrációhoz kötött. Az előadáshoz és a konzultációhoz szükséges Zoom csatlakozási linket és információkat az előadás előtt egy nappal fogják e-mailen elküldeni a résztvevőknek. \nRészvételi szándékukat legkésőbb 2021. május 21-ig tudják jelezni az alábbi linken elérhető regisztrációs űrlap kitöltésével. \nREGISZTRÁCIÓ\nA rendezvénytől függetlenül is lehetőség van tárgyalni Gyulai-Kertesi Edinával\, a Magyar-Francia Kereskedelmi és Iparkamara kereskedelmi vezetőjével az ITT&MOST üzleti partnerkeresési platformon keresztül. Tárgyalásra jelölésre\, a platformra való regisztráció után ezen a linken van mód: ittesmost.b2match.io/participants/411
URL:https://pbkik.hu/esemeny/hogyan-ertekesitsunk-sikeresen-franciaorszagba/
LOCATION:Online – Zoom
ATTACH;FMTTYPE=image/png:https://pbkik.hu/wp-content/uploads/2021/05/csm_Webinar-France.png
ORGANIZER;CN="Magyar-Francia Kereskedelmi %C3%A9s Iparkamara":MAILTO:info@ccifrance-hongrie.org
END:VEVENT
BEGIN:VEVENT
DTSTART;TZID=Europe/Helsinki:20210526T140000
DTEND;TZID=Europe/Helsinki:20210526T150000
DTSTAMP:20260426T050123
CREATED:20210415T081725Z
LAST-MODIFIED:20210415T083036Z
UID:10002312-1622037600-1622041200@pbkik.hu
SUMMARY:Ausztria\, mint gazdasági székhely – Lehetőségek magyar vállalatok számára
DESCRIPTION:Az Osztrák Nagykövetség Kereskedelmi Osztálya (Advantage Austria)\, az ABA – Invest in Austria és az ecoplus – Invest in Lower Austria közös ingyenes\, online rendezvényt szervez melynek témái: ismerje meg Ausztria és legnagyobb tartománya\, Alsó-Ausztria előnyeit\, tudjon meg többet arról\, hogyan kell vállalkozást indítani Ausztriában\, szerezzen betekintést és tippeket olyan vállalkozóktól\, akik már megkezdték üzleti tevékenységüket Ausztriában. \nIdőpont: 2021. május 26.\, 14:00-15:00 \nProgram\n\nKöszöntő\nJürgen Schreder\, kereskedelmi tanácsos\, Osztrák Nagykövetség Kereskedelmi Osztálya\nMiért éppen Ausztria? Az Ön lehetőségei\nBirgit Reiter-Braunwieser és Berényi Ferenc\, ABA – Invest in Austria\nGyakorlati tapasztalatok\nKiszely László\, az AbilityMatrix GmbH alapítója és ügyvezetője\nAlsó-Ausztria – nagyszerű régió a szolgáltatás-orientált és innovatív vállalatok számára\nIng. Slavisa Milanovic\, ecoplus\nGyakorlati tapasztalatok Alsó-Ausztriából\nDI Dr.techn. Marion Ettenauer\, OrthoSera GmbH\, Management Assistant valamint\nBischof Balázs\, Art Innova GmbH\, Managing Director\nCégalapítás Ausztriában? – Nem is bonyolult. Az üzleti tevékenység jogi és adózási szempontjai\nDr. Gálffy Tibor\, Gálffy & Vecsey Ügyvédi Iroda valamint\nMag. Ladislaus Lonyai\, Garantie Adótanácsadó Iroda\n\nA rendezvény során lehetőség nyílik kérdéseket is feltenni az előadóknak\, illetve konkrét üzleti lehetőségek megvitatására. \nA rendezvény nyelve: magyar és angol (szinkrontolmácsolással) \nA rendezvény ingyenes\, de regisztrációhoz kötött: Részvételi szándékát a budapest@advantageaustria.org címen jelezheti\, 2021. május 25-ig. \nA regisztráltaknak a rendezvény előtt egy Zoom-linket küldenek\, melyen keresztül részt vehetnek az előadáson. \nTovábbi információ:  https://www.advantageaustria.org/hu/events/Ausztria__mint_gazdasagi_szekhely.hu.html \n 
URL:https://pbkik.hu/esemeny/ausztria-mint-gazdasagi-szekhely-lehetosegek-magyar-vallalatok-szamara/
LOCATION:Online
END:VEVENT
END:VCALENDAR