BEGIN:VCALENDAR
VERSION:2.0
PRODID:-//Pécs-Baranyai Kereskedelmi és Iparkamara - ECPv6.15.20//NONSGML v1.0//EN
CALSCALE:GREGORIAN
METHOD:PUBLISH
X-ORIGINAL-URL:https://pbkik.hu
X-WR-CALDESC:Események Pécs-Baranyai Kereskedelmi és Iparkamara
REFRESH-INTERVAL;VALUE=DURATION:PT1H
X-Robots-Tag:noindex
X-PUBLISHED-TTL:PT1H
BEGIN:VTIMEZONE
TZID:Europe/Helsinki
BEGIN:DAYLIGHT
TZOFFSETFROM:+0200
TZOFFSETTO:+0300
TZNAME:EEST
DTSTART:20200329T010000
END:DAYLIGHT
BEGIN:STANDARD
TZOFFSETFROM:+0300
TZOFFSETTO:+0200
TZNAME:EET
DTSTART:20201025T010000
END:STANDARD
BEGIN:DAYLIGHT
TZOFFSETFROM:+0200
TZOFFSETTO:+0300
TZNAME:EEST
DTSTART:20210328T010000
END:DAYLIGHT
BEGIN:STANDARD
TZOFFSETFROM:+0300
TZOFFSETTO:+0200
TZNAME:EET
DTSTART:20211031T010000
END:STANDARD
BEGIN:DAYLIGHT
TZOFFSETFROM:+0200
TZOFFSETTO:+0300
TZNAME:EEST
DTSTART:20220327T010000
END:DAYLIGHT
BEGIN:STANDARD
TZOFFSETFROM:+0300
TZOFFSETTO:+0200
TZNAME:EET
DTSTART:20221030T010000
END:STANDARD
END:VTIMEZONE
BEGIN:VEVENT
DTSTART;TZID=Europe/Helsinki:20210601T103000
DTEND;TZID=Europe/Helsinki:20210601T113000
DTSTAMP:20260425T135114
CREATED:20210528T064419Z
LAST-MODIFIED:20210528T071110Z
UID:10001955-1622543400-1622547000@pbkik.hu
SUMMARY:Magán- és kockázati tőkebefektetések - lehetőségek KKV-knak és start-upoknak Japánban 
DESCRIPTION:Az EU-Japán KKV Központ online tájékoztató rendezvényt szervez\, melyen az EU-s vállalkozások megismerhetik a japán befektetői csoportokat és finanszírozási opciókat\, felmérve a piacralépési lehetőségeiket. \n \nA részvételhez először regisztrálnia kell a következő címen: \nhttp://www.eubusinessinjapan.eu/user/register \nMiután megerősíti regisztrációját a kapott e-mailben\, be tud jelentkezni a rendezvényre: \nIdőpont: 2021. június 01.  10.30 \nRegisztráció: Magán- és kockázati tőkebefektetések – lehetőségek KKV-knak és start-upoknak Japánban  \nTémák: \n\nA startupok és a kockázati tőke szerepe\nA japán kockázatitőke-piac jellemzői\nA japán közösségi finanszírozás jellemzői\nA kockázati tőke és a magántőke legfontosabb szereplői
URL:https://pbkik.hu/esemeny/magan-es-kockazati-tokebefektetesek-lehetosegek-kkv-knak-es-start-upoknak-japanban/
LOCATION:Online
END:VEVENT
BEGIN:VEVENT
DTSTART;TZID=Europe/Helsinki:20210608T100000
DTEND;TZID=Europe/Helsinki:20210608T113000
DTSTAMP:20260425T135114
CREATED:20210528T064614Z
LAST-MODIFIED:20210531T082007Z
UID:10001958-1623146400-1623151800@pbkik.hu
SUMMARY:Bevezetés a norvég alkoholimport szabályrendszerébe - üzleti lehetőségek magyar vállalkozások részére
DESCRIPTION:A magyar Oslói Nagykövetség a Magyar-Norvég Kereskedelmi Kamarával közösen szervezi meg az alábbi online rendezvényt. \nTekintettel a magyar borok\, röviditalok és sörök magas minőségére és ízvilágára meggyőződésünk hogy\, ezen termékeknek helye van a norvég piacon. Azonban a Norvégiába történő alkohol exportra vonatkozó követelmények és folyamatok speciálisak. \nAz online rendezvény időpontja: 2021. június 8. 10:00-11:30 \nA rendezvény angol nyelvű. \nA körülbelül másfél órásra tervezett online esemény keretében a résztvevők első kézből ismerhetik meg az alkohol importjára vonatkozó szabályrendszert\, és nyerhetnek bepillantást a pályázati folyamatokba. Az esemény előadói Alexander Michaelsen\, a Vinmonopolet Franciaország\, Dél-Amerika és Kelet-Európáért felelős termékmenedzsere\, valamint Svein Bognar\, a House of Hungary AS importőr vállalat tulajdonosa. \nProgram és további információk: Meghívó \nREGISZTRÁCIÓ
URL:https://pbkik.hu/esemeny/bevezetes-a-norveg-alkoholimport-szabalyrendszerebe-uzleti-lehetosegek-magyar-vallalkozasok-reszere/
LOCATION:Online
ATTACH;FMTTYPE=image/jpeg:https://pbkik.hu/wp-content/uploads/2021/05/samfunnsansvar-JordtilBord-med-tekst-handskrevet-Miss-Boo-nett.jpg
END:VEVENT
BEGIN:VEVENT
DTSTART;TZID=Europe/Helsinki:20210608T103000
DTEND;TZID=Europe/Helsinki:20210608T113000
DTSTAMP:20260425T135114
CREATED:20210528T070920Z
LAST-MODIFIED:20210528T072315Z
UID:10001959-1623148200-1623151800@pbkik.hu
SUMMARY:Szabványmegfelelés - hogyan szerzünk biotermékeinknek tanúsítványt Japánban?
DESCRIPTION:Az EU-Japán KKV Központ online tájékoztató rendezvényt szervez\, melyen az EU-s vállalkozások megismerhetik a JAS (Ecocert Organic Agriculture certification) tanúsítvány megszerzésének feltételeit és lépéseit. \n \nA részvételhez először regisztrálnia kell a következő címen: \nhttp://www.eubusinessinjapan.eu/user/register \nMiután megerősíti regisztrációját a kapott e-mailben\, be tud jelentkezni a rendezvényre: \nIdőpont: 2021. június 08.  10.30 \nRegisztráció: Szabványmegfelelés – hogyan szerzünk biotermékeinknek tanúsítványt? \nTémák: \n\nJAS organikus tanúsítvány megszerzésére vonatkozó követelmények;\nJAS tanúsítási folyamata;\nKözelmúltbeli rendeletváltozás utáni követelmények\, amelyek kötelezővé tették a JAS tanúsítás alkalmazását az állati eredetű termékekre.
URL:https://pbkik.hu/esemeny/szabvanymegfeleles-hogyan-szerzunk-biotermekeinknek-tanusitvanyt-japanban/
LOCATION:Online
END:VEVENT
BEGIN:VEVENT
DTSTART;TZID=Europe/Helsinki:20210609T140000
DTEND;TZID=Europe/Helsinki:20210609T160000
DTSTAMP:20260425T135114
CREATED:20210528T084444Z
LAST-MODIFIED:20210528T090519Z
UID:10002364-1623247200-1623254400@pbkik.hu
SUMMARY:Üzleti lehetőségek a törökországi autó-\, egészség-\, és textilipar területén - online fórum
DESCRIPTION:A Magyar Kereskedelmi és Iparkamara Magyar-Török Tagozata a HEPA Turkey-vel együttműködésben „Üzleti lehetőségek a törökországi autó-\, egészség-\, és textilipar területén” címmel online fórumot szervez 2021. június 9-én 14.00 órától. \nAz esemény a Törökország iránt érdeklődő vállalkozások számára nyújt tájékoztatást az alábbi témákról: \n\na törökországi autóiparról;\na törökországi egészségiparról;\na törökországi textiliparról\, valamint\naz együttműködési lehetőségekről.\n\nAz előadások nyelve az angol lesz\, de magyar szinkrontolmácsolást biztosítunk. \nA megszokottól eltérően\, az egyes előadásokat követően (és nem a rendezvény végén) lesz lehetőség kérdések feltevésére az adott témákkal kapcsolatban. \nProgramterv\nModerátor: Rév András\, elnök\, MKIK Magyar-Török Tagozat \n\n\n\n14.00 – 14.10\nKöszöntők\nRév András\, elnök\, MKIK Magyar-Török Tagozat\nMert Danisger\,  igazgató\, HEPA Turkey\n\n\n14.10 – 14.45\nA törökországi autóipar és üzleti lehetőségek bemutatása\, \nCinar Noyan\, főtitkár\, OYDER (Autóipari Kereskedők Egyesülete)\n\n\n14.45 – 15.20\nEgyüttműködési lehetőségek a törökországi egészségiparban\nAltug Oguz\, igazgatósági tag\, DEIK (Külgazdasági Kapcsolatok Egyesülete) Egészségipari Üzleti Tanácsa\n\n\n15.20 – 15.55\nA törökországi textilipar és üzleti lehetőségek bemutatása\nKerem Gulle\, igazgatósági tag\, ITHIB (Isztambuli Textil- és Nyersanyagexportőrök Szövetsége)\n\n\n\nJelentkezési határidő: 2021. június 8. (kedd) 10.00 óra \nA rendezvényen való részvétel ingyenes\, de előzetes online regisztrációhoz kötött. \nA csatlakozáshoz szükséges linket és információkat 2021. június 8-án délután küldik meg e-mailen a jelentkezőknek. \nREGISZTRÁCIÓ
URL:https://pbkik.hu/esemeny/uzleti-lehetosegek-a-torokorszagi-auto-egeszseg-es-textilipar-teruleten-online-forum/
LOCATION:Online
ATTACH;FMTTYPE=image/jpeg:https://pbkik.hu/wp-content/uploads/2019/03/mkik_logo_1.jpg
END:VEVENT
BEGIN:VEVENT
DTSTART;TZID=Europe/Helsinki:20210616T093000
DTEND;TZID=Europe/Helsinki:20210616T103000
DTSTAMP:20260425T135114
CREATED:20210602T084312Z
LAST-MODIFIED:20210602T085321Z
UID:10002372-1623835800-1623839400@pbkik.hu
SUMMARY:Üzleti lehetőségek Mongóliában - webinárium
DESCRIPTION:A Magyar Kereskedelmi és Iparkamara Magyar-Mongol Tagozata webináriumot szervez\, melynek fő témái a mongol üzleti- és együttműködési lehetőségek lesznek.  A rendezvény előadói az MKIK mongol partnere\, illetve a magyar külképviselet külgazdasági attaséja\, akik gyakorlati tanácsokkal tudják segíteni az érdeklődő cégeket. \nA konferencia magyar és angol nyelven zajlik\, a Mongol Kereskedelmi és Iparkamara angol nyelvű előadásához tolmácsolást nem tudnak biztosítani! \nPROGRAMTERV\n\n\n\n9.30-9:40\nKöszöntő beszédek\nHolbok Sándor\, a Magyar-Mongol Tagozat elnöke\nDr. Obrusánszky Borbála\, Magyarország mongóliai nagykövete\nBatbayar Zeneemyadar\, Mongólia magyarországi nagykövete\n\n\n9.40-10:00\nPiacra lépési tudnivalók Mongóliában\nFülöp Zsigmond\, Magyarország Mongóliai Nagykövetségének külgazdasági attaséja\nAnkhbayar Baasandavaa\, Magyarország Mongóliai Nagykövetségének agrárügyekért felelős munkatársa\n\n\n10.00-10.20\nA Mongol Nemzeti Kereskedelmi és Iparkamara szolgáltatásai (MNCCI)\nA Mongol Nemzeti Kereskedelmi és Iparkamara képviselője (felkérés alatt)\n\n\n10.20-10.30\nKérdések és válaszok\n\n\n\nRészvétel feltételei\nJelentkezési határidő: 2021. június 14.\, hétfő\, 16:00 óra \nA férőhelyek száma korlátozott\, ezért a jelentkezéseket azok beérkezésének sorrendjében fogadják el. \nA rendezvényen való részvétel ingyenes\, de előzetes online regisztrációhoz kötött. A csatlakozáshoz szükséges linket és információkat 2021. június 15-én\, kedden küldik meg e-mailen a jelentkezőknek. \nREGISZTRÁCIÓ\n 
URL:https://pbkik.hu/esemeny/uzleti-lehetosegek-mongoliaban-webinarium/
LOCATION:Online
ATTACH;FMTTYPE=image/jpeg:https://pbkik.hu/wp-content/uploads/2019/03/mkik_logo_1.jpg
END:VEVENT
BEGIN:VEVENT
DTSTART;TZID=Europe/Helsinki:20210618T093000
DTEND;TZID=Europe/Helsinki:20210618T110000
DTSTAMP:20260425T135114
CREATED:20210607T113032Z
LAST-MODIFIED:20210607T114041Z
UID:10002385-1624008600-1624014000@pbkik.hu
SUMMARY:A horvát gazdaság aktualitásai\, üzleti lehetőségek a földrengés utáni újjáépítésben - online fórum
DESCRIPTION:A Magyar Kereskedelmi és Iparkamara „A horvát gazdaság aktualitásai\, üzleti lehetőségek a földrengés utáni újjáépítésben” címmel online fórumot szervez 2021. június 18-án 09.30 órától. \nAz esemény a Horvátország iránt érdeklődő vállalkozások számára nyújt tájékoztatást: \n\naz aktuális horvát gazdasági helyzetről\,\na kétoldalú kereskedelmi kapcsolatokról\, valamint\naz üzleti lehetőségekről a horvátországi földrengést követő újjáépítés kapcsán.\n\nAz előadások után a résztvevőknek konzultációra nyílik lehetőségük a külgazdasági attasékkal. \nPROGRAMTERV\nModerátor: Tényiné Stark Mária\, nemzetközi igazgató\, Magyar Kereskedelmi és Iparkamara \n\n\n\n09.30 – 09.40\nKöszöntő\nFasimon Sándor\, nemzetközi ügyekért felelős alelnök\, Magyar Kereskedelmi és Iparkamara\n\n\n09.40 – 10.15\nA horvát gazdaság aktualitásai a koronavírus-járvány tükrében \nA magyar – horvát kereskedelmi kapcsolatok alakulása \nÜzleti lehetőségek a magyar vállalatok számára a horvátországi földrengést követő újjáépítés kapcsán \nBakó Tamás\, külgazdasági attasé\, Magyarország Nagykövetsége\, Horvátország\nRiczkó Botond\, külgazdasági attasé\, Magyarország Nagykövetsége\, Horvátország\n\n\n10.15 – 10.45\nKonzultációs lehetőség a külgazdasági attasékkal\n\n\n\nRészvétel feltételei \nJelentkezési határidő: 2021. június 17.\, csütörtök\, 10.00 óra \nA rendezvényen való részvétel ingyenes\, de előzetes online regisztrációhoz kötött. A csatlakozáshoz szükséges linket és információkat 2021. június 17-én küldik meg e-mailen a jelentkezőknek. \nREGISZTRÁCIÓ
URL:https://pbkik.hu/esemeny/a-horvat-gazdasag-aktualitasai-uzleti-lehetosegek-a-foldrenges-utani-ujjaepitesben-online-forum/
LOCATION:Online
ATTACH;FMTTYPE=image/jpeg:https://pbkik.hu/wp-content/uploads/2019/03/mkik_logo_1.jpg
END:VEVENT
BEGIN:VEVENT
DTSTART;TZID=Europe/Helsinki:20210622T100000
DTEND;TZID=Europe/Helsinki:20210624T170000
DTSTAMP:20260425T135114
CREATED:20210604T064732Z
LAST-MODIFIED:20210604T074712Z
UID:10002380-1624356000-1624554000@pbkik.hu
SUMMARY:Energiahatékonyság az iparban - online konferencia és kooperációs megbeszélések
DESCRIPTION:A Német-Magyar Ipari és Kereskedelmi Kamara (DUIHK) szervezésében 2021. június 22-én kerül megrendezésre az „Energiahatékonyság az iparban Németországban és Magyarországon – fókuszban az automatizálás és a digitalizáció” című online konferencia. \nA rendezvény 2021. június 23-án és 24-én online kooperációs megbeszélésekkel egészül ki a konferencián előadó német vállalatok részvételével\, amelyek üzleti kapcsolatokat keresnek Magyarországon. \n\nPROGRAM\n2021. június 22. – Online konferencia  \n\nA rendezvényen német és magyar szakemberek számolnak be az ipari energiahatékonyság jelenlegi helyzetéről Magyarországon és Németországban\, fókuszba állítva az automatizációt és digitalizácót.\nEmellett olyan német vállalatok mutatják be innovatív termékeiket\, megoldásaikat\, amelyek üzleti kapcsolatokat\, együttműködő partnereket keresnek Magyarországon.\n\nProgram letöltése IDE kattintva érhető el. \n  \n2021. június 23-24. – Online kooperációs megbeszélések \nA konferenciát követő két napon lehetőség nyílik megbeszélések folytatására a német vállalatokkal. Azon magyar érdeklődők számára\, akik érdeklődnek az alábbi német cégekkel való együttműködés iránt\, egyéni online tárgyalásokat szervezünk: \n\nEngelmann Sensor GmbH – elektronikus hő-\, hideg- és vízmennyiség fogyasztást mérő műszerek\, rádió- és kommunikációs rendszerek\nINDYON GmbH – Innovatív intralogisztikai megoldások\, árukövetés és digitalizálás a raktározásban és a gyártásban\nJanitza electronics GmbH – multifunkcionális energiamérő eszközök\, energia monitorig és villamos hálózati mérések\nJ. Schneider Elektrotechnik GmbH – transzformátorok és egyenáramú szünetmentes áramforrások\nPostberg+Co. GmbH – sűrítettlevegő-rendszer optimalizálása\nWeihe GmbH – ORC energiahatékonysági rendszerek\, füstgáz hőhasznosítás\n\nA vállalatok részletes profilja IDE kattintva olvasható. \nA megbeszélésekhez a DUIHK igény esetén tolmácsot biztosít. \n  \nRészvételi feltételek: \n\naz online rendezvényen\, valamint a tárgyalásokon való részvétel az érdeklődők számára ingyenes\, de előzetes regisztrációhoz kötött\,\na rendezvény linkjét a konferencia előtt néhány nappal küldik meg az addig beregisztrált résztvevőknek\,\na német előadások szinkrontolmácsolással hangzanak el\,\na tárgyalásokhoz szükség esetén díjmentesen tolmácsot biztosítanak\,\njelentkezés az online jelentkezési lap kitöltésével lehetséges.\n\nJelentkezési határidő \n\nEgyéni tárgyalásokra: 2021. június 10.\nKonferenciára: 2021. június 17.\n\nREGISZTRÁCIÓ
URL:https://pbkik.hu/esemeny/energiahatekonysag-az-iparban-online-konferencia-es-kooperacios-megbeszelesek/
LOCATION:Online – Zoom
END:VEVENT
BEGIN:VEVENT
DTSTART;TZID=Europe/Helsinki:20210624T100000
DTEND;TZID=Europe/Helsinki:20210624T113000
DTSTAMP:20260425T135114
CREATED:20210617T073158Z
LAST-MODIFIED:20210617T073158Z
UID:10002396-1624528800-1624534200@pbkik.hu
SUMMARY:Ismerje meg Portugália és a portugál nyelvű országok gazdaságát\, üzleti lehetőségeit
DESCRIPTION:Portugália és kitekintéssel a portugál nyelvű országokra\, azok gazdaságát és üzleti lehetőségeit ismerhetik meg a vállalkozók a Fejér Megyei Kereskedelmi és Iparkamara következő online programján. \nA rendezvényen a gazdasági és üzleti lehetőségeken kívül gyakorlati tanácsokat\, információkat kaphatnak a résztvevők a térségben sikeresen piacra lépő magyar vállalkozás tulajdonosától a veszélyekről\, lehetőségekről\, buktatókról. \nIdőpont: 2021. június 24. csütörtök 10.00 óra. \nFő témakörök: \n\nFenti országok gazdaságának aktuális helyzete\, annak jövőbeni kilátásai\,\na koronavírus által gyakorolt hatások\,\nhogyan legyünk sikeresek magyarként az adott piacokon?\nkereskedelmi sajátosságok\, tapasztalatok\, praktikus tanácsok\naz üzleti lehetőségek magyar vállalatok számára az adott országokban\n\nElőadó: Horváthné Négyessy Katalin Magyarország külgazdasági attaséja\, Liszabon – Portugália \nLebonyolítás: Microsoft Teams rendszerrel (A kamara rendelkezik a szoftverrel\, a meghívót kiküldi). A programot 1-1\,5 órás időtartamra tervezik. \nRészvételi feltétel: A programon a részvétel térítésmentes\, de feltétel a kamarai hozzájárulás rendezettsége\, valamint az előzetes online jelentkezés. \nJelentkezés: \nREGISZTRÁCIÓ
URL:https://pbkik.hu/esemeny/ismerje-meg-portugalia-es-a-portugal-nyelvu-orszagok-gazdasagat-uzleti-lehetosegeit/
LOCATION:Online
END:VEVENT
BEGIN:VEVENT
DTSTART;TZID=Europe/Helsinki:20210624T140000
DTEND;TZID=Europe/Helsinki:20210624T160000
DTSTAMP:20260425T135114
CREATED:20210603T135609Z
LAST-MODIFIED:20210609T193539Z
UID:10002376-1624543200-1624550400@pbkik.hu
SUMMARY:Ausztria\, Svájc és Bajoroszág üzleti lehetőségei - Online Üzleti Fórum
DESCRIPTION:A Magyar Kereskedelmi és Iparkamara Magyar-Német Tagozata 2021. június 24-én online konferenciát szervez Ausztria\, Svájc és Bajorország üzleti lehetőségeiről. \n \n  \nA rendezvény célja\, hogy tájékoztassa a hazai kis- és középvállalkozásokat Ausztria\, Svájc\, valamint Bajorország üzleti lehetőségeiről\, továbbá bemutassa az osztrák gazdasági jog és a svájci jogi környezet sajátosságait. \nAz előadások alatt a résztvevőknek lehetőségük nyílik kérdések feltevésére a platform chatfalán keresztül\, melyek a program végén kerülnek megválaszolásra az előadók által. \nA rendezvényen szinkrontolmácsolást biztosítanak. \nPROGRAM\nModerátor: Bódi László\, az MKIK Magyar-Német Tagozatának elnöke \n\n\n\n14.00 – 14.05\nKöszöntő\nBódi László\, az MKIK Magyar-Német Tagozatának elnöke\n\n\n14.05– 14.25\nAusztria üzleti környezete és befektetési lehetőségei\, a gazdaság kilátásai a járvány után \nJürgen Schreder\, kereskedelmi tanácsos\, Osztrák Nagykövetség – Kereskedelmi Osztály (Advantage Austria Budapest)\n\n\n14.25 – 14.45\nSvájci gazdasági helyzetkép és üzleti környezet bemutatása \nPiszter Csaba\, külgazdasági attasé\, Magyarország Nagykövetsége Bern\n\n\n14.45 – 15.05\nA bajorországi régió gazdasági aktualitásainak\, kilátásainak bemutatása a jelenlegi vírushelyzet tükrében\, üzleti lehetőségek a magyar cégeknek \nJanzsó Gergely\, külgazdasági attasé\, Magyarország Müncheni Főkonzulátusa TBC\n\n\n15.05 – 15.20\nOsztrák gazdasági jog magyar vállalkozók számára \nDr. Marc Vecsey\, ügyvéd\, Gálffy & Vecsey Ügyvédi Társulás -Budapest és Bécs\n\n\n15.20 – 15.35\nA svájci jogi környezet sajátosságai vállalkozóknak és befektetőknek \nDr. Nicola Barandun\, alapító és ügyvezető partner\, BARANDUN AG Legal and Tax; Zürich\n\n\n15.35 – 15.45\nKérdések és válaszok\n\n\n\nJelentkezési határidő: 2021. június 23.\, szerda \nA rendezvényen való részvétel ingyenes\, de előzetes online regisztrációhoz kötött. A webinárium a Zoom felületen keresztül valósul meg. \nA csatlakozáshoz szükséges linket és információkat 2021. június 23-án\, szerdán délután küldik meg e-mailen a jelentkezőknek. \nREGISZTRÁCIÓ
URL:https://pbkik.hu/esemeny/ausztria-svajc-es-bajoroszag-uzleti-lehetosegei-online-uzleti-forum/
LOCATION:Online
ATTACH;FMTTYPE=image/jpeg:https://pbkik.hu/wp-content/uploads/2019/03/mkik_logo_1.jpg
END:VEVENT
BEGIN:VEVENT
DTSTART;TZID=Europe/Helsinki:20210630T083000
DTEND;TZID=Europe/Helsinki:20210702T173000
DTSTAMP:20260425T135114
CREATED:20210623T120550Z
LAST-MODIFIED:20210623T122051Z
UID:10002427-1625041800-1625247000@pbkik.hu
SUMMARY:Külgazdasági Értekezlet 2021
DESCRIPTION:Az évente megrendezésre kerülő Külgazdasági Értekezlet keretében 2021. június 30. – július 2. között nyílik lehetőség  20 perces one-to-one (B2B) találkozók keretében kapcsolatfelvételre a magyar külgazdasági diplomatákkal\, akik a külföldi országok piacát és az exportlehetőségeket jól ismerő\, magyar szakemberek. A rendezvény célja\, hogy segítséget nyújtson a kis- és középvállalkozások külpiacra jutásában. \nAz Értekezleten való részvétel a cégek képviselői számára ingyenes\, de regisztrációhoz kötött! \nA férőhelyek száma limitált\, a jelentkezések érkezési sorrendben kerülnek elfogadásra. Cégenként egy regisztrációt tudnak befogadni\, amely maximum 7 db találkozó foglalására ad lehetőséget. A jelenlegi járványügyi helyzet miatt egy cégtől csak egy cégképviselő vehet részt a rendezvényen. \nFelhívjuk figyelmét arra\, hogy a rendezvényen  csak védettségi igazolvánnyal rendelkező személyek vehetnek részt! Kérjük\, hogy védettségi igazolványát feltétlen hozza magával az Értekezletre\, mivel azt a recepción ellenőrzik munkatársaink. \nA rendezvény helyszíne: Budapesti Kongresszusi Központ (1123 Budapest\, Jagelló út 1-3.) \nRegisztrálni 2021. június 29-ig lehet az alábbi honlapon: \nREGISZTRÁCIÓ
URL:https://pbkik.hu/esemeny/kulgazdasagi-ertekezlet-2021/
LOCATION:Budapesti Kongresszusi Központ\, Jagelló út 1-3.\, Budapest\, 1123
ATTACH;FMTTYPE=image/jpeg:https://pbkik.hu/wp-content/uploads/2021/06/kulgazdasagi-ertekezlet-2021.jpg
END:VEVENT
BEGIN:VEVENT
DTSTART;TZID=Europe/Helsinki:20210630T140000
DTEND;TZID=Europe/Helsinki:20210630T150000
DTSTAMP:20260425T135114
CREATED:20210623T105647Z
LAST-MODIFIED:20210623T112532Z
UID:10002426-1625061600-1625065200@pbkik.hu
SUMMARY:Hogyan kereskedjünk Iránnal? - online üzleti szeminárium
DESCRIPTION:A Magyar Kereskedelmi és Iparkamara Közel-Kelet és Észak-Afrika Tagozata\, a Due Diligence Helpdesk és az INSTEX közösen szervez „Hogyan kereskedjünk Iránnal?”  címmel üzleti szemináriumot 2021. június 30-án. \nA rendezvény célja\, hogy tájékoztassa a hazai kis- és középvállalkozásokat az Iránnal való kereskedelem feltételeiről – különös tekintettel az érvényben lévő szankciókra -\, az Európai Bizottság Iránnal való kereskedelmet ösztönző szolgáltatásáról a „Due Diligence Helpdesk on EU Sanctions for EU SMEs dealing with Iran” -ról\, továbbá bemutassa a fizetési tranzakciók menetét\,  illetve a megfelelőségi előírásokat Európa és Irán között. \nAz előadások alatt a résztvevőknek lehetőségük nyílik kérdések feltevésére a platform chatfalán keresztül\, melyek a program végén kerülnek megválaszolásra az előadók által. \nA rendezvényen szinkrontolmácsolást biztosítanak. \nPROGRAM\nModerátor: Tényiné Stark Mária\, az MKIK nemzetközi igazgatója \n\n\n\n14.00 – 14.20\nKöszöntők \nMiklóssy Ferenc TBC\, az MKIK általános alelnöke\, a Hajdú-Bihar Megyei Kereskedelmi és Iparkamara elnöke\, az MKIK Közel-Kelet és Észak-Afrika Tagozat elnöke \nVarga-Haszonits Zoltán\, nagykövet\, Magyarország Nagykövetsége Teherán\n\n\n14.20– 15.00\nAz Európai Bizottság Iránnal való kereskedelmet ösztönző szolgáltatásának – a Due Diligence Helpdesk on EU Sanctions for EU SMEs dealing with Iran – bemutatása \nSimon Cheetham\, csoportvezető\, Due Diligence Helpdesk on EU Sanctions for EU SMEs dealing with Iran \nSczigel Péter\, projektvezető\, Due Diligence Helpdesk on EU Sanctions for EU SMEs dealing with Iran\n\n\n15.00 – 15.25\nFizetési tranzakciók Európa és Irán között\, megfelelőségi előírások \nRosella E. Rubini\, CBO\, Instrument iN Support of Trade Exchanges (INSTEX)\n\n\n15.25 – 15.35\nKérdések és válaszok\n\n\n\nJelentkezési határidő: 2021. június 29.\, kedd \nA rendezvényen való részvétel ingyenes\, de előzetes online regisztrációhoz kötött. A webinárium a Zoom felületen keresztül valósul meg. A csatlakozáshoz szükséges linket és információkat 2021. június 29-én\, kedden délután küldik meg e-mailen a jelentkezőknek. \nREGISZTRÁCIÓ
URL:https://pbkik.hu/esemeny/hogyan-kereskedjunk-irannal-online-uzleti-szeminarium/
LOCATION:Online
ATTACH;FMTTYPE=image/jpeg:https://pbkik.hu/wp-content/uploads/2019/03/mkik_logo_1.jpg
END:VEVENT
END:VCALENDAR