BEGIN:VCALENDAR
VERSION:2.0
PRODID:-//Pécs-Baranyai Kereskedelmi és Iparkamara - ECPv6.15.20//NONSGML v1.0//EN
CALSCALE:GREGORIAN
METHOD:PUBLISH
X-WR-CALNAME:Pécs-Baranyai Kereskedelmi és Iparkamara
X-ORIGINAL-URL:https://pbkik.hu
X-WR-CALDESC:Események Pécs-Baranyai Kereskedelmi és Iparkamara
REFRESH-INTERVAL;VALUE=DURATION:PT1H
X-Robots-Tag:noindex
X-PUBLISHED-TTL:PT1H
BEGIN:VTIMEZONE
TZID:Europe/Helsinki
BEGIN:DAYLIGHT
TZOFFSETFROM:+0200
TZOFFSETTO:+0300
TZNAME:EEST
DTSTART:20200329T010000
END:DAYLIGHT
BEGIN:STANDARD
TZOFFSETFROM:+0300
TZOFFSETTO:+0200
TZNAME:EET
DTSTART:20201025T010000
END:STANDARD
BEGIN:DAYLIGHT
TZOFFSETFROM:+0200
TZOFFSETTO:+0300
TZNAME:EEST
DTSTART:20210328T010000
END:DAYLIGHT
BEGIN:STANDARD
TZOFFSETFROM:+0300
TZOFFSETTO:+0200
TZNAME:EET
DTSTART:20211031T010000
END:STANDARD
BEGIN:DAYLIGHT
TZOFFSETFROM:+0200
TZOFFSETTO:+0300
TZNAME:EEST
DTSTART:20220327T010000
END:DAYLIGHT
BEGIN:STANDARD
TZOFFSETFROM:+0300
TZOFFSETTO:+0200
TZNAME:EET
DTSTART:20221030T010000
END:STANDARD
END:VTIMEZONE
BEGIN:VEVENT
DTSTART;VALUE=DATE:20211001
DTEND;VALUE=DATE:20211224
DTSTAMP:20260424T064453
CREATED:20210802T093337Z
LAST-MODIFIED:20221122T095349Z
UID:10002432-1633046400-1640303999@pbkik.hu
SUMMARY:MEDICA Healthcare 2021 - üzletember találkozó
DESCRIPTION:A MEDICA 2021 a világ első számú egészségipari vására. Idén 20. alkalommal\, a vásár mellett hibrid rendszerben\, online és személyes jelenlét mellett nyújt lehetőséget az egészségipar valamennyi szereplője számára üzleti tárgyalásokra. Vegyen részt Ön is! \n \n  \nA MEDICA vásáron megrendezésre kerülő nemzetközi üzltebmer találkozónak már 20 éves hagyománya van. Az elmúlt években az eseményen mindig mintegy 40 országból mintegy 350 résztvevő vett részt\, 700 előre kiválasztott és egyeztetett találkozóval. \nA 2021-es év még mindig különleges évnek számít. A COVID-19 vírus hatásai még mindig mindennaposak mindannyiunk számára\, különösen\, az egészségügyi ágazatban. 2020-ban megtanultuk elfogadni a virtuális találkozókat\, különösen a MEDICA vásár előtt és után. Ezért folytatni fogjuk ezeket a virtuális találkozókat. De nagyon örülünk\, hogy a MEDICA 2021 során ismét lesz ilyen találkozó napok. \nTehát több tárgyalási napot és további eseményeket kínálunk. \nA világjárvány következményei miatt\, ahogy 2020-ban is\, árcsökkentésre\, a regisztrációs díj felezésére\, valamint további fejlesztésekre számíthatnak a befektetők és az importőrök is. Ezen túlmenően a résztvevőknek a sikeres együttműködésekből is profitálniuk kell. Minden résztvevő\, aki tájékoztat minket egy együttműködésről\, és ezt írásban\, dokumentumban megerősíti\, visszakapja a regisztrációs díjat. \nMiért érdemes részt venni? \nHasználja fel a rendezvényt új vállalkozások kezdeményezésére\nTalálkozzon az innovatív technológiák szolgáltatóival egész Európából és Európán kívülről\nLépjen kapcsolatba potenciális partnerekkel a jövőbeli együttműködés érdekében\nTeremtsen határokon átnyúló kapcsolatokat a hosszú távú üzleti kapcsolatokhoz\nÚj partnerek keresése kutatási projektekhez \nRegisztrációs díjak \n200 Euró – Vállalkozások\, szövetségek\, kutatóintézetek stb. (az EGT-n kívüli területek)\n100 Euró – Vállalkozások\, egyesületek\, kutatóintézetek stb. (EEN partnerországok)\n50 Euró – Start upok (2018. január 1-jén vagy azt követően alapított kezdő vállalkozások\, EEN partnerországok)\n0 Euró – Befektetők\, üzleti angyalok\n0 Euró – külföldi termékek forgalmazásával foglalkozó vállalat vagy közbeszerző \nOnline tárgyalási napok: \n2021. október 1. – 2021. december 23. \nSzemélyes (és online) tárgyalási napok: \n2021. november 15-18. – MEDICA 2021\, Düsseldorf \n  \nTovábbi információ és regisztráció\nRegisztrációs határidő: 2021. november 14.
URL:https://pbkik.hu/esemeny/medica-healthcare-2021-uzletember-talalkozo/
LOCATION:Online
END:VEVENT
BEGIN:VEVENT
DTSTART;TZID=Europe/Helsinki:20211001T080000
DTEND;TZID=Europe/Helsinki:20211003T170000
DTSTAMP:20260424T064453
CREATED:20210921T135440Z
LAST-MODIFIED:20210922T085356Z
UID:10002517-1633075200-1633280400@pbkik.hu
SUMMARY:24. Eszéki Őszi Vásár
DESCRIPTION:Idén 24. alkalommal rendezik meg az Eszéki Őszi Vásárt. A rendezvényen évről évre több mint 200 kiállító mutatkozik be\, és több mint 10.000 látogatót vonz az esemény\, amely közel 5.000 m2-es kiállítási területen kerül megrendezésre. \nA vásár fókusz ágazatai: \n\nÉlelmiszeripar és élelmiszer-feldolgozási technológiák\nMezőgazdasági gépgyártás\nNövénytermesztés\nÁllattenyésztés\n\nTovábbi részletek kérhetőek: \nWeller Krisztina\nweller.krisztina@ced.hu \n  \nFejlesztések a gazdaságban – B2B-vel egybekötött üzleti fórum az Eszéki Őszi Vásáron\nA kiállítás első napján\, 2021. október 1-én 16 órakor\, a CED Közép-európai Gazdaságfejlesztési Hálózat társszervezésében a kiállítás kísérő eseményeként szakmai fórumra és B2B-találkozóra kerül sor\, mely alkalmával a kiállítóként megjelent vállalkozásokkal lehetőség nyílik további üzleti kapcsolatok kialakítására. \nAz üzleti fórum célja: \n\na horvát vállalkozásokkal történő partnerkapcsolatok kialakításának\, és az együttműködések kiszélesítésének támogatása;\na Gazdaságfejlesztési programokhoz kapcsolódó tervek ismertetése;\nmezőgazdaságban hasznosuló innovatív informatikai megoldások bemutatása.\n\nTémakörök: \n\nInnováció a gazdaságban\nGazdaságfejlesztési programok\nInformatikai megoldások a mezőgazdaságban\nVállalkozás-fejlesztés\nKapacitásbővítés\nDigitalizáció\n\nAz üzleti fórumon való részvétel ingyenes! \nRészvételi szándékukat az osijek@ced.hu e-mail címen jelezzék. \nRegisztrációs határidő: 2021. szeptember 25. \nA rendezvénnyel kapcsolatban felmerülő kérdésekkel forduljanak bizalommal a CED eszéki irodájához. \nPalizs-Tóth Hajnalka\, irodavezető\n+385 (91) 603 7269\nosijek@ced.hu \nDéra Kornélia\, asszisztens\n+385 (99) 307 7357\nosijek@ced.hu
URL:https://pbkik.hu/esemeny/24-eszeki-oszi-vasar/
LOCATION:Eszéki Vásár\, Petőfi Sándor u. 204 a.\, Eszék\, 31000\, Horvátország:
END:VEVENT
BEGIN:VEVENT
DTSTART;TZID=Europe/Helsinki:20211013T090000
DTEND;TZID=Europe/Helsinki:20211014T120000
DTSTAMP:20260424T064453
CREATED:20210412T073026Z
LAST-MODIFIED:20210412T115804Z
UID:10002304-1634115600-1634212800@pbkik.hu
SUMMARY:Tengeri szállítmányozás-tengerentúli üzletek sikeres kezelése - képzés angol nyelven
DESCRIPTION:Az International Chamber of Commerce Austria angol nyelvű\, online képzést szervez export/import tengeri szállítmányozás – tengerentúli üzletek sikeres kezelése témában. \nAzonnal alkalmazható gyakorlati ismeretek: \n\nKonténerek A-tól Z-ig\nTengeri fuvarozási okmányok és kockázataik\nIncoterms® 2020 a tengeri fuvarozásban\nHasznos betekintés az árufuvarozásba\nHajózási társaságok\, ügynökségek\, NVOCC-k\nA költséges csapdák elkerülése (pl. leállás / visszatartás)\nÉrtékes gyakorlati példák\n\nCélcsoport: \n\nHajózási / logisztikai részleg vezetői és alkalmazottai\nMenedzserek és alkalmazottak\, akik az import / export területén dolgoznak (tengerentúli piacok)\nSzállítmányozási cégek alkalmazottai\nMindazok\, akik bővíteni akarják ismereteiket a tengeri fuvarozás témájában\n\n  \nA képzés online\, angol nyelven valósul meg. \nA képzés helyszíne Zoom platform. \nA képzés díja: 480 € + adó \n  \nTovábbi információ\, részletes program: ICC Austria – Ocean freight in Import and Export Online October 2021 \n  \nREGISZTRÁCIÓ
URL:https://pbkik.hu/esemeny/tengeri-szallitmanyozas-tengerentuli-uzletek-sikeres-kezelese-kepzes-angol-nyelven/
LOCATION:online
END:VEVENT
BEGIN:VEVENT
DTSTART;TZID=Europe/Helsinki:20211020T100000
DTEND;TZID=Europe/Helsinki:20211020T123000
DTSTAMP:20260424T064453
CREATED:20211015T115442Z
LAST-MODIFIED:20211015T122414Z
UID:10002572-1634724000-1634733000@pbkik.hu
SUMMARY:Magyar-Cseh egészségipari üzleti fórum és üzletember találkozó
DESCRIPTION:A Magyar Kereskedelmi és Iparkamara és a Cseh Kereskedelmi Kamara közös szervezésében kerül megrendezésre az alábbi Magyar-Cseh üzleti fórum és üzletember-találkozó október 20-án 10:00-12:15 óráig. \nA cseh delegációban az egészségipar területén tevékenykedő alábbi cégek vesznek részt. \nLINET\nkórházi és ápolási ágyak\, nőgyógyászati és szülészeti székek\, speciális matracok\, mobil berendezések\, egészségügyi bútorok gyártása \nCylinders Engineering Services a.s.\nacélpalackok forgalmazása orvosi és otthoni használatra \nFAGRON\nszemélyre szabott gyógyászati és gyógyszerészeti összetett berendezések gyártása és fejlesztése\, genetikai technológia\, gyógyszerészeti alapanyagok előállítása és forgalmazása \nPHARMDATA\nAdatok és szolgáltatások elsősorban a forgalmazóknak\, gyógyszertáraknak\, kórházaknak és orvosoknak\, de az orvosi kellékek gyártóinak és üzleteinek is \nPROMO REHA\norvosi és ápolási ágyak\, tusolóágyak\, szállítószékek és hordágyak gyártása \nVENTOS\nteljes körű szolgáltatások az energiatakarékosság és az építési szolgáltatások területén\, ipari hőcserélők és helyhez kötött és konténeres ipari szárítók gyártása\, átfogó megoldások a fertőző hulladékok fertőtlenítésére \nPROGRAMTERV\n\n\n\n10.00 – 10.10\nKöszöntők\nBódi László\, alelnök\, Nemzetközi Kollégium\, MKIK\nRadek Jakubsky\, alelnök\, Cseh Kereskedelmi Kamara\n\n\n10.10 – 10.30\nA magyar gazdaság aktuális helyzete\, előadó felkérés alatt\n\n\n10.30 – 10.45\nA cseh vállalatok rövid bemutatása\, CCC\n\n\n10.45 – 12.00\n Üzletember-találkozók\n\n\n\nAz eseményen résztvevő cseh cégekről bővebb információ erre a linkre kattintva: PARTNEREK érhető el. A cseh tárgyalópartnerekhez az online regisztrációs lap alján található táblázatban tudnak időpontot foglalni.\nAz üzleti fórum és az üzletember találkozók nyelve az angol\, tolmácsolást nem biztosítanak. \nRészvétel feltételei\nJelentkezési határidő: 2021. október 18.\, hétfő\, 12.00 óra\nA férőhelyek száma korlátozott\, ezért a jelentkezéseket azok beérkezésének sorrendjében fogadják el. A rendezvényen való részvétel ingyenes\, de előzetes online regisztrációhoz kötött. \nA rendezvény belső térben kerül megrendezésre\, így a 484/2020 (XI.10.) kormányrendelet értelmében a belépés védettségi igazolványhoz vagy negatív PCR-teszthez kötött. Amennyiben nem rendelkezik védettségi igazolvánnyal vagy negatív teszttel\, a rendezvényen való részvételét nem tudják biztosítani. \nREGISZTRÁCIÓ
URL:https://pbkik.hu/esemeny/magyar-cseh-egeszsegipari-uzleti-forum-es-uzletember-talalkozo/
LOCATION:Magyar Kereskedelmi és Iparkamara székháza\, Pethényi köz 10.\, Budapest\, 1122\, Magyarország
ATTACH;FMTTYPE=image/jpeg:https://pbkik.hu/wp-content/uploads/2019/03/mkik_logo_1.jpg
END:VEVENT
END:VCALENDAR