BEGIN:VCALENDAR
VERSION:2.0
PRODID:-//Pécs-Baranyai Kereskedelmi és Iparkamara - ECPv6.15.20//NONSGML v1.0//EN
CALSCALE:GREGORIAN
METHOD:PUBLISH
X-WR-CALNAME:Pécs-Baranyai Kereskedelmi és Iparkamara
X-ORIGINAL-URL:https://pbkik.hu
X-WR-CALDESC:Események Pécs-Baranyai Kereskedelmi és Iparkamara
REFRESH-INTERVAL;VALUE=DURATION:PT1H
X-Robots-Tag:noindex
X-PUBLISHED-TTL:PT1H
BEGIN:VTIMEZONE
TZID:Europe/Helsinki
BEGIN:DAYLIGHT
TZOFFSETFROM:+0200
TZOFFSETTO:+0300
TZNAME:EEST
DTSTART:20210328T010000
END:DAYLIGHT
BEGIN:STANDARD
TZOFFSETFROM:+0300
TZOFFSETTO:+0200
TZNAME:EET
DTSTART:20211031T010000
END:STANDARD
BEGIN:DAYLIGHT
TZOFFSETFROM:+0200
TZOFFSETTO:+0300
TZNAME:EEST
DTSTART:20220327T010000
END:DAYLIGHT
BEGIN:STANDARD
TZOFFSETFROM:+0300
TZOFFSETTO:+0200
TZNAME:EET
DTSTART:20221030T010000
END:STANDARD
BEGIN:DAYLIGHT
TZOFFSETFROM:+0200
TZOFFSETTO:+0300
TZNAME:EEST
DTSTART:20230326T010000
END:DAYLIGHT
BEGIN:STANDARD
TZOFFSETFROM:+0300
TZOFFSETTO:+0200
TZNAME:EET
DTSTART:20231029T010000
END:STANDARD
END:VTIMEZONE
BEGIN:VEVENT
DTSTART;TZID=Europe/Helsinki:20220511T100000
DTEND;TZID=Europe/Helsinki:20220511T113000
DTSTAMP:20260420T002356
CREATED:20220504T063400Z
LAST-MODIFIED:20220504T073040Z
UID:10002197-1652263200-1652268600@pbkik.hu
SUMMARY:Ismerje meg Egyiptom és Szaúd-Arábia piacát\, üzleti lehetőségeit
DESCRIPTION:A Fejér Megyei Kereskedelmi és Iparkamara Enterprise Europe Network irodája exportfejlesztési programsorozatának következő állomásán Egyiptom és Szaúd-Arábia piacait mutatják be\, kiemelve a magyar vállalkozások üzleti lehetőségeit. \nIdőpont: 2022. május 11. szerda 10.00 óra. \nEgyiptom: a lehetőségek országa” Dinamikus fejlődés\, társadalmi átalakulás\, lehetőségek és kihívások a Egyiptomban. Gigantikus méretű beruházások\, átalakulófélben társadalom és hatalmas gazdasági fejlesztéseken megy keresztül Egyiptom. A megújuló energia\, okos megoldások\, mezőgazdasági fejlesztések\, egyedi megoldások az építőiparban csak néhány terület amik várják a befektetőket. \nSzaúd-Arábia: a világ legnagyobb kőolaj exportőre\, a G20-ak tagja\, az Arab-Öböl és a Közel-Kelet legnagyobb országa és fogyasztói piaca közel 35 millió lakossal. Egy gyorsan változó és sokszínű ország gazdag történelemmel és izgalmas jövővel. A világ legnagyobb megaprojektjei és széleskörű kereskedelmi lehetőségek a mezőgazdaság\, az ICT szektor\, az olajipar\, oktatás és az építőipar területén. Szaúd-Arábia – a jövő országa! \nAz online program fő témakörei: \n\nEgyiptom és Szaúd-Arábia gazdaságának aktuális helyzete\, annak jövőbeni kilátásai\nHogyan legyünk sikeresek magyarként az adott piacokon?\nKereskedelmi sajátosságok\, tapasztalatok\, praktikus tanácsok\nAz üzleti lehetőségek magyar vállalatok számára az adott országokban\n\nElőadók: \n\nOrosházi Bernadett külgazdasági attasé Magyar Nagykövetség Kairó\, Egyiptom\nKiss Dezső külgazdasági attasé Magyar Nagykövetség Rijád\, Szaúd-Arábia\n\nLebonyolítás: Microsoft Teams rendszerrel (A kamara rendelkezik a szoftverrel\, a meghívót kiküldi). A programot 1-1\,5 órás időtartamra tervezik. \nRészvételi feltétel: A programon a részvétel térítésmentes\, de feltétel a kamarai hozzájárulás rendezettsége\, valamint az előzetes online jelentkezés. \nA program fő szervezője a Fejér Megyei Kereskedelmi és Iparkamara Közép-dunántúli Regionális EEN Iroda\, a szervezésben a teljes magyar EEN Hálózat partnerei is közreműködnek. \nREGISZTRÁCIÓ
URL:https://pbkik.hu/esemeny/ismerje-meg-egyiptom-es-szaud-arabia-piacat-uzleti-lehetosegeit/
LOCATION:online
END:VEVENT
BEGIN:VEVENT
DTSTART;TZID=Europe/Helsinki:20220517T140000
DTEND;TZID=Europe/Helsinki:20220517T150000
DTSTAMP:20260420T002356
CREATED:20220513T073752Z
LAST-MODIFIED:20220513T074933Z
UID:10002208-1652796000-1652799600@pbkik.hu
SUMMARY:Fedezze fel a mexikói üzleti kultúrát - webinárium
DESCRIPTION:Az „Exploring Business Culture in Mexico” (Fedezze fel a mexikói üzleti kultúrát) elnevezésű webináriumot a CUBE IN projektcsoport szervezi az Enterprise Europe Network (EEN)\, a Hanze International Business Office (HIBO)\, a Netherlands Business Support Office (NBSO) és a Holland House Mexico (HHM) együttműködésével. Az előadásra 2022. május 17-én 14 órától kerül sor. \nAz esemény nyelve angol. \nAz esemény célja\, hogy a résztvevők\, szakértő előadók segítségével ismerjék meg a mexikói üzleti kultúra fortélyait. Csatlakozzon Ön is\, ha többet szeretne megtudni a mexikói piacra való belépés kihívásairóll\, miközben betekintést nyerhet azokba az ágazatokba\, amelyek potenciális befektetési lehetőségeket kínálnak a külföldi vállalatok számára. \nA webinárium előadói: \n\nLisa DeWaard\, a Hofstede Insights USA ügyvezető igazgatója és vezérigazgatója\,\nManuel Reta\, az ATSC ügyvezető partnere\,\nMartin van Gulik\, a MarketSales kiskereskedelmi üzletágért felelős üzleti partnerkereső szakértője.\n\nTovábbi információ és jelentkezés az alábbi linken: \nREGISZTRÁCIÓ
URL:https://pbkik.hu/esemeny/fedezze-fel-a-mexikoi-uzleti-kulturat-webinarium/
LOCATION:online
END:VEVENT
BEGIN:VEVENT
DTSTART;TZID=Europe/Helsinki:20220520T110000
DTEND;TZID=Europe/Helsinki:20220520T133000
DTSTAMP:20260420T002356
CREATED:20220511T110159Z
LAST-MODIFIED:20220511T112024Z
UID:10002203-1653044400-1653053400@pbkik.hu
SUMMARY:A fókuszban Ghána - magyar-afrikai üzleti webinárium
DESCRIPTION:A Magyar Kereskedelmi és Iparkamara Afrika Tagozata \,\,A fókuszban Ghána – magyar-afrikai üzleti webinárium” címmel online eseményt rendez 2022. május 20-án 11 órakor. A rendezvény nyelve az angol lesz. \nAz esemény célja\, hogy tájékoztassa a hazai kis- és középvállalkozásokat az afrikai üzleti környezetről\, a magyar vállalkozások számára kínálkozó exportfinanszírozási lehetőségekről a térségben. A webináriumon részt vesznek Magyarország ghánai nagykövete\, az EXIM\, a HEPA\, illetve ghánai részről a Ghana Investment Promotion Centre és a Ghana Free Zones Authority képviselői is\, valamint sikeres\, az afrikai piacra már exportáló magyar vállalkozások osztják meg a régióban szerzett tapasztalataikat. \nPROGRAM \n\n\n\n11.20 – 11.30\nRegistration\n\n\n11.30 – 11.40\nWelcome speeches\nMr. Károly Kovács\, Chairman of the African Committee of the Hungarian Chamber of Commerce and Industry\nMr. Kofi Asmah\, Chairman of the Ghanian-Hungarian Business Council\n\n\n11.40 – 11.55\nThe role of West Africa in Hungary’s foreign economic strategy\nH. E. Tamás Fehér\, Ambassador of Hungary to the Republic of Ghana\n\n\n11.55 – 12.05\nHEPA good practices for investing in Africa\nMr. Kristóf Szabó\, CEO\, HEPA\n\n\n12.05 – 12.15\nEXIM financing products for trade development\nMr. Viktor Berki\, Head of Export Finance and Export Credit Insurance\, EXIM\n\n\n12.15 – 12.35\nCase studies of Hungarian companies in the region\nMr. Bálint Horváth\, CEO\, Pureco Kft.\nMr. Richárd Vattay\, CEO\, Water & Soil Kft.\n\n\n12.35 – 12.45\nInvestment opportunities in Ghana\nMr. R. Yofi Grant\, CEO\, Ghana Investment Promotion Centre\n\n\n12.45 – 12.55\nInvestment environment in the Free Zones of Ghana\nMr. Michael A. Quaye\, Jnr\, CEO\, Ghana Free Zones Authority\n\n\n12.55 – 13.05\nCase study of the Jospong Group of Companies\nMr. Joseph Siaw Agyepong\, Founder/Executive Chairman\, Jospong Group of Companies\n\n\n13.05 – 13.15\nSigning ceremony of the Memorandum of Understanding between the African Committee of the Hungarian Chamber of Commerce and Industry and the Ghanian-Hungarian Business Council\n\n\n13.15 – 13.30\nQ & A session with the presenters\n\n\n\nJelentkezési határidő: 2022. május 17.\, kedd\, 16.00 óra \nA rendezvényen való részvétel ingyenes\, de előzetes online regisztrációhoz kötött. A csatlakozáshoz szükséges linket és információkat 2022. május 19-én\, csütörtök délután küldik meg e-mailen a jelentkezőknek. \nREGISZTRÁCIÓ
URL:https://pbkik.hu/esemeny/a-fokuszban-ghana-magyar-afrikai-uzleti-webinarium/
LOCATION:Majorossy Imre utca 36.\, Pécs\, 7625\, Magyarország
ATTACH;FMTTYPE=image/jpeg:https://pbkik.hu/wp-content/uploads/2021/08/mkik_logo_1.jpg
END:VEVENT
BEGIN:VEVENT
DTSTART;TZID=Europe/Helsinki:20220525T090000
DTEND;TZID=Europe/Helsinki:20220525T110000
DTSTAMP:20260420T002356
CREATED:20220512T123927Z
LAST-MODIFIED:20220512T125725Z
UID:10002207-1653469200-1653476400@pbkik.hu
SUMMARY:Üzleti lehetőségek Tajvanon - webinárium
DESCRIPTION:A Magyar Kereskedelmi és Iparkamara és tajvani partnere\, a Chinese International Economic Cooperation Association (CIECA) webináriumot szervez\, melynek fő témái a tajvani üzleti- és együttműködési lehetőségek lesznek. A rendezvény keretében kerül sor a Magyar-Tajvani Közös Üzleti Tanács 15. ülésére is. \nA konferencia angol nyelven zajlik\, tolmácsolást nem tudnak biztosítani! \nPROGRAM\n\n\n\n9.00 – 9.20\nKöszöntők\nMr. Frank Liu\, a Tajvani-Magyar Gazdasági Együttműködési Tanács elnöke\, a Chi Fu Investments Holdings Group vezérigazgatója\nDr. Parragh László\, a Magyar Kereskedelmi és Iparkamara elnöke\nMr. Shih-chung Liu\, a Budapesti Tajpeji Képviseleti iroda vezetője\nLőrincz Dániel\, a Tajpeji Magyar Kereskedelmi Iroda vezetője\nMr. Chun Hsiao\, A Tajvani Külkereskedelmi Hivatal (MOEA) gazdasági tanácsosa\n\n\n9.20– 9.40\nTajvani-magyar együttműködési lehetőségek a \,\,smart city’’ területén\nDr. James Chiao\, a Chinese International Economic Cooperation Association (CIECA) Smart City Tagozatának elnöke\n\n\n9.40– 10.00\nSmart City megoldások Magyarországról\nCsiky-Mészáros Ádám\, a Digitális Jólét Nonprofit Kft. vezető szakértője\n\n\n10.00– 10.30\nCéges előadások tajvani részről\nMs. Loni Kuo\, a Softfoundry International Pte Ltd elnöke (www.softfoundry.com/)\nMr. Daniel Kao\, a MiTAC Information Technology kéviselője (www.mitac.com.tw/en/)\nDr. Sean Huang\, a LE Biomedical Corp. elnöke (https://lebmc.com.tw/)\n\n\n10.30– 10.50\nMagyar céges előadások\nWebkey Development Kft.\nKőröstej Kft.\n\n\n10.50 – 11.00\nKérdések & válaszok\n\n\n\nJelentkezési határidő: 2022. május 23.\, hétfő\, 16.00 óra. A rendezvényen való részvétel ingyenes\, de előzetes online regisztrációhoz kötött.\nA csatlakozáshoz szükséges linket és információkat május 24-én fogják továbbítani a résztvevőknek. \nREGISZTRÁCIÓ
URL:https://pbkik.hu/esemeny/uzleti-lehetosegek-tajvanon-webinarium-2/
LOCATION:online
ATTACH;FMTTYPE=image/jpeg:https://pbkik.hu/wp-content/uploads/2021/08/mkik_logo_1.jpg
END:VEVENT
END:VCALENDAR