BEGIN:VCALENDAR
VERSION:2.0
PRODID:-//Pécs-Baranyai Kereskedelmi és Iparkamara - ECPv6.15.20//NONSGML v1.0//EN
CALSCALE:GREGORIAN
METHOD:PUBLISH
X-WR-CALNAME:Pécs-Baranyai Kereskedelmi és Iparkamara
X-ORIGINAL-URL:https://pbkik.hu
X-WR-CALDESC:Események Pécs-Baranyai Kereskedelmi és Iparkamara
REFRESH-INTERVAL;VALUE=DURATION:PT1H
X-Robots-Tag:noindex
X-PUBLISHED-TTL:PT1H
BEGIN:VTIMEZONE
TZID:Europe/Helsinki
BEGIN:DAYLIGHT
TZOFFSETFROM:+0200
TZOFFSETTO:+0300
TZNAME:EEST
DTSTART:20210328T010000
END:DAYLIGHT
BEGIN:STANDARD
TZOFFSETFROM:+0300
TZOFFSETTO:+0200
TZNAME:EET
DTSTART:20211031T010000
END:STANDARD
BEGIN:DAYLIGHT
TZOFFSETFROM:+0200
TZOFFSETTO:+0300
TZNAME:EEST
DTSTART:20220327T010000
END:DAYLIGHT
BEGIN:STANDARD
TZOFFSETFROM:+0300
TZOFFSETTO:+0200
TZNAME:EET
DTSTART:20221030T010000
END:STANDARD
BEGIN:DAYLIGHT
TZOFFSETFROM:+0200
TZOFFSETTO:+0300
TZNAME:EEST
DTSTART:20230326T010000
END:DAYLIGHT
BEGIN:STANDARD
TZOFFSETFROM:+0300
TZOFFSETTO:+0200
TZNAME:EET
DTSTART:20231029T010000
END:STANDARD
END:VTIMEZONE
BEGIN:VEVENT
DTSTART;TZID=Europe/Helsinki:20220602T110000
DTEND;TZID=Europe/Helsinki:20220602T130000
DTSTAMP:20260419T195747
CREATED:20220524T073218Z
LAST-MODIFIED:20220524T075037Z
UID:10002671-1654167600-1654174800@pbkik.hu
SUMMARY:Az orosz-ukrán háború hatásai a magyar vállalkozásokra - webinárium
DESCRIPTION:A Magyar Kereskedelmi és Iparkamara Magyar-Orosz Tagozat 2022. június 2-án webináriumot szervez\, melynek célja a hazai kis- és középvállalkozások tájékoztatása az orosz\, illetve az ukrán üzleti környezetről\, a háborús tevékenységek\, illetve az európai uniós és orosz szankciók miatti korlátozások adta keretekről és kilátásokról. \nPROGRAM\n\n\n\n10.40 – 11.00\nRegisztráció\n\n\n11.00 – 11.10\nKöszöntő és az MKIK MOT szerepe\, aktivitása az orosz-ukrán háború körülményei között\nSzekeres István\, a Magyar-Orosz Tagozat elnöke\n\n\n11.10 – 11.25\nLehetőségek és nehézségek a magyar-orosz gazdasági kapcsolatokban\nKonkoly Norbert\, Magyarország rendkívüli és meghatalmazott nagykövete\, Moszkva\n\n\n11.25 – 11.40\nA jelenlegi helyzet kezelése és a magyar-ukrán gazdasági együttműködés jövője\nÍjgyártó István\, Magyarország rendkívüli és meghatalmazott nagykövete\, Kijev\n\n\n11.40 – 11.55\nA magyar-belarusz gazdasági együttműködés jelene és jövője\nCsutora Zsolt\, Magyarország rendkívüli és meghatalmazott nagykövete\, Minszk\n\n\n11.55 – 12.15\nA Külgazdasági és Külügyminisztérium támogató és koordináló szerepe a háború okozta nehézségek leküzdésében\nDr. Szép-Tüske Rita\, a KKM Exportfejlesztési Koordinációs Főosztályának vezetője\n\n\n12.15 – 12.30\nAz európai uniós szankciók magyarországi alkalmazásának aktuális kérdései\nTorda Csaba\, pénzügyőr dandártábornok\, a NAV Központi Irányítás Vám Főosztály vezetője\n\n\n12.30 – 12.40\nAz európai uniós szankciók hatása az oroszországi tevékenységekre\nFarkas József\, ügyvezető igazgató\, Sanatmetal Kft.\n\n\n12.40 – 12.50\nA magyar tulajdonú oroszországi gyártóüzemekben és a kereskedelemben jelentkező nehézségek és azok kezelése\nCsitkovics Tibor\, ügyvezető igazgató\, Agrofeed Kft.\n\n\n12.50 – 13.00\nZárszó – összefoglaló\nSzekeres István\, a Magyar-Orosz Tagozat elnöke\n\n\n\nA részvétel feltételei \nJelentkezési határidő: 2022. május 31.\, kedd\, 16.00 óra \nA rendezvényen való részvétel ingyenes\, de előzetes online regisztrációhoz kötött. A csatlakozáshoz szükséges linket és információkat 2022. június 1-jén\, szerda délután küldik meg e-mailen a jelentkezőknek. \nREGISZTRÁCIÓ
URL:https://pbkik.hu/esemeny/az-orosz-ukran-haboru-hatasai-a-magyar-vallalkozasokra-webinarium/
LOCATION:online
ATTACH;FMTTYPE=image/jpeg:https://pbkik.hu/wp-content/uploads/2021/08/mkik_logo_1.jpg
END:VEVENT
END:VCALENDAR