BEGIN:VCALENDAR
VERSION:2.0
PRODID:-//Pécs-Baranyai Kereskedelmi és Iparkamara - ECPv6.15.20//NONSGML v1.0//EN
CALSCALE:GREGORIAN
METHOD:PUBLISH
X-ORIGINAL-URL:https://pbkik.hu
X-WR-CALDESC:Események Pécs-Baranyai Kereskedelmi és Iparkamara
REFRESH-INTERVAL;VALUE=DURATION:PT1H
X-Robots-Tag:noindex
X-PUBLISHED-TTL:PT1H
BEGIN:VTIMEZONE
TZID:Europe/Helsinki
BEGIN:DAYLIGHT
TZOFFSETFROM:+0200
TZOFFSETTO:+0300
TZNAME:EEST
DTSTART:20190331T010000
END:DAYLIGHT
BEGIN:STANDARD
TZOFFSETFROM:+0300
TZOFFSETTO:+0200
TZNAME:EET
DTSTART:20191027T010000
END:STANDARD
BEGIN:DAYLIGHT
TZOFFSETFROM:+0200
TZOFFSETTO:+0300
TZNAME:EEST
DTSTART:20200329T010000
END:DAYLIGHT
BEGIN:STANDARD
TZOFFSETFROM:+0300
TZOFFSETTO:+0200
TZNAME:EET
DTSTART:20201025T010000
END:STANDARD
BEGIN:DAYLIGHT
TZOFFSETFROM:+0200
TZOFFSETTO:+0300
TZNAME:EEST
DTSTART:20210328T010000
END:DAYLIGHT
BEGIN:STANDARD
TZOFFSETFROM:+0300
TZOFFSETTO:+0200
TZNAME:EET
DTSTART:20211031T010000
END:STANDARD
BEGIN:DAYLIGHT
TZOFFSETFROM:+0200
TZOFFSETTO:+0300
TZNAME:EEST
DTSTART:20220327T010000
END:DAYLIGHT
BEGIN:STANDARD
TZOFFSETFROM:+0300
TZOFFSETTO:+0200
TZNAME:EET
DTSTART:20221030T010000
END:STANDARD
BEGIN:DAYLIGHT
TZOFFSETFROM:+0200
TZOFFSETTO:+0300
TZNAME:EEST
DTSTART:20230326T010000
END:DAYLIGHT
BEGIN:STANDARD
TZOFFSETFROM:+0300
TZOFFSETTO:+0200
TZNAME:EET
DTSTART:20231029T010000
END:STANDARD
BEGIN:DAYLIGHT
TZOFFSETFROM:+0200
TZOFFSETTO:+0300
TZNAME:EEST
DTSTART:20240331T010000
END:DAYLIGHT
BEGIN:STANDARD
TZOFFSETFROM:+0300
TZOFFSETTO:+0200
TZNAME:EET
DTSTART:20241027T010000
END:STANDARD
END:VTIMEZONE
BEGIN:VTIMEZONE
TZID:Europe/Budapest
BEGIN:DAYLIGHT
TZOFFSETFROM:+0100
TZOFFSETTO:+0200
TZNAME:CEST
DTSTART:20230326T010000
END:DAYLIGHT
BEGIN:STANDARD
TZOFFSETFROM:+0200
TZOFFSETTO:+0100
TZNAME:CET
DTSTART:20231029T010000
END:STANDARD
BEGIN:DAYLIGHT
TZOFFSETFROM:+0100
TZOFFSETTO:+0200
TZNAME:CEST
DTSTART:20240331T010000
END:DAYLIGHT
BEGIN:STANDARD
TZOFFSETFROM:+0200
TZOFFSETTO:+0100
TZNAME:CET
DTSTART:20241027T010000
END:STANDARD
BEGIN:DAYLIGHT
TZOFFSETFROM:+0100
TZOFFSETTO:+0200
TZNAME:CEST
DTSTART:20250330T010000
END:DAYLIGHT
BEGIN:STANDARD
TZOFFSETFROM:+0200
TZOFFSETTO:+0100
TZNAME:CET
DTSTART:20251026T010000
END:STANDARD
END:VTIMEZONE
BEGIN:VEVENT
DTSTART;VALUE=DATE:20200603
DTEND;VALUE=DATE:20200606
DTSTAMP:20260421T055155
CREATED:20200602T103542Z
LAST-MODIFIED:20200602T105626Z
UID:10002055-1591142400-1591401599@pbkik.hu
SUMMARY:Úttörő megoldások feketén-fehéren
DESCRIPTION:Az Enterprise Europe Netwrok szervezésében online üzletember találkozón vehetnek részt a érdeklődök\, ahol a fő téma a biomassza és felhasználási területei. \n \nEgy valóban fenntartható biogazdaság a szerves hulladékot értékes erőforrásnak tekinti és együttműködéseket alakít ki a legkülönbözőbb ipari szektorok között is. A kis- és nagyvállalatok számára egyaránt kulcskérdés  tevékenységük\, energia felhasználásuk fenntarthatósága\, alapanyagaik\, keletkezett melléktermékük (hulladék) újrahasznosítása és ez irányú folyamataik teljeskörű kezelése\, amihez ez a rendezvény támpontokat adhat és egy nemzetközi\, szakértői közösséget\, aki piaci alapon közelíti meg a kérdést. \nMIÉRT ÉRDEMES RÉSZT VENNI? \n\n\n\n\n\n\n\n\n\nLehetőség a nemzetközi piacon való megjelenésre\, terjeszkedésére.\n\n\n\n\n\n\n\n\n\n\n\n\n\n\n\n\n\n\nAlkalmat ad lehetséges üzletfelek megismerésére.\n\n\n\n\n\n\n\n\n\n\n\n\n\n\n\n\n\n\nHatáron túli kapcsolatok és együttműködések kezdeményezése.\n\n\n\n\n\n\n\n\n\n\n\n\n\n\n\n\n\n\n20 perces\, előre megszervezett üzleti megbeszélések.\n\n\n\n\n\n\n\n\n\nHOGYAN MŰKÖDIK? \nAz érdeklődőknek lehetősége van egy – ingyenes – profil létrehozására a biobased 2020 honlapon\, ahol megtekinthetik a többi résztvevő adatlapját is\, ami alapján az Önök számára érdekesnek és ígéretesnek tűnő feleknél időpontot kérhetnek az online üzleti találkozóhoz. \n  \nRegisztráció
URL:https://pbkik.hu/esemeny/uttoro-megoldasok-feketeen-feheren/
LOCATION:Majorossy Imre utca 36.\, Pécs\, 7625\, Magyarország
END:VEVENT
BEGIN:VEVENT
DTSTART;TZID=Europe/Helsinki:20200917T140000
DTEND;TZID=Europe/Helsinki:20200917T150000
DTSTAMP:20260421T055155
CREATED:20200907T105932Z
LAST-MODIFIED:20200917T103101Z
UID:10002117-1600351200-1600354800@pbkik.hu
SUMMARY:Szerb piaci lehetőségek
DESCRIPTION:Az ITT&MOST online tájékoztató fórumának témája a szerb (ezen belül leginkább Vajdaság) beruházási és üzleti együttműködési lehetőségek\, mely rendezvényre a CED Közép-európai Gazdaságfejlesztési Nonprofit Kft. és a Pécs-Baranyai Kereskedelmi és Iparkamara szervezésében kerül sor. \n \n  \nTémák: \n\nközvetlen külföldi tőkebefektetések\nüzleti környezet bemutatása\nmagyar vállalkozóknak releváns ágazatok\, együttműködési lehetőségek\n\nElőadók: \nDr. Lengyel László\,  ügyvezető (Pro Scientia Naturae Alapítvány)\n \nAna Muskinja\, tanácsadó\, Vajdasági Fejlesztési Ügynökség \nTörök György\, elnök\, Magyar-Szerb Kereskedelmi és Iparkamara \nVarga Imre\, ügyvezető alelnök\,  Magyar-Szerb Üzleti Tanács \nKaszás Anikó\, ügyvezető\, SolvElectric Technologies Kft. \n  \nElőadások: \nA Prosperitati Alapítvány Online gazdaképzésének bemutatása – Lengyel László\, ügyvezető (Pro Scientia Naturae Alapítvány) \nAz alapítvány tevékenysége által igyekszik összefogni\, támogatni és foglalkoztatni térségünk agrárértelmiségét\, valamint az ő szaktudásukat koordinált módon a térségünk fejlesztésére fordítani. A Prosperitati Alapítvány integrátorokat és azok beszállítóit támogató programjához kapcsolódóan olyan tudásanyagot készített el\, amely online módon\, hatékonyan növeli a gazdálkodók tudását és ezzel próbál hozzájárulni a gazdaságosabb\, egészségesebb\, környezetkímélőbb\, úgymond fenntartható mezőgazdasági fejlődéshez térségünkben. \nAna Muškinja\, a Vajdasági Fejlesztési Ügynökség (RAV) külföldi beruházási projektekért felelős tanácsadója\, előadásában Szerbia (ezen belül leginkább Vajdaság) jelenlegi gazdasági helyzetét körvonalazza\, különös figyelmet fordítva a külföldi cégek vajdasági beruházási esélyeire. A rendezvény résztvevői egy rövid útmutatót kapnak a vajdasági beruházási esélyekkel kapcsolatban. Ennek kapcsán szó esik közép-európai viszonylatokban történő összehasonlítás útjan a helyi jellegű előnyökről és hátrányokról. Ezenkívül\, a prezentációban be\,utatásra kerülnek a hagyományos (mezőgazdaság\, élelmiszeripar\, fémipar) és az újonnan felívelő (ICT-ipar) gazdasági szektorok jellemzőiről és fejlődési irányairól is. \nA tájékoztató után az előadók online tanácsadást nyújtanak\, vagy a későbbiekben az ITT és MOST felületén tárgyalásra jelölhetők lesznek. Amennyiben konkrét kérdése lenne a témával kapcsolatban\, azt a regisztráció során tudja előzetesen megírni az előadóknak. \nAz előadások magyar nyelven zajlanak. \nAz eseményen való részvétel díjmentes\, de előzetes regisztrációhoz kötött:\nA jelentkezés lezárult. \n 
URL:https://pbkik.hu/esemeny/szerb-piaci-lehetosegek/
LOCATION:Online
ATTACH;FMTTYPE=image/jpeg:https://pbkik.hu/wp-content/uploads/2020/09/itt__most_banner_1200x628_hu_1.jpg
END:VEVENT
BEGIN:VEVENT
DTSTART;TZID=Europe/Helsinki:20210302T083000
DTEND;TZID=Europe/Helsinki:20210302T170000
DTSTAMP:20260421T055155
CREATED:20210202T124515Z
LAST-MODIFIED:20210202T125343Z
UID:10001869-1614673800-1614704400@pbkik.hu
SUMMARY:Osztrák-Magyar Online Beszállítói Börze és B2B találkozó
DESCRIPTION:Az online beszállítói rendezvényre a HEPA Magyar Exportfejlesztési Ügynökség Nonprofit Zrt.\, Magyarország Bécsi Nagykövetsége\, a Fejér Megyei Kereskedelmi és Iparkamara\, a Győr-Moson-Sopron Megyei Kereskedelmi és Iparkamara\, osztrák oldalról pedig az Advantage Austria Budapest és az Osztrák Gazdasági Kamara társszervezésében kerül sor. \n \nAz osztrák-magyar üzleti kapcsolatokban az elmúlt évtizedek során kiemelt jelentőségűvé váltak a beszállítói együttműködések\, melyek keretében komoly szakértelemmel rendelkező hazai vállalkozások vesznek részt az osztrák partnerek gyártási folyamataiban.  A rendezvény lehetőséget nyújt a szabad gyártókapacitással rendelkező hazai cégeknek\, hogy olyan osztrák iparvállalatokat ismerjenek meg előre egyeztetett kétoldalú B2B tárgyalások keretében\, amelyek magyarországi beszállítók iránt érdeklődnek a következő szakterületeken: \n\nfémipar\, fémfeldolgozás\, fémmegmunkálás;\ngépgyártás;\nelektromos készülékek\, villamos berendezések gyártása;\ngépkocsi és jármű részegységeinek gyártása;\nélelmiszer és takarmány/állateledel gyártása;\nital és élvezeti cikkek gyártása;\ntextil-\, ruházati- és bőripari gyártás\n\nA részvétel térítésmentes\, de előzetes regisztrációhoz kötött.\n\nKérjük regisztráljon a rendezvény online platformján és foglaljon tárgyalásokat a résztvevő osztrák  cégekkel! \nREGISZTRÁCIÓ\nTovábbi információ: \nKardos Levente\, szakértő\, HEPA Magyar Exportfejlesztési Ügynökség Nonprofit Zrt. \nEmail: kardos.levente@hepa.hu
URL:https://pbkik.hu/esemeny/osztrak-magyar-online-beszallitoi-borze-es-b2b-talalkozo/
LOCATION:Online
END:VEVENT
BEGIN:VEVENT
DTSTART;VALUE=DATE:20210304
DTEND;VALUE=DATE:20210306
DTSTAMP:20260421T055155
CREATED:20210219T104144Z
LAST-MODIFIED:20210219T104848Z
UID:10001883-1614816000-1614988799@pbkik.hu
SUMMARY:DIVA 2021 - nemzetközi üzletember találkozó
DESCRIPTION:Az ICT és digitális megoldások a mezőgazdaság\, erdőgazdálkodás és környezetipar területén állnak az Enterprise Europe Network társszervezésében megvalósuló nemzetközi üzletember találkozó középpontjában. \n \nA programok remek alkalmat biztosítanak az aktuális technológiai trendek megismerésére és a témához kapcsolódó tudás megosztására\, K+F kapcsolatok kialakítására. Továbbá\, lehetőséget nyújtanak a résztvevő cégeknek\, hogy nemzetközi vevőket és üzleti partnereket ismerjenek meg előre egyeztetett kétoldalú B2B tárgyalások keretében. \n  \nA részvétel díjmentes\, de előzetes regisztrációhoz kötött: \nREGISZTRÁCIÓ
URL:https://pbkik.hu/esemeny/diva-2021-nemzetkozi-uzletember-talalkozo/
LOCATION:Online
ATTACH;FMTTYPE=image/png:https://pbkik.hu/wp-content/uploads/2021/02/diva.png
END:VEVENT
BEGIN:VEVENT
DTSTART;VALUE=DATE:20210709
DTEND;VALUE=DATE:20210710
DTSTAMP:20260421T055155
CREATED:20210622T103525Z
LAST-MODIFIED:20210622T104207Z
UID:10002419-1625788800-1625875199@pbkik.hu
SUMMARY:Horizon Europe  Food\, Bioeconomy\, Natural Resources\, Agriculture and Environment - online tájékoztató és konzorciumépítő rendezvény
DESCRIPTION:A H2020 keretprogram ‘Élelmiszerek\, biogazdaság\, természeti erőforrások és környezet’ tématerületéhez tartozó pályázati lehetőségeinek bemutatására és projektpartnerségek kialakítására online rendezvény kerül megrendezésre. \n \nHorizon Europe információs nap sorozatot és partnerségi/konzorciumépítő rendezvénysorozatot szervez. Utóbbiakra előzetes regisztráció szükséges\, online kétoldalú tárgyalásokat lehet kezdeményezni a többi résztvevővel\, illetve a projektötletek is prezentálhatók. \nCluster 6 Élelmiszerek\, biogazdaság\, természeti erőforrások és környezet \nKiemelt témák: \n\nKörnyezeti megfigyelés\nMezőgazdaság\, erdőgazdálkodás és vidéki térségek\nKörforgásos rendszerek\nÉlelmiszerrendszerek\nBiológiai sokféleség és természeti erőforrások\nTengerek\, óceánok és szárazföldi vizek\nBioalapú innovációs rendszerek az uniós biogazdaságban
URL:https://pbkik.hu/esemeny/horizon-europe-food-bioeconomy-natural-resources-agriculture-and-environment-online-tajekoztato-es-konzorciumepito-rendezveny/
LOCATION:Online
ATTACH;FMTTYPE=image/jpeg:https://pbkik.hu/wp-content/uploads/2021/06/cluster-6.jpg
END:VEVENT
BEGIN:VEVENT
DTSTART;VALUE=DATE:20210903
DTEND;VALUE=DATE:20210906
DTSTAMP:20260421T055155
CREATED:20210818T064058Z
LAST-MODIFIED:20210818T085252Z
UID:10002446-1630627200-1630886399@pbkik.hu
SUMMARY:28. Bjelovári Nemzetközi Őszi Vásár
DESCRIPTION:A horvátországi rendezvény kiváló lehetőséget biztosít a magyar vállalkozások számára exportpiaci jelenlétük erősítésére\, valamint üzleti kapcsolataik bővítésére\, innovatív termékeik és szolgáltatásaik bemutatására. \n \nA rendezvényen évről évre több\, mint 500 kiállító mutatkozik be a közel 70 000 m2-es kiállítói területen\, 50 000-nél is több látogatót vonzva minden évben. \nKiemelt ágazatok: \n\nÉlelmiszeripar és élelmiszer-feldolgozási technológiák\nMezőgazdasági gépgyártás\nNövénytermesztés\nÁllattenyésztés\n\n  \nAz idei évben a CED Közép-európai Gazdaságfejlesztési Hálózat Nonprofit Kft. szervezésében reprezentatív\, egységes arculattal ellátott magyar közösségi stand is megtalálható lesz a vásáron 80 m2-es beltéri\, és 48 m2-es kültéri területtel\, melyen kedvezvémynes kiállítási\, megjelenési lehetőséget biztosítanak az érdeklődő magyar vállalkozások számára. \nA kiállítóként történő részvétellel kapcsolatban keresse: \nWeller Krisztina exportfejlesztési tanácsadó \nweller.krisztina@ced.hu 
URL:https://pbkik.hu/esemeny/28-bjelovari-nemzetkozi-oszi-vasar/
LOCATION:Majorossy Imre utca 36.\, Pécs\, 7625\, Magyarország
END:VEVENT
BEGIN:VEVENT
DTSTART;TZID=Europe/Helsinki:20210921T140000
DTEND;TZID=Europe/Helsinki:20210921T170000
DTSTAMP:20260421T055155
CREATED:20210906T092656Z
LAST-MODIFIED:20210906T101908Z
UID:10002488-1632232800-1632243600@pbkik.hu
SUMMARY:88. Újvidéki Nemzetközi Mezőgazdasági Vásár
DESCRIPTION:A Magyar-Szerb Kereskedelmi és Iparkamara a 88. Újvidéki Nemzetközi Mezőgazdasági Vásár keretében megrendezi üzleti tárgyalásokkal egybekötött „Innovatív megoldások a versenyképes mezőgazdaságért” elnevezésű szakmai konferenciáját. \nAz eseményre 2021. szeptember 21-én 14.00 és 17.00 óra között kerül sor az Újvidéki Vásár Kongresszusi Központjának 1. és 2. termében (21000 Novi Sad (Újvidék)\, Hajduk Veljkova 11.). \nA rendezvény célja a mezőgazdaságban aktuális és innovatív kutatások és fejlesztések bemutatása: \n\na legmodernebb technológiák a késztáp-\, premix- és takarmányalapanyag-gyártás területén\,\na magyar vetőmag-előállításhoz és –termesztéshez fűződő genetikai kutatások eredményei\,\naz ipari kender gyakorlati felhasználása és alkalmazása.\n\nProgramterv: \n\n\n\n14:00 – 14:45\n Köszöntők  \n\n Dr.Pintér Attila – Magyarország belgrádi Nagykövete \nTörök György – Magyar-Szerb Kereskedelmi és Iparkamara Elnöke \n Dr.Orosz Csaba – Magyar-Szerb Üzleti Tanács Elnöke \n Szekér Klára Szilvia – nagyköveti tanácsos – mezőgazdasági és  környezetügyi szakdiplomata\, Magyarország Nagykövetsége Belgrád \nZavarkó Árpád – Magyarország újvidéki Tiszteltbeli Konzulja \n\n\n\n\n14:45 – 16:00\nSzakmai előadások és az előadásokkal kapcsolatos kérdések \n\nMolnár Károly – export menedzser\, UBM Feed Zrt  „Az állattenyésztési ágazat kihívásai és perspektívái a balkáni régióban” \nSándorfy András – ügyvezető igazgató\, Marton Genetics cégcsoport  „Hozambiztonság a kukoricatermesztésben – alkalmazkodás a változó  klimatikus körülményekhez” \nPatinszki Judit –export menedzser\, AlphaVet Kft  „A haszonnövények táplálási és növényvédelmi lehetőségei természetes  készítményekkel” \nTony Kez – alelnök\, ARCHENERG Klaszter Szeged  „Az ipari kender feldolgozásának és gyakorlati alkalmazásának legjobb példái  Magyarországon” \nDr.Maja Timotijevic – igazgató\, Konoplja Mezőgazdasági Szövetkezet  „Az ipari kender termesztése és feldolgozása Szerbiában” \n\n\n\n\n16:00 – 17:00\nÁllófogadás és B2B üzleti tárgyalások\n\n\n\nA magyar nyelvű előadásokhoz szerb nyelvre tolmácsolás\, a szerb nyelvű előadásokhoz magyar nyelvre tolmácsolás biztosított\, az angol nyelvű előadások tolmácsolás nélkül folynak. \nAz eseményen való részvétel ingyenes\, de előzetes regisztrációhoz kötött. Az érdeklődők legkésőbb 2021. szeptember 17-ig jelezhetik részvételi szándékukat a novisad@ced.hu e-mail címen.
URL:https://pbkik.hu/esemeny/88-ujvideki-nemzetkozi-mezogazdasagi-vasar/
END:VEVENT
BEGIN:VEVENT
DTSTART;TZID=Europe/Helsinki:20220127T090000
DTEND;TZID=Europe/Helsinki:20220128T160000
DTSTAMP:20260421T055155
CREATED:20220117T130517Z
LAST-MODIFIED:20220117T131537Z
UID:10002605-1643274000-1643385600@pbkik.hu
SUMMARY:Törökország-EU Üzleti Párbeszéd - Agri-Food Networking üzletember találkozó (online)
DESCRIPTION:Az Eurochambres a TEBD (Törökország – EU Üzleti Párbeszéd) projekt keretén belül meghirdeti az Agri–Food Networking Event c. online rendezvényt\, amelynek időpontja: 2022. január 27-28. \nA rendezvény a TEBD\, 2021. április 21-22-én megrendezett Agrár-Élelmiszeripari Fórum folytatásaként kerül megrendezésre\, és az EU és Törökország mezőgazdasági és élelmiszeripari vállalkozásai számára kiváló lehetőséget biztosít új üzleti kapcsolatok létrehozására és új partnerkapcsolatok kialakítására. A rendezvény az alábbi 6 témában fog zajlani: \n\nFöldrajzi jelzésű termékek\nSzárított gyümölcsök és diófélék\nAromás növények és gyógynövények\nFagyasztott élelmiszerek\nEgészséges életmóddal összefüggő táplálkozás és termékei (vegán\, gluténmentes\, diabetikus stb.)\n\n\nBio és organikus élelmiszerek\n\nRegisztráció és további információk az alábbi linken érhető el: TEBD Agri-Food Networking \nRészletes programot a regisztrációt követően kapnak a résztvevők. \nA rendezvény nyelve az angol\, magyar tolmácsolás nélkül.
URL:https://pbkik.hu/esemeny/torokorszag-eu-uzleti-parbeszed-agri-food-networking-uzletember-talalkozo-online/
LOCATION:online
END:VEVENT
BEGIN:VEVENT
DTSTART;TZID=Europe/Helsinki:20230217T080000
DTEND;TZID=Europe/Helsinki:20230217T093000
DTSTAMP:20260421T055155
CREATED:20230127T093248Z
LAST-MODIFIED:20230127T105646Z
UID:10002750-1676620800-1676626200@pbkik.hu
SUMMARY:Fenntartható Technológia Nap - együttműködési lehetőségek japán vállalkozásokkal
DESCRIPTION:Az EU-Japan Centre for Industrial Cooperation és az UNIDO Tokiói Befektetési és Technológiai Promóciós Irodája (UNIDO ITPO Tokyo) közösen online pitching és networking eseményt szerveznek\, melyre várnak minden a fenntarthatósági projektek iránt érdeklődő hazai céget. \n \nA résztvevőknek lehetőségük lesz olyan innovatív japán vállalatokat megismerni és felvenni a kapcsolatot\, amelyek fenntartható technológiákat fejlesztenek az energia\, a környezetvédelem\, a víz\, a mezőgazdaság\, a telekommunikáció területén és fenntartható projektek megvalósítását tervezik. \nA rendezvény hibrid formában kerül megrendezésre\, így az online üzleti tárgyalások lefolytatására a rendezvény után lesz lehetőség. \nBemutatkozó japán cégek: \n– AGC Inc.: rendkívül tartós és nagy fényáteresztő képességű fluoropolimer fólia gyártása üvegházak számára \n– Biomass Resin Holdings Co.: biológiailag lebomló és nem biológiailag lebomló biomassza műanyag vegyületelőállítása rizsből \n– FujiClean Co.: helyszíni szennyvíztisztító rendszerek gyártása \n– Mebiol Inc.: hidrogél fólia csökkentett vízigényű gazdálkodáshoz \n– NEC Corporation: hibrid tárolási megoldások a megújuló energia optimalizálására \n– TBM Co.: alternatív műanyag és papír alapanyag: LIMEX \n– Yamaha Motor Co.: homokszűrést és napelemes fotovoltaikát alkalmazó víztisztító rendszer \nAz online tájékoztatón és az üzleti partnerekeresésen történő részvételhez előzetes regisztráció szükséges: \nFenntartható Technológia Nap  – REGISZTRÁCIÓ\n 
URL:https://pbkik.hu/esemeny/fenntarthato-technologia-nap-egyuttmukodesi-lehetosegek-japan-vallalkozasokkal/
LOCATION:Online
ATTACH;FMTTYPE=image/png:https://pbkik.hu/wp-content/uploads/2023/01/environment-7412966_1920.png
END:VEVENT
BEGIN:VEVENT
DTSTART;VALUE=DATE:20240311
DTEND;VALUE=DATE:20240314
DTSTAMP:20260421T055155
CREATED:20240124T091209Z
LAST-MODIFIED:20240319T080345Z
UID:10002890-1710115200-1710374399@pbkik.hu
SUMMARY:Kamarai piacfeltáró út a szerb vajdasági Bánát régióba
DESCRIPTION:Baranyai vállalkozók is részt vehetnek az alábbi Szerbiában – ezen belül a Vajdasági Bánát régióban – megrendezésre kerülő üzleti fórumon és B2B találkozón\, melynek célja a két ország vállalkozói között kialakítható üzleti lehetőségek személyes megismerése és kapcsolatfelvétel Bánát régió intézményes és cégképviselőinek jelenlétében. \nAz üzleti találkozó időpontja: 2024. március 11 – 13. (hétfő  – szerda) \nAz üzleti találkozó helyszíne: Törökbecse (Novi Bečej)\, Szerbia \nA törökbecsei Információs Iroda kiváló üzleti kapcsolatokat ápol a szerbiai regionális és térségi kamarákkal\, valamint önkormányzatokkal. Az Információs Iroda üzleti szolgáltatásai közé tartozik  az üzleti kapcsolatépítés\, a potenciális üzleti felek felkutatása\, tanácsadás\, különböző szakemberek (pl. ügyvédek) ajánlása. \nTevékenysége elősegíti\, hogy Magyarország és Szerbia vállalkozásai\, befektetői és gazdasági szakemberei sikeres két- és többoldalú együttműködéseket alakítsanak ki. \nMilyen profilú gazdasági szervezeteknek ajánljuk a részvételt? \n Exportorientált vállalkozásoknak\, amelyek az \n\nélelmiszeripar\,\nmezőgazdasági gépek gyártása és forgalmazása\,\ntelepülési infrastruktúra fejlesztése\,\nturizmus\,\nvízgazdálkodás területén működnek.\n\nA szakmai programok nyelve: Valamennyi program magyar és szerb nyelven zajlik\, konszekutív tolmácsolással. A részvételnek nem feltétele az angol nyelvtudás. \nJelentkezés menete: A vállalkozások az alábbi hivatkozásra kattintott űrlap teljeskörű kitöltésével és határidőn belüli visszaküldésével jelentkezhetnek. \nJelentkezési határidő: 2024. február 16.\, péntek \nA jelentkezések elbírálása a beérkezés sorrendjében történik. A kiválasztásra kerülő vállalkozásokat – a részletes program egyidejű megküldésével – emailben tájékoztatjuk a szükséges további teendőkről.  A március 12-i szakmai fórum programjáról és előadók személyéről a későbbiekben tudunk tájékoztatást adni. \nUtazással kapcsolatos tudnivalók: A résztvevők számára a kiutazás egyénileg\, saját költségen történik\, a szállásfoglaláshoz ajánlatokat tudunk biztosítani. Az üzleti fórumon történő részvétel ingyenes. \nMegfelelő létszámú baranyai jelentkező esetén közös leutazást a PBKIK szervezi. \nRészvételt kizáró ok: Az ország bármelyik vármegyéjében fennálló\, rendezetlen kamarai kötelező hozzájárulás léte. \nJelentkezés és további információ: Schmidt Enikő schmidt.eniko@pbkik.hu
URL:https://pbkik.hu/esemeny/kamarai-piacfeltaro-utja-a-vajdasagi-banat-regioba/
LOCATION:Szerbia\, Magyarország
END:VEVENT
BEGIN:VEVENT
DTSTART;VALUE=DATE:20240604
DTEND;VALUE=DATE:20240608
DTSTAMP:20260421T055155
CREATED:20240327T142152Z
LAST-MODIFIED:20240801T111728Z
UID:10002926-1717459200-1717804799@pbkik.hu
SUMMARY:Kamarai üzleti delegáció Lengyelországba\, Poznanba támogatott részvételi lehetőséggel
DESCRIPTION:A Magyar Kereskedelmi és Iparkamara (MKIK) Vállalkozásfejlesztési Projektjének keretében 2024. június 4-7. között támogatott részvételi lehetőséggel üzleti delegációt szervez Lengyelországba\, Poznanba. Az exportőr kis- és középvállalkozások részvételét a Nemzetgazdasági Minisztérium támogatja költségvetési forrásból. \n \nA kiutazás célja – az általános üzleti kapcsolatok fejlesztése mellett – a két ország vállalkozói közötti együttműködési lehetőségek feltérképezése\, valamint a lengyel üzleti környezet bemutatása. A delegáció látogatást tesz az ITM Industry Europe nemzetközi ipari szakvásáron\, valamint terveink között szerepel egy lengyel partnerszervezet meglátogatása is. \nMiért érdemes részt venni?\n\ningyenes részvétel a szakmai és üzleti programokon\,\ntájékozódás Lengyelország üzleti környezetéről\, a gazdasági együttműködési lehetőségekről\,\ntárgyalás potenciális üzleti partnerekkel\,\nvásárlátogatás az ITM Industry Europe nemzetközi ipari szakvásáron\,\ntámogatott részvétel a megjelölt szektorokban tevékenykedő exportőr kis- és középvállalkozások számára:\n\nszállástámogatás cégenként egy fő részére három éjszakára egyágyas szobában reggelivel\,\nkinti transzfer a szálláshely és a szakmai programok helyszínei között biztosítunk max. 2 fő számára cégenként.\n\n\n\nAz ITM Industry Europe szakvásárról röviden\nA 2024. június 4-7. között megrendezésre kerülő ITM Industry Europe az egyik legnagyobb és legjelentősebb ipari vásár Európában\, amely az Ipar 4.0 irányvonalai szerint mutatja be a globális trendeket\, a géptechnológiai innováció fő eredményeit. \nA világszínvonalú kiállítók és szakemberek képviseltetik magukat a kiállításon az ipari automatizálás\, a kohászat és a fémmegmunkálás\, a modern gépgyártás és innovatív technológiák területeiről. \nKiemelt szektorok: \n\ngépipar\nautóipar\nmezőgazdaság\nélelmiszeripar\nenergiaipar\ngyártás\nfémipar\ngyógyászat.\n\nA delegációba a Lengyelország iránt érdeklődő\, a fenti területeken tevékenykedő\, exportorientált cégprofilú kis- és középvállalkozások jelentkezését várják. \nTervezett szakmai és üzleti programok \n\nTájékoztató rendezvény a lengyelországi gazdaságról és üzleti lehetőségekről.\nLengyelországi szakmai szervezetek látogatása\, szakmai előadásokon való ingyenes részvétel.\nVásárlátogatás az ITM Industry Europe ipari szakvásáron.\n\nA részletes szakmai programról a későbbiekben küldünk tájékoztatást. A szakmai programok nyelve az angol\, magyar tolmácsolást nem biztosítanak. \n  \nSzervezők \nA Magyar Kereskedelmi és Iparkamara (MKIK) együttműködve Magyarország Varsói Nagykövetségével. \nA támogatott részvétel feltételei \n\nmagyarországi bejegyzésű kis- és középvállalkozás\, mely a fent megjelölt szektorok valamelyikében tevékenykedik\,\nexportorientált cégprofil\,\na delegált cégképviselő megfelelő szintű angol nyelvtudása\,\nérvényes kamarai regisztráció\,\na jelentkezéshez és a részvételhez szükséges minden dokumentum hiánytalan\, megfelelő minőségben történő kitöltése és visszaküldése a megjelölt határidőig: jelentkezési lap\, angol nyelvű cégprofil\, cégszerűen aláírt költségvállalási nyilatkozat\,\na megjelölt szektorokban tevékenykedő vállalkozások esetében az MKIK fizeti egy fő számára a három éjszaka szállásköltségét (egyágyas szobában reggelivel a későbbiekben meghatározott szállodában) és a kinti transzfereket\,\ncégenként egy fő jelentkezését várjuk\, de a szabad férőhelyek függvényében max. 2 fő részvétele lehetséges\, a második résztvevőnek az MKIK csak a kinti transzferköltségeket fizeti\,\na szállásköltség támogatásának feltétele a költségvállalási nyilatkozat meghatározott határidőig történő cégszerű aláírása és visszaküldése.\na kinti transzferek csak abban az esetben biztosítottak\, amennyiben a cégképviselő a későbbiekben meghatározott szállodában száll meg\, valamint végig a csoporttal közlekedik a szakmai programokra. Egyéb esetben a közlekedés egyéni szervezésben történik.\naz üzleti delegáció külföldi szakmai programjának gördülékeny lebonyolítása céljából a csoport tagjai a kinti helyszínek között együtt közlekednek és az MKIK által a későbbiekben meghatározott hotelben szállnak meg. Ezektől eltérő szolgáltatásokat is igénybe lehet venni\, de ebben az esetben a résztvevő nem részesül a szállás- és transzferköltség támogatásában.\n\nFelhívjuk figyelmüket\, hogy a jelentkezők részvételéről a Nemzetgazdasági Minisztérium és a Magyar Kereskedelmi és Iparkamara dönt. Az MKIK írásban értesíti a döntésről a jelentkezőket. \n  \nVárható költségek \n\na repülőjegy\, ill. egyéb kiutazási módok költségei\,\na szakmai programon kívüli étkezések\, transzferek\, fakultatív programok\,\na második céges résztvevő esetén szállásköltség két éjszakára egyágyas szobában reggelivel.\n\nKöltségvállalási nyilatkozat \n\nA szállásköltség támogatásának feltétele a mellékelt költségvállalási nyilatkozat meghatározott határidőig történő cégszerű aláírása és visszaküldése.\nVisszamondás esetén a cég köteles megtéríteni az előzetesen megrendelt szolgáltatás (szállás három éjszakára reggelivel) költségét az MKIK-nak.\n\nAdatkezelés \nA Magyar Kereskedelmi és Iparkamara (MKIK) által végzett\, személyes adatokra vonatozó adatkezelés az MKIK Adatkezelési Tájékoztatójában meghatározottak és a hatályos jogszabályok szerint valósul meg. Az MKIK Adatkezelési Tájékoztatója az MKIK honlapján elérhető: www.mkik.hu. \n  \nJelentkezési határidő: 2024. április 15. \n  \nJelentkezés módja\nAz alábbiakban felsorolt három melléklet együttes\, határidőre történő megküldése a reok.miklos@mkik.hu e-mail címre: \n\njelentkezési lap – jelentkezőnként kell kitölteni\nangol nyelvű cégprofil – cégenként kell kitölteni\nköltségvállalási nyilatkozat – cégenként kell kitölteni cégszerű aláírással\n\nA mellékletek letölthetőek ezen a linken: \nJELENTKEZÉS\nA támogatással kiutazó résztvevők létszáma korlátozott\, ezért a jelentkezéseket azok beérkezésének sorrendjében fogadják be. \nKérjük\, hogy az üzleti delegációval kapcsolatos foglalásaikat csak azt követően véglegesítsék\, hogy az MKIK elfogadta és visszaigazolta cégük részvételét. \n  \nTovábbi információ: Reök Miklós külpiaci koordinátor \nE-mail: reok.miklos@mkik.hu \nTelefon: +36 1 474 5117
URL:https://pbkik.hu/esemeny/kamarai-uzleti-delegacio-lengyelorszagba-poznanba-tamogatott-reszveteli-lehetoseggel/
ATTACH;FMTTYPE=image/jpeg:https://pbkik.hu/wp-content/uploads/2019/03/mkik_logo_1.jpg
END:VEVENT
END:VCALENDAR