BEGIN:VCALENDAR
VERSION:2.0
PRODID:-//Pécs-Baranyai Kereskedelmi és Iparkamara - ECPv6.15.20//NONSGML v1.0//EN
CALSCALE:GREGORIAN
METHOD:PUBLISH
X-WR-CALNAME:Pécs-Baranyai Kereskedelmi és Iparkamara
X-ORIGINAL-URL:https://pbkik.hu
X-WR-CALDESC:Események Pécs-Baranyai Kereskedelmi és Iparkamara
REFRESH-INTERVAL;VALUE=DURATION:PT1H
X-Robots-Tag:noindex
X-PUBLISHED-TTL:PT1H
BEGIN:VTIMEZONE
TZID:Europe/Budapest
BEGIN:DAYLIGHT
TZOFFSETFROM:+0100
TZOFFSETTO:+0200
TZNAME:CEST
DTSTART:20230326T010000
END:DAYLIGHT
BEGIN:STANDARD
TZOFFSETFROM:+0200
TZOFFSETTO:+0100
TZNAME:CET
DTSTART:20231029T010000
END:STANDARD
BEGIN:DAYLIGHT
TZOFFSETFROM:+0100
TZOFFSETTO:+0200
TZNAME:CEST
DTSTART:20240331T010000
END:DAYLIGHT
BEGIN:STANDARD
TZOFFSETFROM:+0200
TZOFFSETTO:+0100
TZNAME:CET
DTSTART:20241027T010000
END:STANDARD
BEGIN:DAYLIGHT
TZOFFSETFROM:+0100
TZOFFSETTO:+0200
TZNAME:CEST
DTSTART:20250330T010000
END:DAYLIGHT
BEGIN:STANDARD
TZOFFSETFROM:+0200
TZOFFSETTO:+0100
TZNAME:CET
DTSTART:20251026T010000
END:STANDARD
BEGIN:DAYLIGHT
TZOFFSETFROM:+0100
TZOFFSETTO:+0200
TZNAME:CEST
DTSTART:20260329T010000
END:DAYLIGHT
BEGIN:STANDARD
TZOFFSETFROM:+0200
TZOFFSETTO:+0100
TZNAME:CET
DTSTART:20261025T010000
END:STANDARD
END:VTIMEZONE
BEGIN:VEVENT
DTSTART;TZID=Europe/Budapest:20241113T140000
DTEND;TZID=Europe/Budapest:20241113T160000
DTSTAMP:20260421T194309
CREATED:20241004T075514Z
LAST-MODIFIED:20250814T073039Z
UID:10002981-1731506400-1731513600@pbkik.hu
SUMMARY:Elhalasztva! "Kína már nem másol\, hanem előtte van bárminek." ...valóban így van-e ez?
DESCRIPTION:Az esemény technikai okok miatt elhalasztva. \n*** \n„Kína már nem másol\, hanem előtte van bárminek.” – e mondat Csikós Zsolttól\, a speedzone.hu újságírójától hangzott el a 2024-es Pekingi Autószalonon tapasztaltakkal kapcsolatban. \nDe valóban így van ez? Mely területeken van így? A Kamarai Minőségügyi Klub ilyen és ehhez hasonló kérdések mentén szervez találkozót 2024. november 13-án\, Pécsett\, melyre tisztelettel várjuk a minőségügyi szakembereket és a vállalkozásvezetőket. \n \nMiről lesz szó?\nAz eseményen minőségügyi szempontú megközelítésből vizsgálja a klub a kínai ipart\, és a résztvevők tapasztalatcseréjére alapoz. A témát Györki Renátó indítja el\, aki saját személyes élményeit átadva segít kontextusba helyezni a kínai gondolkodást\, a szervezeti működést\, a kapcsolatokat. A beszélgetésre mind a minőségügyben dolgozó szakembereket\, mind a cégvezetőket várjuk! \nFelvezető és moderátor: Lukács Zoltán\, a CERT Tanúsító Zrt. vezérigazgatója\, és Béda Károly\, a MAVASZK Kft. ügyvezetője. \n  \nDátum:\n2024. november 13. (szerda) \nIdőpont:\n14-16 óra \nHelyszín:\nPBKIK székháza (7625 Pécs\, Majorossy Imre u. 36.) \n  \nJelentkezés:\n2024. november 6. szerda nap végéig várjuk a jelentkezéseket! A részvétel díjmentes\, de rendezett kamarai regisztrációhoz és előzetes jelentkezéshez kötött! \n\nA klub rendezvényeinek rendszeres látogatói részéről egyszerű e-mailes „Részt veszek!” jelzés elegendő a csaszar.gergely@pbkik.hu e-mail címre.\nAz új jelentkezőket kérjük a jelentkezési lap kitöltésére – ehhez kérjük\, KATTINTSANAK IDE!\n\n  \nTovábbi információ:\nCsászár Gergely (csaszar.gergely@pbkik.hu) \nPiacsek László (piacsek.laszlo@pbkik.hu) \n  \nSzakmai együttműködő partnerek:\n\nCERT TANÚSÍTÓ ZRT.\nMAVASZK Kft.\n\n  \nHivatkozás:\n„Kína már nem másol\, hanem előtte van bárminek.” Csikós Zsolt újságíró\, speedzone.hu (2024-es Pekingi Autószalon\, videó: 2024. szeptember 22. Youtube.com) \n* * * \nA rendezvényt a vállalkozások nemzetközi sikereit elősegítő Enterprise Europe Network támogatja.
URL:https://pbkik.hu/esemeny/kina-mar-nem-masol-hanem-elotte-van-barminek-valoban-igy-van-e-ez/
LOCATION:Pécsi Kereskedelmi Központ
CATEGORIES:EEN események,Kamarai Minőségügyi Klub rendezvény
ATTACH;FMTTYPE=image/jpeg:https://pbkik.hu/wp-content/uploads/2023/11/KMK_Logo_bigframe-e1697798633125-3.jpg
GEO:46.081487;18.2347915
END:VEVENT
BEGIN:VEVENT
DTSTART;TZID=Europe/Budapest:20250305T140000
DTEND;TZID=Europe/Budapest:20250305T160000
DTSTAMP:20260421T194309
CREATED:20250212T124528Z
LAST-MODIFIED:20250814T073030Z
UID:10003038-1741183200-1741190400@pbkik.hu
SUMMARY:"Kína már nem másol\, hanem előtte van bárminek." ...valóban így van-e ez?
DESCRIPTION:„Kína már nem másol\, hanem előtte van bárminek.” – e mondat Csikós Zsolttól\, a speedzone.hu újságírójától hangzott el a 2024-es Pekingi Autószalonon tapasztaltakkal kapcsolatban. \nDe valóban így van ez? Mely területeken van így? A Kamarai Minőségügyi Klub ilyen és ehhez hasonló kérdések mentén szervez találkozót 2025. március 5-én\, Pécsett.. \n \nMiről lesz szó?\nAz eseményen minőségügyi szempontú megközelítésből vizsgálja a klub a kínai ipart\, és a résztvevők tapasztalatcseréjére alapoz. A témát Györki Renátó\, a PBKIK újonnan kinevezett\, kínai relációs Üzletfejlesztési Követe indítja el\, aki saját személyes élményeit átadva segít kontextusba helyezni a kínai gondolkodást\, a szervezeti működést\, a kapcsolatokat. \nA témákból: kínai befektetőcsoport érkezése Pécsre – magyar üzleti út Kínába – gazdasági és kulturális kapcsolatok – a kínai gazdaság jelenlegi állapota – oktatásbeli és kulturális különbségek – a kínai elektromos autók piaca – a gazdaságot érintő politikai témák – ingatlanpiac – túltermelés  – találmányok és innovációk. \nA beszélgetésre mind a minőségügyben dolgozó szakembereket\, mind a cégvezetőket várjuk! \nFelvezető és moderátor: Lukács Zoltán\, a CERT Tanúsító Zrt. vezérigazgatója\, és Béda Károly\, a MAVASZK Kft. ügyvezetője. \n  \nDátum: 2025. március 5. (szerda)\nIdőpont:  14-16 óra\nHelyszín: PBKIK székháza (7625 Pécs\, Majorossy Imre u. 36.)\n  \nJelentkezés:\n2025. február 26. szerda nap végéig várjuk a jelentkezéseket! \nA részvétel díjmentes\, de rendezett kamarai regisztrációhoz és előzetes jelentkezéshez kötött! \n\nA klub rendezvényeinek rendszeres látogatói részéről egyszerű e-mailes „Részt veszek!” jelzés elegendő a csaszar.gergely@pbkik.hu e-mail címre.\nAz új jelentkezőket kérjük a jelentkezési lap kitöltésére – ehhez kérjük\, KATTINTSANAK IDE!\n\n  \nTovábbi információ:\nCsászár Gergely (csaszar.gergely@pbkik.hu) \nPiacsek László (piacsek.laszlo@pbkik.hu) \n  \nSzakmai együttműködő partnerek:\n\nCERT TANÚSÍTÓ ZRT.\nMAVASZK Kft.\n\n  \nHivatkozás:\n„Kína már nem másol\, hanem előtte van bárminek.” Csikós Zsolt újságíró\, speedzone.hu (2024-es Pekingi Autószalon\, videó: 2024. szeptember 22. Youtube.com) \n* * * \nA rendezvényt a vállalkozások nemzetközi sikereit elősegítő Enterprise Europe Network támogatja.
URL:https://pbkik.hu/esemeny/kina-mar-nem-masol-hanem-elotte-van-barminek-valoban-igy-van-e-ez-2/
LOCATION:Pécsi Kereskedelmi Központ
CATEGORIES:EEN események,Kamarai Minőségügyi Klub rendezvény
GEO:46.081487;18.2347915
END:VEVENT
BEGIN:VEVENT
DTSTART;TZID=Europe/Budapest:20250626T140000
DTEND;TZID=Europe/Budapest:20250626T140000
DTSTAMP:20260421T194309
CREATED:20250612T091439Z
LAST-MODIFIED:20250814T073016Z
UID:10003123-1750946400-1750946400@pbkik.hu
SUMMARY:Minőségi projektmenedzsment – jól menedzselt minőség a FILMEX Packaging-nél
DESCRIPTION:Menedzsment kultúra fejlesztése témában rendezi meg a Kamarai Minőségügyi Klub a következő eseményét. Milyen a sikeres minőségkultúra-fejlesztési projekt? Béda Károly (MAVASZK Kft.) felvezetésével ez alkalommal a FILMEX Packaging Kft. minőségi kultúrájába\, működésébe enged betekintést Piukovics Márk ügyvezető. \n \n\n\n\n  \nDátum: 2025. június 26. (csütörtök)\nIdőpont: 14-16 óra\nHelyszín: Mischler Cukrászda (Pécs\, Erkel Ferenc u. 8.)\nParkolás: Erkel Ferenc utcában\, Lázár Vilmos utcában és az Endresz György utcában lehetséges \n\nMiről lesz szó?\nA FILMEX Packaging Kft. példáját Piukovics Márk\, a cég ügyvezetője mutatja be egy beszélgetés keretében. \n\nMelyek az alapfeltételei egy sikeres projektnek?\nMilyen szakaszokból épül fel\, hol vannak a választóvonalak?\nMilyen problémák merülnek fel\, azokat hogyan lehet orvosolni?\n\nAz esemény nem előadás jellegű\, alkalom nyílik a résztvevők közötti benchmarkingra. \nA témákat felvezeti és moderálja: Béda Károly\, a MAVASZK Kft. ügyvezetője. \nA részvétel díjmentes\, de rendezett kamarai regisztrációhoz és előzetes jelentkezéshez kötött!  \nJelentkezés:\nJelentkezéseiket június 20. délig kérjük: \n\nA klubrendezvények rendszeres látogatói részéről egyszerű e-mailes visszajelzés elegendő (jövök / nem jövök).\nAz új jelentkezőket kérjük a jelentkezési lap kitöltésére – ehhez kérjük\, KATTINTSANAK IDE!\n\n A FILMEX Packaging Kft. egy magyarországi vállalat\, amely fóliák és csomagolóanyagok gyártásával foglalkozik. A cég fő termékei közé tartoznak a műanyag csomagolóanyagok különböző iparágak számára\, mint például élelmiszeripar\, elektronikai összeszerelőüzemek\, autóipar és építőipar\, illetve mezőgazdasági és háztartási felhasználásra is gyártanak. A FILMEX elkötelezett a fenntarthatóság mellett\, és a környezetbarát csomagolási megoldások fejlesztésére fókuszál. Az általuk gyártott polietilén granulátumok 50%-a újrahasznosított anyagból származik. A cég folyamatosan innovál és fejleszti technológiáit\, hogy a legjobb minőségű termékeket biztosítsa ügyfelei számára. \nTanúsítványok: BRC Globális Szabvány\, ISO 9001:2015\, ISO 14001:2015 \nAz előző – hasonló témájú – klubülésről\, melyen Szanyi Gábor (CAADEX Kft.) osztotta meg gondolatait\, Ozsváth Tamás (Termoplast Kft.) így nyilatkozott: \n„Először is köszönöm a meghívást. Nagyszerű volt\, hogy ilyen interaktív módon zajlott az előadás. Szanyi Gábor előadása\, gondolatai és minden témát érintő okfejtései sok pluszt adtak az egész programhoz. A részemről történő elvárásokat túlteljesítette az egész program. Sok hasznos gondolatot hallottam és vitattunk meg.” \nTovábbi információ:\nCsászár Gergely (csaszar.gergely@pbkik.hu)\nPiacsek László (piacsek.laszlo@pbkik.hu)\n* * * \nSzakmai együttműködő partnerek: \n\nCERT TANÚSÍTÓ ZRT.\nMAVASZK Kft.\n\n A rendezvényt a vállalkozások nemzetközi sikereit elősegítő Enterprise Europe Network támogatja.
URL:https://pbkik.hu/esemeny/minosegi-projektmenedzsment-jol-menedzselt-minoseg-a-filmex-packaging-nel/
LOCATION:Mischler Cukrászda (7633 Pécs\, Erkel Ferenc u. 8.)\, Erkel Ferenc u. 8.\, Pécs\, Baranya\, 7633\, Magyarország
CATEGORIES:EEN események,Kamarai Minőségügyi Klub rendezvény
END:VEVENT
END:VCALENDAR