BEGIN:VCALENDAR
VERSION:2.0
PRODID:-//Pécs-Baranyai Kereskedelmi és Iparkamara - ECPv6.15.20//NONSGML v1.0//EN
CALSCALE:GREGORIAN
METHOD:PUBLISH
X-WR-CALNAME:Pécs-Baranyai Kereskedelmi és Iparkamara
X-ORIGINAL-URL:https://pbkik.hu
X-WR-CALDESC:Események Pécs-Baranyai Kereskedelmi és Iparkamara
REFRESH-INTERVAL;VALUE=DURATION:PT1H
X-Robots-Tag:noindex
X-PUBLISHED-TTL:PT1H
BEGIN:VTIMEZONE
TZID:Europe/Helsinki
BEGIN:DAYLIGHT
TZOFFSETFROM:+0200
TZOFFSETTO:+0300
TZNAME:EEST
DTSTART:20180325T010000
END:DAYLIGHT
BEGIN:STANDARD
TZOFFSETFROM:+0300
TZOFFSETTO:+0200
TZNAME:EET
DTSTART:20181028T010000
END:STANDARD
BEGIN:DAYLIGHT
TZOFFSETFROM:+0200
TZOFFSETTO:+0300
TZNAME:EEST
DTSTART:20190331T010000
END:DAYLIGHT
BEGIN:STANDARD
TZOFFSETFROM:+0300
TZOFFSETTO:+0200
TZNAME:EET
DTSTART:20191027T010000
END:STANDARD
BEGIN:DAYLIGHT
TZOFFSETFROM:+0200
TZOFFSETTO:+0300
TZNAME:EEST
DTSTART:20200329T010000
END:DAYLIGHT
BEGIN:STANDARD
TZOFFSETFROM:+0300
TZOFFSETTO:+0200
TZNAME:EET
DTSTART:20201025T010000
END:STANDARD
END:VTIMEZONE
BEGIN:VEVENT
DTSTART;TZID=Europe/Helsinki:20190930T100000
DTEND;TZID=Europe/Helsinki:20190930T120000
DTSTAMP:20260420T032847
CREATED:20190926T123454Z
LAST-MODIFIED:20191031T144025Z
UID:10001677-1569837600-1569844800@pbkik.hu
SUMMARY:Munkáltatói fórum Mohácson
DESCRIPTION:A minél hatékonyabb munkaerő utánpótlás érdekében szerveznek Munkáltatói – Vállalkozói Fórumot Mohácson. \n \nSzeptember 30-án\, a Mohácsi Járási Hivatal Foglalkoztatási Osztályának épületében 10.00 órakor kezdődő eseményt a Baranya Megyei Önkormányzat a TOP-5.1.1-15-BA1-2016-00001 kódszámú „Foglalkoztatási Szövetkezés Baranya Felzárkózásáért 2020” című projekt keretében szervezi. \nA fórumon résztvevők a paktum keretében kapható foglalkoztatás ösztönző támogatási lehetőségekről. kapnak majd tájékoztatást. Várják a szervezők\, a paktummal kapcsolatos vállalkozói ötleteket\, igényeket\, valamint a vállalkozókat segítő információkkal kerekasztal beszélgetést is terveznek.
URL:https://pbkik.hu/esemeny/munkaltatoi-forum-mohacson/
LOCATION:Mohács\, Magyarország
END:VEVENT
END:VCALENDAR