BEGIN:VCALENDAR
VERSION:2.0
PRODID:-//Pécs-Baranyai Kereskedelmi és Iparkamara - ECPv6.15.20//NONSGML v1.0//EN
CALSCALE:GREGORIAN
METHOD:PUBLISH
X-WR-CALNAME:Pécs-Baranyai Kereskedelmi és Iparkamara
X-ORIGINAL-URL:https://pbkik.hu
X-WR-CALDESC:Események Pécs-Baranyai Kereskedelmi és Iparkamara
REFRESH-INTERVAL;VALUE=DURATION:PT1H
X-Robots-Tag:noindex
X-PUBLISHED-TTL:PT1H
BEGIN:VTIMEZONE
TZID:Europe/Helsinki
BEGIN:DAYLIGHT
TZOFFSETFROM:+0200
TZOFFSETTO:+0300
TZNAME:EEST
DTSTART:20180325T010000
END:DAYLIGHT
BEGIN:STANDARD
TZOFFSETFROM:+0300
TZOFFSETTO:+0200
TZNAME:EET
DTSTART:20181028T010000
END:STANDARD
BEGIN:DAYLIGHT
TZOFFSETFROM:+0200
TZOFFSETTO:+0300
TZNAME:EEST
DTSTART:20190331T010000
END:DAYLIGHT
BEGIN:STANDARD
TZOFFSETFROM:+0300
TZOFFSETTO:+0200
TZNAME:EET
DTSTART:20191027T010000
END:STANDARD
BEGIN:DAYLIGHT
TZOFFSETFROM:+0200
TZOFFSETTO:+0300
TZNAME:EEST
DTSTART:20200329T010000
END:DAYLIGHT
BEGIN:STANDARD
TZOFFSETFROM:+0300
TZOFFSETTO:+0200
TZNAME:EET
DTSTART:20201025T010000
END:STANDARD
END:VTIMEZONE
BEGIN:VEVENT
DTSTART;VALUE=DATE:20191003
DTEND;VALUE=DATE:20191004
DTSTAMP:20260420T012056
CREATED:20190901T132008Z
LAST-MODIFIED:20220131T142305Z
UID:10001666-1570060800-1570147199@pbkik.hu
SUMMARY:KREATÍVDIALÓG
DESCRIPTION:A Pécs-Baranyai Kereskedelmi és Iparkamara szeretettel vár minden érdeklődőt következő nyílt rendezvényére\, ahol az EFOP-1.2.9-17-2017-00082 „Munka ÉS Család – A nők munkaerő-piaci helyzetének javítása és Nő-Köz- Pont létrehozása Pécsett” című projekt keretében megismerhetnek olyan hazai és nemzetközi kreatív ipari szereplőket és szakértőket\, akik bemutatják ennek az ágazatnak a sajátosságait és a női munkaerő\, valamint a női vezetők jelenlétet és szerepét a kapcsolódó munkakörökben. \nPROGRAM: \n13:00 – 13:05 KÖSZÖNTŐ\n13:05 – 13:45 IP3 és a PÉCSI KREATÍVOK (Cserkúthy Hanna\, divattervező\, Whispering Dresses)\n13:45 – 14:25 DIZÁJN KÖZÖSSÉGEK ÉS A NŐK FOGLALKOZTATÁSA (Pazaurek Szabina\, projektmenedzser)\n14:40 – 15:25 WOTH PARTNERSHIP PROJEKT (Keresnyei János\, elnök\, Kreatív Ipari Klaszter)\n15:35 – 16:10 FILMGYÁRTÁS – PÉCS (Urbán Ernő\, Filming in Pécs)\n16:10 – 16:30 ALTERNATÍV FOGLALKOZTATÁSI FORMÁK – TERVEZŐGRAFIKA\n16:30 – 17:00 KEREKASZTAL BESZÉLGETÉS \nA rendezvény az EFOP-1.2.9-17-2017-00082 „Munka ÉS Család – A nők munkaerő-piaci helyzetének javítása és Nő-Köz- Pont létrehozása Pécsett” című projekt keretében valósul meg.
URL:https://pbkik.hu/esemeny/kreativdialog/
LOCATION:TREZOR Rendezvényház\, Király u. 11.\, Pécs\, Baranya\, 7621\, Magyarország
END:VEVENT
BEGIN:VEVENT
DTSTART;TZID=Europe/Helsinki:20191004T100000
DTEND;TZID=Europe/Helsinki:20191004T153000
DTSTAMP:20260420T012056
CREATED:20190901T132404Z
LAST-MODIFIED:20220131T142711Z
UID:10001914-1570183200-1570203000@pbkik.hu
SUMMARY:KREACTIVITY – KREATÍV SZAKMÁK ÉS PÉCSI DIZÁJNEREK
DESCRIPTION:A Pécs-Baranyai Kereskedelmi és Iparkamara EFOP-1.2.9-17-2017-00082 „Munka ÉS Család – A nők munkaerő-piaci helyzetének javítása és Nő-Köz- Pont létrehozása Pécsett” című projekt keretében rendhagyó pályaorientációs rendezvényt szervez\, melynek középpontjában a kreatív szakmák állnak. \n \nA rendezvény célja\, hogy a vállalkozás indítása\, vagy karrierváltás előtt állók minél részletesebb képet kapjanak a Pécsett is elsajátítható kreatív ipari szakmákról és a kreatív vállalkozások. A kreatív ipar iránt érdeklődőknek figyelembe kell venniük milyen szakmára lesz igény hosszú távon\, hol lehet jól keresni\, miben tudja kifejezni önmagát a gyerek és mire lesz szüksége a szaktudáson kívül\, hogy érvényesülni tudjon az adott területen?\nA programok keretében az oktatási intézményekben tanulható kreatív szakmák interaktív\, gyakorlati módon kerülnek bemutatásra és a résztvevőknek lehetősége lesz személyesen is találkozni számos pécsi dizájnerrel (P’Artisan\, Design Patika stb. alkotói)\, akiktől első kézből tudhatják meg az egyes szakmák milyen lehetőségeket rejtenek számukra. \nA rendezvény ideje alatt a Pécsi Család- és KarrierPONT és a Pécs-Baranyai Kereskedelmi és Iparkamara tanácsadói segítenek eligazodni a kreatív szakmák világában.\nA rendezvényre szeretettel várunk minden érdeklődőt! \nIDŐPONT: 2019. október 04. 10.00 – 15.00\nHELYSZÍN: TREZOR Rendezvényház (7621 Pécs\, Király u. 11.) \nPROGRAM:\n10:00 – 15:00 INTERAKTÍV SZAKMABEMUTATÓ KREATÍV WORKSHOP TALÁLKOZÁS PÉCSI DIZÁJNEREKKEL
URL:https://pbkik.hu/esemeny/kreactivity-kreativ-szakmak-es-pecsi-dizajnerek-2/
LOCATION:TREZOR Rendezvényház\, Király u. 11.\, Pécs\, Baranya\, 7621\, Magyarország
END:VEVENT
BEGIN:VEVENT
DTSTART;TZID=Europe/Helsinki:20191008T130000
DTEND;TZID=Europe/Helsinki:20191008T160000
DTSTAMP:20260420T012056
CREATED:20190920T114715Z
LAST-MODIFIED:20191031T144134Z
UID:10001671-1570539600-1570550400@pbkik.hu
SUMMARY:Munkaerőpiaci és képzési fórum a kamarában
DESCRIPTION:A fejlődni képes és ezért tenni akaró munkavállaló aranyat ér – mondják sokan. De mit tehet ezért a munkaadó? Érdemes az alkalmazottak képzésére időt és pénzt áldozni? – Ha ehhez hasonló kérdésekkel már találkozott\, ez a rendezvény Önnek szól! \n \n  \nA vállalkozások hatékonyságának és versenyképességének elsődleges tényezője a képzett és megfelelően motivált munkavállaló. Amíg ez nincs meg\, nincs mire építeni. No de honnan érdemes elindulni? Mikor kezdjen el egy vállalkozás a munkaerőutánpótlással és az állomány fejlesztésével foglalkozni\, s azt hogyan tegye? – E témával foglalkozva újabb és újabb kérdéseink merülhetnek fel\, így rendezvényünkön szakértők és cégvezetők bevonásával ezekre keressük a választ\, egyúttal munkaadói jó gyakorlatokat kívánunk bemutatni. \nNem titkolt szándékunk\, hogy betekintést nyújtsunk a munkahelyi képzések világába\, jobb rálátást biztosítsunk azok szerepére\, fontosságára\, valamint megvitassuk a sokak által feltett kérdést: valóban megtérül-e a munkavállalók képzésébe történő befektetés? \n  \nRendezvényünkön a tanulók gyakorlati képzésében részt vevő vállalkozásokhoz egyéb okból is szólunk. A gyakorlati képzőhelyek NAV ellenőrzési tapasztalatait osztjuk meg szakértő és egy érintett vállalkozás bevonásával\, valamint kamarai tanácsadónk egyéb fontos teendőkre hívja majd fel a jelenlévők figyelmét. \nHisszük\, hogy érdemes a fiatalokkal foglalkozni\, ezért érdekességképp beszámolunk a szakmák világversenyén tapasztaltakról\, a magyar résztvevők sikereiről is. \nA fentieken kívül az új üzleti partnert kereső\, külpiacra lépésben gondolkodó\, illetve\, bővítéshez\, beruházáshoz anyagi forrást kereső\, esetleges likviditási gonddal küzdő vállalkozásoknak is szolgálunk hasznos tájékoztatóval a kamara illetékes kollégái részéről. \n  \nAz eseményen való részvétel ingyenes\, de regisztrációhoz kötött. Kérem\, részvételi szándékát az alábbi linkre kattintva jelezze:\nJELENTKEZEM A RENDEZVÉNYRE \n  \nJelentkezési határidő: 2019. október 7. (hétfő) 10:00 óra \nÉrkezésénél\, kérjük\, vegye figyelembe\, hogy parkolni kizárólag a környékbeli utcákban lehet! \n  \nRészletes PROGRAM letölthető IDE kattintva. \n  \nKapcsolódó anyagok\, hasznos linkek:\n„Munkahelyi képzések támogatása” szakmai támogató projekt weboldala\nSegíthetünk? – Üzleti partnerkeresés\nSegíthetünk? – Pénzügyi szolgáltatások \n  \nTovábbi információ:\nFülöp Attila\n20/287-7736\nfulop.attila@mkik.hu\nPiacsek László\n20/264-6668\npiacsek.laszlo@pbkik.hu \n 
URL:https://pbkik.hu/esemeny/munkaeropiaci-es-kepzesi-forum-a-kamaraban/
LOCATION:Pécsi Kereskedelmi Központ
GEO:46.081487;18.2347915
END:VEVENT
END:VCALENDAR