BEGIN:VCALENDAR
VERSION:2.0
PRODID:-//Pécs-Baranyai Kereskedelmi és Iparkamara - ECPv6.15.20//NONSGML v1.0//EN
CALSCALE:GREGORIAN
METHOD:PUBLISH
X-WR-CALNAME:Pécs-Baranyai Kereskedelmi és Iparkamara
X-ORIGINAL-URL:https://pbkik.hu
X-WR-CALDESC:Események Pécs-Baranyai Kereskedelmi és Iparkamara
REFRESH-INTERVAL;VALUE=DURATION:PT1H
X-Robots-Tag:noindex
X-PUBLISHED-TTL:PT1H
BEGIN:VTIMEZONE
TZID:Europe/Helsinki
BEGIN:DAYLIGHT
TZOFFSETFROM:+0200
TZOFFSETTO:+0300
TZNAME:EEST
DTSTART:20190331T010000
END:DAYLIGHT
BEGIN:STANDARD
TZOFFSETFROM:+0300
TZOFFSETTO:+0200
TZNAME:EET
DTSTART:20191027T010000
END:STANDARD
BEGIN:DAYLIGHT
TZOFFSETFROM:+0200
TZOFFSETTO:+0300
TZNAME:EEST
DTSTART:20200329T010000
END:DAYLIGHT
BEGIN:STANDARD
TZOFFSETFROM:+0300
TZOFFSETTO:+0200
TZNAME:EET
DTSTART:20201025T010000
END:STANDARD
BEGIN:DAYLIGHT
TZOFFSETFROM:+0200
TZOFFSETTO:+0300
TZNAME:EEST
DTSTART:20210328T010000
END:DAYLIGHT
BEGIN:STANDARD
TZOFFSETFROM:+0300
TZOFFSETTO:+0200
TZNAME:EET
DTSTART:20211031T010000
END:STANDARD
END:VTIMEZONE
BEGIN:VEVENT
DTSTART;VALUE=DATE:20200901
DTEND;VALUE=DATE:20210101
DTSTAMP:20260424T172535
CREATED:20201002T074740Z
LAST-MODIFIED:20201002T075338Z
UID:10001814-1598918400-1609459199@pbkik.hu
SUMMARY:MyAPEC 2020 online vásár
DESCRIPTION:A Malaysia External Trade Development Corporation (MATRADE) budapesti irodájának tájékoztatása szerint 2020 szeptember 1. és december 31. között kerül megrendezésre a MyAPEC 2020 kiállítás\, Malajziában az Ázsiai és Csendes-óceáni Gazdasági Együttműködés (APEC) 2020 konferenciával együtt. \n \n  \nEnnek a kiállításnak az a célja\, hogy bemutassa az APEC tagországainak sokféle termékét és szolgáltatását\, platformként működjön a hálózatépítésben és az üzleti kapcsolatok bővítésében a résztvevő vállalatok számára. Ez az esemény lesz az első virtuális kiállítás\, amelyet a MATRADE szervezett\, valamint az első az APEC keretében. \n  \nMeghívó \nBemutatkozó anyag \nKiállítók listája \nBeosztás
URL:https://pbkik.hu/esemeny/myapec-2020-online-vasar/
LOCATION:Online
END:VEVENT
BEGIN:VEVENT
DTSTART;VALUE=DATE:20201201
DTEND;VALUE=DATE:20201204
DTSTAMP:20260424T172535
CREATED:20201201T144333Z
LAST-MODIFIED:20201201T144448Z
UID:10002181-1606780800-1607039999@pbkik.hu
SUMMARY:Orosz Kamara -  „EU – Russia Climate Conference”
DESCRIPTION:Az Orosz Kamara –  „EU – Russia Climate Conference” címmel rendez a héten online konferenciát\, több\, mint 100 előadó olyan témákat fog megvitatni\,  mint az ipari dekarbonizáció\, a hidrogén jövőbeni kilátásai\, a fenntartható pénzügyek\, stb. \n \n\nidőpont: 2020. december 1 – 3.\nrészletes információ valamint regisztráció és jelentkezés az alábbi linken: https://www.skolkovo.ru/programmes/eu-russia-climate-conference/
URL:https://pbkik.hu/esemeny/orosz-kamara-eu-russia-climate-conference/
LOCATION:Online
END:VEVENT
BEGIN:VEVENT
DTSTART;VALUE=DATE:20201202
DTEND;VALUE=DATE:20201204
DTSTAMP:20260424T172535
CREATED:20201201T144116Z
LAST-MODIFIED:20201201T144253Z
UID:10002178-1606867200-1607039999@pbkik.hu
SUMMARY:Ír Kamara „Green Deal Week”
DESCRIPTION:Időpont: 2020. december 2 – 3. \nProgram\, valamint regisztráció és jelentkezés az alábbi linkeken: \n \n\nWeds 1pm- Skills and Jobs for the Green Transition\nThurs 1pm- A Just Transition for the Regions\nFriday 1pm- Innovation and Infrastructure for the Net Zero Transition
URL:https://pbkik.hu/esemeny/ir-kamara-green-deal-week/
LOCATION:Online
END:VEVENT
BEGIN:VEVENT
DTSTART;TZID=Europe/Helsinki:20201203T140000
DTEND;TZID=Europe/Helsinki:20201203T150000
DTSTAMP:20260424T172535
CREATED:20201110T094337Z
LAST-MODIFIED:20201118T095440Z
UID:10002166-1607004000-1607007600@pbkik.hu
SUMMARY:Beszállítói és üzleti lehetőségek Lengyelországban
DESCRIPTION:Milyen beszállítói lehetőségek várnak a hazai vállalkozásokra Lengyelországban? Kik lesznek segítségére az üzleti partnerkeresésben? Hogyan lehet hatékonyan lebonyolítani a piacra lépési folyamatokat? \n \n  \n  \n  \n  \n  \n  \n  \nA CED Közép-európai Gazdaságfejlesztési Hálózat Nonprofit Kft.\, a Győr-Moson-Sopron Megyei Kereskedelmi és Iparkamara és a Pécs-Baranyai Kereskedelmi és Iparkamara szervezésében megrendezésre kerülő online tájékoztatón ezekre a kérdésekre is választ kaphatnak a résztvevők. \nIdőpont: 2020. december 03. (csütörtök) 14:00 \nHelyszín: ONLINE (ZOOM felületen keresztül\, a csatlakozási link előzetesen kiküldésre kerül a résztvevők számára) \nProgram \n14:00-14:20          Üzleti lehetőségek Lengyelországban és a CED szolgáltatásai a cégek külpiacra lépésének elősegítésére \n                            Dr. Wisniewski Anna – irodavezető\, CED Közép-európai Gazdaságfejlesztési Hálózat Nonprofit Kft.\, Krakkó \n14:15 -14:30          A jogviták hatékony elkerülése és rendezésének lehetőségei a lengyel-magyar üzleti kapcsolatokban \n                            Dr. Balázs Tamás – vezető ügyvéd\, Balázs & Kovátsits Ügyvédi Társulás \n14:30 -14:45         A Lengyel-Magyar Gazdasági Kamara megalakulása és a cégek számára elérhető új potenciális szolgáltatások \n                            Marcin Pacholski – a Lengyel-Magyar Gazdasági Kamara igazgató tanácsi tagja \n14:45-15:00     Tapasztalatok a lengyel piacról\, gyártói és beszállítói kapcsolatok \n  Kolonics Péter\, irodavezető\, Euro-Tools Hungary Kft. \n  \nA tájékoztató után az előadók további tájékoztatást nyújtanak\, vagy a későbbiekben az ITT&MOST felületén tárgyalásra jelölhetőek lesznek. Amennyiben konkrét kérdése van a témával kapcsolatban\, azt a regisztráció során tudja előzetesen megírni az előadóknak. \nAz előadások magyar nyelven zajlanak. \n\nAz eseményen való részvétel díjmentes\, de előzetes regisztrációhoz kötött:\n  \nThis form is currently closed for submissions.
URL:https://pbkik.hu/esemeny/beszallitoi-es-uzleti-lehetosegek-lengyelorszagban/
LOCATION:Online
ATTACH;FMTTYPE=image/png:https://pbkik.hu/wp-content/uploads/2020/11/itt__most_borito_300x250_hu_1.png
END:VEVENT
BEGIN:VEVENT
DTSTART;TZID=Europe/Helsinki:20201208T100000
DTEND;TZID=Europe/Helsinki:20201208T113000
DTSTAMP:20260424T172535
CREATED:20201124T090138Z
LAST-MODIFIED:20201124T090419Z
UID:10001849-1607421600-1607427000@pbkik.hu
SUMMARY:Felkészülés a BREXIT-re
DESCRIPTION:Az esemény célja az átmeneti időszak végét követő új korszakra történő felkészülés elősegítése\, tájékoztatás nyújtása. Az előadások után a résztvevők kérdéseket tehetnek fel az előadóknak a platform chatfalán keresztül. \n \n  \nPROGRAM \n\n\n\nModerátor:\nTényiné Stark Mária\, nemzetközi igazgató\, Magyar Kereskedelmi és Iparkamara \n \n\n\n10.00 – 10.05\nKöszöntő \nRév András\, alelnök\, MKIK Nemzetközi Kollégium \n \n\n\n10.05 – 10.35\nTájékoztató az Egyesült Királyság Európai Unióból való kilépésének (Brexit) Magyarországot érintő külpolitikai és külgazdasági hatásairól \ndr. Schmitt Pál Péter\, helyettes államtitkár\, Külgazdasági és Külügyminisztérium \n \n\n\n10.35 – 11.15\nBREXIT vámügyi szempontból \nNietsch Tamás\, senior manager\, Flextronics Kft.\n\n\n \n \n\n\n11.15 – 11.30\nKérdések & válaszok\n\n\n\n  \nRészvétel feltételei \nJelentkezési határidő: 2020. december 7.\, hétfő\, 12.00 óra \nA rendezvényen való részvétel ingyenes\, de előzetes online regisztrációhoz kötött. \nA csatlakozáshoz szükséges linket és információkat 2020. december 7-én\, hétfő délután küldjük meg e-mailen a jelentkezőknek. \nCsak az állami szervezetek képviselőinek\, illetve azoknak a vállalkozásoknak a jelentkezését tudjuk elfogadni\, amelyek a kamarai regisztrációs kötelezettségüknek eleget tettek\, a Nemzeti Agrárgazdasági Kamara\, vagy a Magyar Ügyvédi Kamara tagjai. \n  \nREGISZTRÁCIÓ
URL:https://pbkik.hu/esemeny/felkeszules-a-brexit-re/
LOCATION:Pécsi Kereskedelmi Központ
ATTACH;FMTTYPE=image/jpeg:https://pbkik.hu/wp-content/uploads/2019/03/mkik_logo_1.jpg
GEO:46.081487;18.2347915
END:VEVENT
BEGIN:VEVENT
DTSTART;VALUE=DATE:20201209
DTEND;VALUE=DATE:20201210
DTSTAMP:20260424T172535
CREATED:20201208T083907Z
LAST-MODIFIED:20201208T084145Z
UID:10002188-1607472000-1607558399@pbkik.hu
SUMMARY:„Made in Russia”- exportfórum
DESCRIPTION:A fórum kulcstémája 2020-ban: „Az új évtized kihívásai”. A program a következő tematikus blokkokból áll: \n \n\nAz exportőrök sürgős problémáinak megbeszélése az Orosz Föderáció kormányának tagjaival\, valamint orosz és nemzetközi szakértőkkel;\nA nemzetközi piacokra való belépés kérdései;\nÚj üzleti megoldások az exporttevékenység fejlesztésére;\nExport folyamatok digitalizálása –  „One Window” információs rendszer;\nAz élményipar és az online vásárlás fejlesztése.\n\n  \nA Fórum üzleti programja 6 tematikus kerekasztalt és plenáris ülést tartalmaz\, emellett ünnepélyes keretek között kerül sor az ország legjobb exportőreinek – az „Év exportőre” díj nyerteseinek díjazására. \nA fórumon orosz és külföldi vállalatok\, szövetségi és regionális hatóságok\, orosz bankok\, regionális exporttámogató központok\, szakosodott egyesületek és szakszervezetek\, üzleti média és vezető szakértők vesznek részt. \nTovábbi információ: https://drive.google.com/drive/folders/1aeJa9CuoEJPZt2uhLBblgjKMz249trmh?usp=sharing vagy https://forum.exportcenter.ru
URL:https://pbkik.hu/esemeny/made-in-russia-exportforum/
LOCATION:Online
END:VEVENT
BEGIN:VEVENT
DTSTART;TZID=Europe/Helsinki:20201209T100000
DTEND;TZID=Europe/Helsinki:20201209T123000
DTSTAMP:20260424T172535
CREATED:20201124T090639Z
LAST-MODIFIED:20201124T090947Z
UID:10001850-1607508000-1607517000@pbkik.hu
SUMMARY:Befektetési lehetőségek az orosz régiókban
DESCRIPTION:  \nMagyarország Oroszországi Külképviseletei\, a Magyar Kereskedelmi és Iparkamara és a HEPA Magyar Exportfejlesztési Ügynökség online konferenciát szervez „Oroszország nem csak Moszkva: Befektetési lehetőségek az orosz régiókban”  címmel.  \n \nA konferencia keretében négy orosz megye (Kaluga\, Voronyezs\, Leningrád és Orenburg) magas szintű kormányzati képviselője mutatja be a helyi befektetési lehetőségeket. \nA konferencia időpontja 2020. december 9. szerda 10.00 – 12.30. \nA részletes programot szíves tájékoztatásul mellékelten küldjük. \nBefektetesi_lehetosegek_orosz_regiokban.pdf \nAz előadások orosz nyelven\, szinkrontolmácsolással zajlanak. Az esemény ingyenes\, de regisztrációhoz kötött. Regisztrálni a konferenciát megelőzően az alábbi linkre kattintva tudnak: \nhttp://mailer.tradehouse.hu/form.php?f=f5aeek2887 \nA sikeres regisztrációt követően a későbbiekben küldjük az esemény zoom linkjét.
URL:https://pbkik.hu/esemeny/befektetesi-lehetosegek-az-orosz-regiokban/
LOCATION:Pécsi Kereskedelmi Központ
GEO:46.081487;18.2347915
END:VEVENT
BEGIN:VEVENT
DTSTART;TZID=Europe/Helsinki:20201210T100000
DTEND;TZID=Europe/Helsinki:20201210T113000
DTSTAMP:20260424T172535
CREATED:20201203T142625Z
LAST-MODIFIED:20201203T142920Z
UID:10002187-1607594400-1607599800@pbkik.hu
SUMMARY:A Nyugat-Balkán digitális integrációja
DESCRIPTION:Az esemény a nyugat-balkáni országok és főként a digitalizáció iránt érdeklődő vállalkozások számára nyújt tájékoztatást: \n \n\na Nyugat-Balkán digitális integrációjáról\na Szélessáv Alapítvány tevékenységéről\na Nyugat-Balkánról az Európai Bizottság szemével\na DESI indikátorrendszer nyugat-balkáni leképezéséről\, adaptációjáról\n\n  \nAz előadások után a résztvevőknek lehetőségük nyílik kérdések feltevésére a platform chat-falán keresztül. \n  \nPROGRAMTERV \n\n\n\nModerátor:\nGalambos Attila\, elnök\, MKIK Nyugat-balkáni Tagozat\n\n\n10.00 – 10.10\nKöszöntő \nGalambos Attila\, elnök\, MKIK Nyugat-balkáni Tagozat\n\n\n10.10– 10.30\nSzélessáv Alapítvány rövid bemutatása\, a Nyugat-Balkán digitális integrációjának jelentősége  \nBóna Ákos\, igazgatósági tag\, Szélessáv Alapítvány\n\n\n10.30 – 10.50 \n  \n  \n  \n10.50 – 11.10 \n  \n  \n  \n11.10 – 11.15\nA Nyugat-Balkán az Európai Bizottság szemével \nGecse Attila\, belpolitikai szakértő\, Európai Bizottság \negyeztetés alatt \nDigitális integráció? a DESI indikátorrendszer nyugat-balkáni leképezése\, adaptációja \nZörényi Balázs\, szakpolitikai tisztviselő\, Európai Bizottság \nAz MKIK Nyugat-balkáni Tagozata és a Szélessáv Alapítvány együttműködési megállapodásának aláírása\n\n\n11.15 – 11.30\nKérdések és válaszok\n\n\n\n  \nRészvétel feltételei \nJelentkezési határidő: 2020. december 9.\, szerda\, 10.00 óra \nA rendezvényen való részvétel ingyenes\, de előzetes online regisztrációhoz kötött. \nA csatlakozáshoz szükséges linket és információkat 2020. december 9-én küldjük meg e-mailen a jelentkezőknek. \nCsak azoknak a vállalkozásoknak a jelentkezését tudjuk elfogadni\, amelyek a kamarai regisztrációs kötelezettségüknek eleget tettek\, a Nemzeti Agrárgazdasági Kamara\, vagy a Magyar Ügyvédi Kamara tagjai\, vagy akik állami szervezetek képviselői.
URL:https://pbkik.hu/esemeny/a-nyugat-balkan-digitalis-integracioja/
LOCATION:Online
ATTACH;FMTTYPE=image/jpeg:https://pbkik.hu/wp-content/uploads/2019/03/mkik_logo_1.jpg
END:VEVENT
BEGIN:VEVENT
DTSTART;TZID=Europe/Helsinki:20201210T140000
DTEND;TZID=Europe/Helsinki:20201210T150000
DTSTAMP:20260424T172535
CREATED:20201118T074454Z
LAST-MODIFIED:20201210T112451Z
UID:10001837-1607608800-1607612400@pbkik.hu
SUMMARY:Felvidék gazdasági helyzete és jövőképe – Vállalkozásalapítás\,  Online vásárlás előnyei
DESCRIPTION:Az ITT&MOST online tájékoztató rendezvényén a résztvevők megismerhetik a szlovák gazdasági környezet sajátosságait\, az e-kereskedelemben rejlő lehetőségeket és megtudhatják melyek a legkeresettebb termékek\, milyen beszállítói lehetőségek várnak a hazai vállalkozásokra. \nA CED Közép-európai Gazdaságfejlesztési Hálózat Nonprofit Kft. és a Pécs-Baranyai Kereskedelmi és Iparkamara szervezésében kerül megrendezésre. \nIdőpont: 2020. december 10. (csütörtök) 14:00 \nHelyszín: ONLINE (ZOOM felületen keresztül\, a csatlakozási link előzetesen kiküldésre kerül a résztvevők számára) \nTémák \n\nCégalapítás\, kis- és közepes vállalkozók adózása\, jogi és könyvelési környezete Szlovákiában\nFelvidéki gazdasági jövőképe a COVID 19 világjárvány tükrében – Vállalkozások gazdasági helyzete\nMiben más eladni Szlovákiában online – Az online eladás specifikumai a térségben\nCOVID-hatás az online „piactérben”\nLegkeresettebb termékcsoportok Szlovákiában – beszállítói lehetőségek\nEgy innovatív vállalkozás Gömörben\nKérdések\, válaszok\n\nElőadók\n \nMihók Gábor – regionális képviselő\, CED – Közép-európai Gazdaságfejlesztési Hálózat Nonprofit Kft. – Kassa \nBödők Károly – regionális képviselő\, CED – Közép-európai Gazdaságfejlesztési Hálózat Nonprofit Kft. – Dunaszerdahely \nMészáros Attila – regionális képviselő\, CED – Közép-európai Gazdaságfejlesztési Hálózat Nonprofit Kft. – Ipolyság \nKörnyi Zoltán – regionális képviselő\, CED – Közép-európai Gazdaságfejlesztési Hálózat Nonprofit Kft. – Párkány \nIng. Farkas Iván  – közgazdász\, Muzsla község polgármestere\, Nyitra megyei képviselő \nBc. Marcinkó Adrián  –  ügyvezető\,  Wado Digital s.r.o. \nIng. Lelkes Kata MBA –  ügyvezető\, Consilio Consulting & Production\, s.r.o. \nLegnár Nikoletta – ügyvezető\, Mikrovak s.r.o. \n  \nA tájékoztató után az előadók további tájékoztatást nyújtanak\, vagy a későbbiekben az ITT&MOST felületén tárgyalásra jelölhetőek lesznek. Az ITT&MOST online üzleti platform egyedülálló lehetőséget biztosít partnerkapcsolatok kiépítésére függetlenül attól\, hogy venne\, eladna\, projektpartnert\, gyártót\, alapanyagot\, munkaerőt vagy éppen finanszírozást keres a vállalkozás. A nemzetközi üzletember találkozók munkanyelve az angol\, ez azonban sok vállalkozás számára még ma is problémát jelent. Mivel a határmenti területeken sokan beszélnek magyarul\, így az új platform kihasználja a közös nyelvben rejlő lehetőséget\, miközben a hazai vállalkozói kapcsolatrendszert is erősíti. A vállalkozás profiljának és üzleti partnerkeresési ajánlatainak regisztrációja után\, tetszőlegesen jelölhetik egymást tárgyalásra a felek. \nAmennyiben konkrét kérdése van a témával kapcsolatban\, azt a regisztráció során tudja előzetesen megírni az előadóknak. \nAz előadások magyar nyelven zajlanak. \n\nAz eseményre történő regisztráció lezárult.
URL:https://pbkik.hu/esemeny/felvidek-gazdasagi-helyzete-es-jovokepe-vallakozasalapitas-online-vasarlas-elonyei/
LOCATION:Online
ATTACH;FMTTYPE=image/jpeg:https://pbkik.hu/wp-content/uploads/2020/08/00.-itt_es_most_banner_3-scaled.jpg
END:VEVENT
BEGIN:VEVENT
DTSTART;VALUE=DATE:20201214
DTEND;VALUE=DATE:20201219
DTSTAMP:20260424T172535
CREATED:20201203T120201Z
LAST-MODIFIED:20201203T120312Z
UID:10002186-1607904000-1608335999@pbkik.hu
SUMMARY:5. Globális technológiai csúcstalálkozó - India
DESCRIPTION:A Carnegie India  és az Indiai Külügyminisztérium közös szervezésében 2020. december 14-18 között megrendezésre kerül a „Globális technológiai csúcstalálkozó” (Global Technology Summit) című online rendezvénysorozat. \n\nAz idei konferencia tematikája a „Technológia geopolitikája”. Az ötnapos konferencia a következő területekre fókuszál: \n  \n\nTechnológia a geopolitika alakításában\nAz adatok jövője\nDigitalizálás és innováció\nTechnológia a járványok leküzdésében\n\n  \nA rendezvény angol nyelvű. \n  \nA rendezvényre regisztrálni az alábbi linken lehetséges: https://carnegieindia.org/2020/12/18/2020-global-technology-summit-event-7441
URL:https://pbkik.hu/esemeny/5-globalis-technologiai-csucstalalkozo-india/
LOCATION:Online
END:VEVENT
BEGIN:VEVENT
DTSTART;TZID=Europe/Helsinki:20201214T093000
DTEND;TZID=Europe/Helsinki:20201214T110000
DTSTAMP:20260424T172535
CREATED:20201201T144518Z
LAST-MODIFIED:20201201T144649Z
UID:10002182-1607938200-1607943600@pbkik.hu
SUMMARY:Nagyobb éghajlati ambíciók és versenyképes iparágak: a Green Deal törekvések valóra váltása
DESCRIPTION:Az Osztrák Kamara – „Nagyobb éghajlati ambíciók és versenyképes iparágak: a Green Deal törekvések valóra váltása” című online konferencia: \n \n\nidőpont: 2020.december 14. 9.30 – 11.00\nprogram : mellékelve\nrészletes információk valamint regisztráció és jelentkezés az alábbi linken: https://us02web.zoom.us/webinar/register/WN_hJPCP4U2S3Gwnk28QWPIYA
URL:https://pbkik.hu/esemeny/nagyobb-eghajlati-ambiciok-es-versenykepes-iparagak-a-green-deal-torekvesek-valora-valtasa/
LOCATION:Online
END:VEVENT
END:VCALENDAR