BEGIN:VCALENDAR
VERSION:2.0
PRODID:-//Pécs-Baranyai Kereskedelmi és Iparkamara - ECPv6.15.20//NONSGML v1.0//EN
CALSCALE:GREGORIAN
METHOD:PUBLISH
X-WR-CALNAME:Pécs-Baranyai Kereskedelmi és Iparkamara
X-ORIGINAL-URL:https://pbkik.hu
X-WR-CALDESC:Események Pécs-Baranyai Kereskedelmi és Iparkamara
REFRESH-INTERVAL;VALUE=DURATION:PT1H
X-Robots-Tag:noindex
X-PUBLISHED-TTL:PT1H
BEGIN:VTIMEZONE
TZID:Europe/Helsinki
BEGIN:DAYLIGHT
TZOFFSETFROM:+0200
TZOFFSETTO:+0300
TZNAME:EEST
DTSTART:20210328T010000
END:DAYLIGHT
BEGIN:STANDARD
TZOFFSETFROM:+0300
TZOFFSETTO:+0200
TZNAME:EET
DTSTART:20211031T010000
END:STANDARD
BEGIN:DAYLIGHT
TZOFFSETFROM:+0200
TZOFFSETTO:+0300
TZNAME:EEST
DTSTART:20220327T010000
END:DAYLIGHT
BEGIN:STANDARD
TZOFFSETFROM:+0300
TZOFFSETTO:+0200
TZNAME:EET
DTSTART:20221030T010000
END:STANDARD
BEGIN:DAYLIGHT
TZOFFSETFROM:+0200
TZOFFSETTO:+0300
TZNAME:EEST
DTSTART:20230326T010000
END:DAYLIGHT
BEGIN:STANDARD
TZOFFSETFROM:+0300
TZOFFSETTO:+0200
TZNAME:EET
DTSTART:20231029T010000
END:STANDARD
END:VTIMEZONE
BEGIN:VEVENT
DTSTART;TZID=Europe/Helsinki:20220112T100000
DTEND;TZID=Europe/Helsinki:20220112T120000
DTSTAMP:20260424T100156
CREATED:20211215T142212Z
LAST-MODIFIED:20221122T101503Z
UID:10002590-1641981600-1641988800@pbkik.hu
SUMMARY:Eureka ECS pályázati felhívás és tájékoztató webinárium
DESCRIPTION:Az Eureka együttműködés keretében\, a korábbi EURIPIDES2-PENTA klaszterek integrációjával létrejött az Xecs klaszter\, amely az elektronikus alkatrészek és rendszerek területén hirdet pályázatokat. Az Xecs klaszterfelhíváshoz kapcsolódóan az NKFI Hivatal 2022. január 12-én tájékoztató webináriumot rendez. \n \nA felhívásban részt vevő országok vállalják\, hogy egyeztetett és harmonizált pályázati eljárásrend keretében fogadják be az ECS-kutatások teljes szegmensét lefedő kutatási témák alapján a benyújtandó projektjavaslatokat. A programban valamennyi Eureka-tagország jogosult részt venni\, azok a résztvevő országok\, amelyek már támogatást nyújtottak a két vagy több résztvevős konzorciumoknak: Magyarország (NKFI Hivatal)\, Ausztria\, Belgium\, Csehország\, Dél-Korea\, Finnország\, Hollandia\, Izrael\, Írország\, Kanada\, Lengyelország\, Lettország\, Málta\, Németország\, Portugália\, Spanyolország\, Svájc\, Svédország és Törökország. \nA nemzetközi Eureka Xecs-pályázatok előpályázatainak (Project Outline) beadási határideje 2022. február 25.\, a teljes pályázaté (Full Project Proposal) 2022. május 27.\, a tagállami értékelések és támogatói döntések 2022 őszén várhatóak. \nTovábbi részletek az alábbi linken találhatóak: Calls : Xecs website (eureka-xecs.com) \nA klaszter Eureka felhívását támogató magyar pályázatról tájékoztató jelleggel további információk itt találhatóak: Az EUREKA programban való magyar részvétel támogatása (2020-1.2.3-EUREKA) \nAz információs nap nyelve angol. \nA részvétel díjmentes\, de regisztrációhoz kötött. \nTovábbi információ\, részletes program és regisztráció
URL:https://pbkik.hu/esemeny/eureka-ecs-palyazati-felhivas-es-tajekoztato-webinarium/
LOCATION:Online – Zoom
END:VEVENT
BEGIN:VEVENT
DTSTART;VALUE=DATE:20220118
DTEND;VALUE=DATE:20220120
DTSTAMP:20260424T100156
CREATED:20211215T142953Z
LAST-MODIFIED:20221122T102014Z
UID:10002591-1642464000-1642636799@pbkik.hu
SUMMARY:Eureka ECS - online pályázati partnerkereső napok
DESCRIPTION:Az Eureka ECS pályázati felhívásokhoz kapcsolódó online pályázati partnerkereső napok – csatlakozzon\, keressen\, találjon pályázati partnereket a Xecs és a KDT JU pályázati felhívásokhoz. \n \nAz esemény előmozdítja az ECS-közösségek létrejöttét\, és összegyűjti az összes projektjavaslatot és szakértőt\, megkönnyítve az ECS-kutatók számára az információk és projektjavaslatok megtalálását és létrehozását. \nA program nyelve az angol. \nTovábbi információ\, részletes program és regisztráció
URL:https://pbkik.hu/esemeny/eureka-ecs-online-palyazati-partnerkereso-napok/
LOCATION:Online
END:VEVENT
BEGIN:VEVENT
DTSTART;TZID=Europe/Helsinki:20220125T140000
DTEND;TZID=Europe/Helsinki:20220125T173000
DTSTAMP:20260424T100156
CREATED:20220118T114943Z
LAST-MODIFIED:20220124T125942Z
UID:10002607-1643119200-1643131800@pbkik.hu
SUMMARY:Fedezd fel a kulturális és kreatív iparban rejlő üzleti lehetőségeket!
DESCRIPTION:A „SACHE” című projekt kiemelt célja\, hogy támogassa a kreatívipari vállalkozások fejlődését és a kulturális\, kreatív intézmények együttműködését a helyi vállalkozókkal. Az elmúlt három év során számos kezdeményezés\, közös program és üzleti együttműködés valósult meg a projektpartner régiókban\, melyek közül néhányról első kézből hallhatnak a résztvevők beszámolókat egy online rendezvény keretében. \n \nMinden érdeklődőt örömmel várunk! \n(A rendezvény angol nyelvű\, tolmácsolás nem biztosított.) \nREGISZTRÁCIÓ\n  \nPROGRAM\n14.00-14.10 Köszöntő \n14.10-14.20 A SACHE projekt eredményeinek bemutatása \n14.20-14.40 SACHE eszközök – „Az együttműködési ötletek megfogalmazásától azok fenntartható kezeléséig” \nElőadó: Prof. Fabrizio Pannozzo (Ca’Foscari University\, Venice) \n14.40-15.30 Kerekasztal beszélgetés – a kreatívipari vállalkozók szemszögéből \n15.30-15.45 SZÜNET \n15.45-15.50 Köszöntő \n15.50-16.10 Az együttműködések új formái \n16.10-17.00 Jógyakorlatok\, közös projektek \n•    Deborah Hustić: “Summer with Tesla”\, Technical Museum\n•    Mr. Cristiano Tiussi\, Director of Fondazione Aquileia: “3D reconstruction of the ancient of Tito Macro”\n•    Vladimir Rudl: “Creative Park Drava” project from the City of Maribor\n•    Katalin Kárpáti: “Op-Art Fashion Performance” project from the City of Pécs\n•    Dr. Süli András: „Rebirth of an industrial heritage building as a community space – the Great Forest Water Tower in Debrecen”\n•    Jens Badura & Henning Berthold. “Kulturerbe Bayern e.V.:  Erkersreuth castle – creative tradition as resource for creative future(s)” \n17.00-17.05 SZÜNET \n17.05-17.25 Networking (Zoom breakout room) \n17.25           ZÁRÁS \nREGISZTRÁCIÓ
URL:https://pbkik.hu/esemeny/fedezd-fel-a-kulturalis-es-kreativ-iparban-rejlo-uzleti-lehetosegeket/
LOCATION:Online
ATTACH;FMTTYPE=image/jpeg:https://pbkik.hu/wp-content/uploads/2019/06/SACHE-RGB_projekt.jpg
END:VEVENT
BEGIN:VEVENT
DTSTART;TZID=Europe/Helsinki:20220127T090000
DTEND;TZID=Europe/Helsinki:20220127T113000
DTSTAMP:20260424T100156
CREATED:20220121T085544Z
LAST-MODIFIED:20221122T102002Z
UID:10002611-1643274000-1643283000@pbkik.hu
SUMMARY:Medical Industry - webinárium
DESCRIPTION:Az észak-európai egészségügyi szektort bemutató online rendezvény keretében\, az adott relációkban meghatározó az egészségiparhoz köthető szereplő\, importőr-hálózat vezetője\, beszerzési menedzsere fogja bemutatni a piacra jellemző sajátosságokat\, mint pl. az egészség megőrzésére\, helyreállítására\, az állapot stabilizálására\, az egészség által meghatározott életminőség javítására irányuló termékek előminősítésére vonatkozó\, és behozatali szabályrendszerével kapcsolatos tudnivalókat. \n \nProgram: \n9:00-9:10 Megnyitó: Sándorfi Eszter nagykövet\, Magyarország Nagykövetsége\, Oslo \n09:10-9:45 Norvégia: Rud Pedersen Public Affairs +Q&A \n09:45-10:20 Finnország: HUS Logistiikka +Q&A \n10:20-10:25 szünet \n10:25-11:00 Dánia: Sacomed A/S +Q&A \n11:00-11:35 Svédország: OneMed +Q&A \n<p”>11:35-11:40 b>Zárszó: Kosztyi Beatrix KGA\, Magyarország Nagykövetsége\, Oslo \nA Microsoft Teams Meeting felületen megrendezésre kerülő\, angol nyelvű eseményen való részvétel ingyenes\, azonban előzetes regisztrációhoz kötött. \nREGISZTRÁCIÓ \nKérjük\, részvételi szándékát 2021. január 25-ig jelezze a fenti linken. \nTovábbi információt a bkosztyi@mfa.gov.hu címre küldött e-mailen keresztül kérhet.
URL:https://pbkik.hu/esemeny/medical-industry-webinarium-2/
LOCATION:M. Teams – online\, Magyarország
END:VEVENT
BEGIN:VEVENT
DTSTART;TZID=Europe/Helsinki:20220130T080000
DTEND;TZID=Europe/Helsinki:20220201T170000
DTSTAMP:20260424T100156
CREATED:20211216T105026Z
LAST-MODIFIED:20211216T110722Z
UID:10002592-1643529600-1643734800@pbkik.hu
SUMMARY:EU FashionMatch Amsterdam 11.0 – Online
DESCRIPTION:Csatlakozzon az online megrendezésre kerülő EU FashionMatch 11.0 kiállítás és üzletember találkozóhoz! A rendezvényen alkalmuk nyílik a világ minden részéről csatlakozó – divat-\, textil-\, és cipőipari – cégek és potenciális üzleti partnerek megismerésére. \nMinden januárban Amszterdamra figyel a divat világa\, ahol a Divat Hét keretében szervez támogatott nemzetközi üzletember találkozót az Enterprise Europe Network hálózata. A Modefabriek kiállításra érkezők január 23-24-én élőben is végigjárhatják a vevők\, vállalatok\, tervezők\, beszállítók\, gyártók\, szolgáltatók\, szakértők és befektetők standjait a világ számos országából. \nA kiállításhoz kapcsolódóan január 30-tól február 1-ig tartó FashionMatch 11.0 nemzetközi online üzletember találkozón utazási és szállás költségektől megkímélve vehetnek részt a hazai vállalkozások\, mivel az üzleti tárgyalások és érdekes szakmai előadások online formában kerülnek lebonyolításra. Lehetőségük van előzetes online tárgyalások foglalására divat-\, és kiegészítő tervezők valamint ezek kivitelezésében közreműködő\, elsősorban gyártó\, termelő vállalkozásokkal. A tárgyalásokra regisztráló partnerek díjmentesen látogathatják a megelőző kiállítást is. \nTovábbi információ a január 23-24-ei kiállításról itt: www.modefabriek.nl \nA január 30-tól február 1-ig tartó online előadásokra és üzleti tárgyalások foglalására ezen a linken van lehetőség: \nREGISZTRÁCIÓ
URL:https://pbkik.hu/esemeny/eu-fashionmatch-amsterdam-11-0-online/
LOCATION:online
ATTACH;FMTTYPE=image/jpeg:https://pbkik.hu/wp-content/uploads/2021/12/fashionmatch-11.jpg
END:VEVENT
END:VCALENDAR