BEGIN:VCALENDAR
VERSION:2.0
PRODID:-//Pécs-Baranyai Kereskedelmi és Iparkamara - ECPv6.15.20//NONSGML v1.0//EN
CALSCALE:GREGORIAN
METHOD:PUBLISH
X-ORIGINAL-URL:https://pbkik.hu
X-WR-CALDESC:Események Pécs-Baranyai Kereskedelmi és Iparkamara
REFRESH-INTERVAL;VALUE=DURATION:PT1H
X-Robots-Tag:noindex
X-PUBLISHED-TTL:PT1H
BEGIN:VTIMEZONE
TZID:Europe/Helsinki
BEGIN:DAYLIGHT
TZOFFSETFROM:+0200
TZOFFSETTO:+0300
TZNAME:EEST
DTSTART:20210328T010000
END:DAYLIGHT
BEGIN:STANDARD
TZOFFSETFROM:+0300
TZOFFSETTO:+0200
TZNAME:EET
DTSTART:20211031T010000
END:STANDARD
BEGIN:DAYLIGHT
TZOFFSETFROM:+0200
TZOFFSETTO:+0300
TZNAME:EEST
DTSTART:20220327T010000
END:DAYLIGHT
BEGIN:STANDARD
TZOFFSETFROM:+0300
TZOFFSETTO:+0200
TZNAME:EET
DTSTART:20221030T010000
END:STANDARD
BEGIN:DAYLIGHT
TZOFFSETFROM:+0200
TZOFFSETTO:+0300
TZNAME:EEST
DTSTART:20230326T010000
END:DAYLIGHT
BEGIN:STANDARD
TZOFFSETFROM:+0300
TZOFFSETTO:+0200
TZNAME:EET
DTSTART:20231029T010000
END:STANDARD
BEGIN:DAYLIGHT
TZOFFSETFROM:+0200
TZOFFSETTO:+0300
TZNAME:EEST
DTSTART:20240331T010000
END:DAYLIGHT
BEGIN:STANDARD
TZOFFSETFROM:+0300
TZOFFSETTO:+0200
TZNAME:EET
DTSTART:20241027T010000
END:STANDARD
END:VTIMEZONE
BEGIN:VEVENT
DTSTART;VALUE=DATE:20220302
DTEND;VALUE=DATE:20220404
DTSTAMP:20260423T024205
CREATED:20220322T110722Z
LAST-MODIFIED:20220502T072014Z
UID:10002635-1646179200-1649030399@pbkik.hu
SUMMARY:Futurebuild 2022
DESCRIPTION:Drive Net Zero in the Built Environment – Brokerage Event\n \nAz Innovate UK EDGE által Londonban sorra került a világ legnagyobb fenntartható építőipari kiállítása márciusban\, amire építve lehetőség nyílik\, hogy megismerjen esetleges partnereket\, és bemutassa vállalkozását a kulcsfontosságú döntéshozókkal folytatott online találkozók során\, valamint felfedezze az építőipar világának innovatív fejlesztéseit. \nKik vehetnek részt? \nAz esemény egy egyedülálló lehetőség az Egyesült Királyság és a nemzetközi beszállítók\, vállalkozók és forgalmazók számára\, hogy bemutassák és felfedezzék az új és innovatív nettó zéró termékeket és szolgáltatásokat a következő ágazatokban: \n\nEnergiahatékonyság\nAlacsony szén-dioxid-kibocsátású energia\nAnyagok\nVárosi infrastruktúra\nHelyszínen kívüli\n\nA részvétel díjmentes\, de regisztrációhoz kötött. \nREGISZTRÁCIÓ
URL:https://pbkik.hu/esemeny/futurebuild-2022/
LOCATION:Online
ATTACH;FMTTYPE=image/png:https://pbkik.hu/wp-content/uploads/2022/03/futurebuild-2022.png
END:VEVENT
BEGIN:VEVENT
DTSTART;TZID=Europe/Helsinki:20220310T100000
DTEND;TZID=Europe/Helsinki:20220310T113000
DTSTAMP:20260423T024205
CREATED:20220301T141941Z
LAST-MODIFIED:20221122T101828Z
UID:10002627-1646906400-1646911800@pbkik.hu
SUMMARY:Nemzetközi pályázati lehetőségek innovatív KKV-k számára
DESCRIPTION:Az NKFI Hivatal innovatív KKV-k részére online tájékoztatót tart a nemzetközi pályázati lehetőségekről: EUREKA\, Eurostars\, Accelerator. \n \n  \nAz EUREKA és Eurostars pályázatban legalább egy külföldi partnerrel való együttműködés szükséges\, míg az Accelerator pályázat esetében a KKV-k önállóan pályázhatnak nemzetközi szinten piacképes termék fejlesztésére és piacra vitelére. Az Accelerator pályázatra készülők az üzleti terv megírásához hazai támogatást is kaphatnak. A nemzetközi pályázatokon való részvétel a KKV-kat célzó hazai pályázatok értékelése során is előnyt jelent. \nPROGRAM \n10:00 – 10:30 EUREKA és Eurostars program – Mészáros Gergely\, nemzeti kapcsolattartó \n10:30 – 11:00 Horizont Európa program és az EIC Accelerator felhívás – Divinyi Ágnes\, nemzeti kapcsolattartó \n11:00 – 11:15 Az EIT KIC-ek KKV-kat célzó szolgáltatásai – Jeney Nóra\, nemzeti kapcsolattartó \n11:15 – 11:30 kérdések és válaszok \nA regisztrált résztvevők részére a rendezvény előtt 1 nappal küldik el a rendezvény linkjét. \n  \nREGISZTRÁCIÓ \n  \nForrás: nkfih.gov.hu
URL:https://pbkik.hu/esemeny/nemzetkozi-palyazati-lehetosegek-innovativ-kkv-k-szamara/
LOCATION:Online
END:VEVENT
BEGIN:VEVENT
DTSTART;VALUE=DATE:20220315
DTEND;VALUE=DATE:20220316
DTSTAMP:20260423T024205
CREATED:20220208T162523Z
LAST-MODIFIED:20221122T101832Z
UID:10002146-1647302400-1647388799@pbkik.hu
SUMMARY:Smart Mobility TechMeeting - üzleti lehetőségek\, B2B francia nagyvállalatokkal
DESCRIPTION:A Choose Paris Region (a párizsi régió gazdaságfejlesztési ügynöksége) 2022-ben is várja a  magyar startupok\, vállalatok jelentkezését\, akik számára a program kiváló alkalmat ad az adott területen\, iparágban innovatív megoldásokat kereső francia nagyvállalatoknak történő bemutatkozásra előre egyeztetett\, célzott B2B-k keretében. \n \nA részvétel előtt a Choose Paris Region szakemberei – az eddigi gyakorlathoz hasonlóan – továbbra is szeretnék előszűrni a startupokat\, ezért előzetes regisztráció szükséges a nagy.eszter@pbkik.hu email címen 2022. február 18-ig\, a következő adatok megadásával: vállalkozás neve\, honlap\, rövid leírás\, további információ (alapítás dátuma\, alkalmazottak\, stb.)\, kapcsolattartó személy (név\, e-mail címmel). \n  \nA következő francia vállalatok már biztosan részt vesznek: \nEngie\, Valeo\, Stellantis\, Car Studio\, Airfrance\, Oracle \n  \nA Smart Mobility területén a következő megoldásokat keresik: \nVárosi mobilitás\, 5G\, új üzleti modellek\, flotta menedzsment\, forgalom menedzsment\, önvezető járművek\, autómegosztás\, fenntartható szállítás\, elektromos járművek\, zöld mobilitás\, stb. \n  \nA szervezők a Párizsi Nagykövetség által ajánlott cégek közül választják ki azokat\, amelyek megfelelnek a nagyvállalatok igényeinek\, és nekik küldik meg a regisztrációs linket\, ingyenes részvételre jogosító kóddal. \nFontos\, hogy az alábbi kritériumoknak megfeleljenek az ajánlott vállalkozások: \n– startup /scaleup \n– a nagyvállalatok felsorolt igényeinek megfelelő technológiai megoldással rendelkeznek (lásd melléklet: „vállalati igények-kulcsszavak 2022”) \n– már van hazai üzleti eredményük\, referenciájuk \n– nemzetközi szinten piacképes megoldást kínálnak (ideális esetben már kapott tőkebefektetést) \nAz online rendezvény menete: a kiválasztott és regisztrált startupok/KKV-k rövid bemutatkozóját a szervezők (Choose Paris Region ügynökség) megosztják a francia nagyvállalatokkal\, amelyek kiválasztják a számukra érdekes megoldásokat. Ezt követően a meghirdetett időpontban\, március 15-én a startupok/KKV-k megkapják ezen vállalatok elérhetőségeit\, akikkel közvetlenül felvehetik a kapcsolatot (tehát nem az adott időpontban\, hanem egyéni szervezésben valósulnak meg a találkozók). \nA programban részt vevő nagyvállalatok vállalják\, hogy készek tárgyalni a kiválasztott cégekkel\, illetve ők is megkapják ez utóbbiak elérhetőségeit. \nA részvétel díjmentes. \nJelentkezési határidő 2022. február 18. \n40 startup vehet részt\, beérkezési sorrendben fogadják el a jelentkezéseket\, a helyek gyorsan betelnek\, ezért érdemes mielőbb jelentkezni.
URL:https://pbkik.hu/esemeny/smart-mobility-techmeeting-uzleti-lehetosegek-b2b-francia-nagyvallalatokkal/
LOCATION:Online
END:VEVENT
BEGIN:VEVENT
DTSTART;VALUE=DATE:20220324
DTEND;VALUE=DATE:20230202
DTSTAMP:20260423T024205
CREATED:20220324T093007Z
LAST-MODIFIED:20230213T102926Z
UID:10002641-1648080000-1675295999@pbkik.hu
SUMMARY:Nemzetközi üzleti partnerkereső felület az ellátási láncok újraépítése érdekében
DESCRIPTION:Európa számos gazdasági\, környezeti és társadalmi kihívással néz szembe napjainkban. Az ellátási lánc megszakadása súlyosan érintette a Covid alatt a vállalkozásokat\, melyet csak tetéznek az ukrajnai válság okozta újabb elakadások. E kihívások kezelése érdekében az Európai Unió új intézkedéseket indított az egységes piac ellenálló képességének megerősítése és a fenntartható\, digitális és globálisan versenyképes gazdaság kiépítése érdekében. \n \nAz Enterprise Europe Network és az uniós klaszterek alapvető szerepet játszanak a nemzetközi ellátási láncok sebezhetőségének enyhítésében. E sürgető kérdések megoldására a hálózat létrehozta az ellátási láncok rugalmasságával foglalkozó online platformot\, mely segít a vállalatoknak a meglévő ellátási láncok megtartásában\, átszervezésében vagy cseréjében\, valamint a termelés fenntartásához szükséges nyersanyagok\, alkatrészek\, komponensek és/vagy (fél)késztermékek vagy szolgáltatások beszerzésében. \nAz angol nyelvű felület b2b tárgyalási lehetőséget biztosít online formában\, díjmentesen 2023. február 28-ig a vállalkozók számára. \nFő célok \n\nNyersanyagokra\, alkatrészekre\, részegységekre és/vagy (fél)késztermékekre\, szolgáltatásokra vonatkozó üzleti ajánlatok közzététele;\nAz európai vállalatok által az ellátási láncuk fenntartására irányuló kérések népszerűsítése;\nÖsszehozni a nemzetközi beszállítókat az áruk és szolgáltatások vevőivel;\nHatárokon átnyúló kapcsolatok kialakítása vállalkozások\, iparágak\, támogató szervezetek\, tudományos körök\, érdekelt felek és kulcsfontosságú döntéshozók között.\n\nFőbb témák \n\nMezőgazdaság és élelmiszeripar\nÉpítőipar\nDigitális\nElektronika\nEnergiaigényes iparágak\nEgészségügy\nMobilitás\, közlekedés\, autóipar\nNyersanyagok\nMegújuló energia\nTextil\n\nA „The Supply Chain Resilience platform” az Enterprise Europe Network nemzetközi vállalkozásfejlesztési hálózat\, az Európai Klaszter Együttműködési Platform\, az Európai Bizottság és az EISMEA támogatásával jött létre. A regisztráció\, online üzleti tárgyalások lebonyolítása és szakmai programokon való online részvétel díjmentes. \nREGISZTRÁCIÓ
URL:https://pbkik.hu/esemeny/nemzetkozi-uzleti-partnerkereso-felulet-az-ellatasi-lancok-ujraepitese-erdekeben/
LOCATION:Online
ATTACH;FMTTYPE=image/png:https://pbkik.hu/wp-content/uploads/2022/03/Supply-Chain-Resilience.png
END:VEVENT
END:VCALENDAR