BEGIN:VCALENDAR
VERSION:2.0
PRODID:-//Pécs-Baranyai Kereskedelmi és Iparkamara - ECPv6.15.20//NONSGML v1.0//EN
CALSCALE:GREGORIAN
METHOD:PUBLISH
X-WR-CALNAME:Pécs-Baranyai Kereskedelmi és Iparkamara
X-ORIGINAL-URL:https://pbkik.hu
X-WR-CALDESC:Események Pécs-Baranyai Kereskedelmi és Iparkamara
REFRESH-INTERVAL;VALUE=DURATION:PT1H
X-Robots-Tag:noindex
X-PUBLISHED-TTL:PT1H
BEGIN:VTIMEZONE
TZID:Europe/Helsinki
BEGIN:DAYLIGHT
TZOFFSETFROM:+0200
TZOFFSETTO:+0300
TZNAME:EEST
DTSTART:20190331T010000
END:DAYLIGHT
BEGIN:STANDARD
TZOFFSETFROM:+0300
TZOFFSETTO:+0200
TZNAME:EET
DTSTART:20191027T010000
END:STANDARD
BEGIN:DAYLIGHT
TZOFFSETFROM:+0200
TZOFFSETTO:+0300
TZNAME:EEST
DTSTART:20200329T010000
END:DAYLIGHT
BEGIN:STANDARD
TZOFFSETFROM:+0300
TZOFFSETTO:+0200
TZNAME:EET
DTSTART:20201025T010000
END:STANDARD
BEGIN:DAYLIGHT
TZOFFSETFROM:+0200
TZOFFSETTO:+0300
TZNAME:EEST
DTSTART:20210328T010000
END:DAYLIGHT
BEGIN:STANDARD
TZOFFSETFROM:+0300
TZOFFSETTO:+0200
TZNAME:EET
DTSTART:20211031T010000
END:STANDARD
END:VTIMEZONE
BEGIN:VEVENT
DTSTART;TZID=Europe/Helsinki:20201125T083000
DTEND;TZID=Europe/Helsinki:20201125T153000
DTSTAMP:20260422T131714
CREATED:20201116T102425Z
LAST-MODIFIED:20201124T095805Z
UID:10002170-1606293000-1606318200@pbkik.hu
SUMMARY:ADÓFÓRUM a 2021. évi adóváltozásokról
DESCRIPTION:Adófórum a 2021. évi adóváltozásokról. Online tájékoztató a Pécs-Baranyai Kereskedelmi és Iparkamara\, a PBGSZ NKft. és a Magyar Könyvvizsgáló Kamara Baranya megyei Szervezete szervezésében\, a NAV előadóival. \n \nProgram \n(A sorrend változtatásának jogát fenntartjuk.) \n08:30 – 9:30 SZJA\, KHO\, KATA\nElőadó: Farkas Petra – NAV \n9:35 – 10:35 ÁFA\nElőadó: Burgmann György – NAV \n10:45 – 11:30 ART\, AIR\nElőadó: Dr. Virág Orsolya – NAV \n11:30 – 12:30 Ebédidő \n 12:30 – 13:30 SZOCHO\, EHO\, TBJ\, Szakképzési hozzájárulás\nElőadó: Dr. Kárpáti Éva – NAV \n13:35 – 14:45 TAO\, KIVA\, NETA\, Környezetvédelmi termékdíj\nElőadó: Banitz István – NAV \n14:50 – 15:30 Könyvelők adminisztrációs kötelezettségei a duális képzőhelyeken (szakképzési munkaszerződés)\nElőadó: Sarkadiné Schmidt Alexandra – PBKIK \n  \nRészvételi díj: ingyenes \nA jelentkezést csak az online regisztrációval tudjuk elfogadni! \nJelentkezési határidő: november 24. (kedd) \nA regisztrált résztvevőknek a ZOOM előadás linkjét november 24-én küldjük meg\, a megadott email címre. \nTovábbi információ: Kiss Karolin\, 72/507-102\, kiss.karolin@pbkik.hu \n  \nRegisztráció\nThis form is currently closed for submissions. \n 
URL:https://pbkik.hu/esemeny/adoforum-a-2021-evi-adovaltozasokrol/
LOCATION:Online
END:VEVENT
END:VCALENDAR