BEGIN:VCALENDAR
VERSION:2.0
PRODID:-//Pécs-Baranyai Kereskedelmi és Iparkamara - ECPv6.15.20//NONSGML v1.0//EN
CALSCALE:GREGORIAN
METHOD:PUBLISH
X-WR-CALNAME:Pécs-Baranyai Kereskedelmi és Iparkamara
X-ORIGINAL-URL:https://pbkik.hu
X-WR-CALDESC:Események Pécs-Baranyai Kereskedelmi és Iparkamara
REFRESH-INTERVAL;VALUE=DURATION:PT1H
X-Robots-Tag:noindex
X-PUBLISHED-TTL:PT1H
BEGIN:VTIMEZONE
TZID:Europe/Helsinki
BEGIN:DAYLIGHT
TZOFFSETFROM:+0200
TZOFFSETTO:+0300
TZNAME:EEST
DTSTART:20190331T010000
END:DAYLIGHT
BEGIN:STANDARD
TZOFFSETFROM:+0300
TZOFFSETTO:+0200
TZNAME:EET
DTSTART:20191027T010000
END:STANDARD
BEGIN:DAYLIGHT
TZOFFSETFROM:+0200
TZOFFSETTO:+0300
TZNAME:EEST
DTSTART:20200329T010000
END:DAYLIGHT
BEGIN:STANDARD
TZOFFSETFROM:+0300
TZOFFSETTO:+0200
TZNAME:EET
DTSTART:20201025T010000
END:STANDARD
BEGIN:DAYLIGHT
TZOFFSETFROM:+0200
TZOFFSETTO:+0300
TZNAME:EEST
DTSTART:20210328T010000
END:DAYLIGHT
BEGIN:STANDARD
TZOFFSETFROM:+0300
TZOFFSETTO:+0200
TZNAME:EET
DTSTART:20211031T010000
END:STANDARD
BEGIN:DAYLIGHT
TZOFFSETFROM:+0200
TZOFFSETTO:+0300
TZNAME:EEST
DTSTART:20220327T010000
END:DAYLIGHT
BEGIN:STANDARD
TZOFFSETFROM:+0300
TZOFFSETTO:+0200
TZNAME:EET
DTSTART:20221030T010000
END:STANDARD
END:VTIMEZONE
BEGIN:VEVENT
DTSTART;TZID=Europe/Helsinki:20200227T080000
DTEND;TZID=Europe/Helsinki:20200227T143000
DTSTAMP:20260425T200945
CREATED:20200213T084023Z
LAST-MODIFIED:20221122T093119Z
UID:10002024-1582790400-1582813800@pbkik.hu
SUMMARY:Adófórum a 2020. évi adó-aktualitásokról
DESCRIPTION:A rendezvényen résztvevők  az adójogszabályok aktualitásairól\, az azokban bekövetkezett 2020. évi változásokról értesülhetnek első kézből a NAV munkatársaitól. \n \n  \nProgramterv: \n\n\n\n08:00 – 08:30\nRegisztráció\n\n\n08:30 – 10:00\nÁFA\n\n\nElőadó: Zsenkovics Diána  – NAV\n\n\n10:15 – 11:30\nSZOCHO\, TBJ\n\n\nElőadó: Dr. Kárpáti Éva – NAV\n\n\n11:30 – 12:15\nEbédidő\n\n\n12:15 – 13:15\nTAO\, KIVA\, Környezetvédelmi termékdíj\n\n\nElőadó: Banitz István – NAV\n\n\n13:30 – 14:30\nSZJA\, KATA\n\n\nElőadó: Dr. Farkas Petra  – NAV\n\n\n\n  \nA részvétel feltételei: \nA jelentkezési határidő: február 25. (kedd) \nRészvételi díj: \n\nönkéntes kamarai tagoknak: ingyenes\nnem kamarai tagoknak (regisztrált vállalkozásoknak): 4.000\,- Ft/fő\n\nA csatolt jelentkezési lapot kitöltve e-mailben visszajuttatva jelezhetik részvételi szándékukat. \nJelentkezési lap adófórum_20200227  \nM_E_G_H_Í_V_Ó_adófórum_20200227 \n2020_002_Adófórum_adatkezelési tájékoztató \n 
URL:https://pbkik.hu/esemeny/adoforum-a-2020-evi-ado-aktualitasokrol/
LOCATION:Pécsi Kereskedelmi Központ
GEO:46.081487;18.2347915
END:VEVENT
BEGIN:VEVENT
DTSTART;TZID=Europe/Helsinki:20200318T100000
DTEND;TZID=Europe/Helsinki:20200318T120000
DTSTAMP:20260425T200945
CREATED:20200131T094824Z
LAST-MODIFIED:20221122T093129Z
UID:10002007-1584525600-1584532800@pbkik.hu
SUMMARY:Ingyenes tájékoztató Szigetváron a 2020 július 1-től életbe lépő változásokról
DESCRIPTION:Szigetvári\, szentlőrinci és a sellyei járásban működő vállalkozások figyelmébe! \nA július 1-től életbe lépő új TB törvény\, az adóváltozások és az adatszolgáltatást érintő változásokról ingyenes tájékoztató napot tart a Pécs-Baranyai Kereskedelmi és Iparkamara\, a Szigetvári Család és KarrierPONT projekt keretében  2020. 03. 18 -án 10:00-kor Szigetváron. \nHelyszín: Szigetvár\, Dózsa Gy. u. 5/A.  Magtár épület\, I. emelet \nA tájékoztatóra a szigetvári\, szentlőrinci és a sellyei járásban működő  vállalkozások képviselőit várjuk. \nAz eseményen való részvétel ingyenes\, de regisztrációhoz kötött! \nThis form is currently closed for submissions. \nA tájékoztató az EFOP 1.2.9-17-2017-00102 számú projekt az Európai Unió támogatásával és Magyar Állam társfinanszírozásával\, az Európai Szociális Alap finanszírozásában valósul meg.
URL:https://pbkik.hu/esemeny/ingyenes-tajekoztato-szigetvaron-a-2020-julius-1-tol-eletbe-lepo-valtozasokrol/
LOCATION:Szigetvári CsakPONT\, Dózsa Gy. u. 5/A.\, Szigetvár\, Baranya\, Magyarország
END:VEVENT
BEGIN:VEVENT
DTSTART;TZID=Europe/Helsinki:20201125T083000
DTEND;TZID=Europe/Helsinki:20201125T153000
DTSTAMP:20260425T200945
CREATED:20201116T102425Z
LAST-MODIFIED:20201124T095805Z
UID:10002170-1606293000-1606318200@pbkik.hu
SUMMARY:ADÓFÓRUM a 2021. évi adóváltozásokról
DESCRIPTION:Adófórum a 2021. évi adóváltozásokról. Online tájékoztató a Pécs-Baranyai Kereskedelmi és Iparkamara\, a PBGSZ NKft. és a Magyar Könyvvizsgáló Kamara Baranya megyei Szervezete szervezésében\, a NAV előadóival. \n \nProgram \n(A sorrend változtatásának jogát fenntartjuk.) \n08:30 – 9:30 SZJA\, KHO\, KATA\nElőadó: Farkas Petra – NAV \n9:35 – 10:35 ÁFA\nElőadó: Burgmann György – NAV \n10:45 – 11:30 ART\, AIR\nElőadó: Dr. Virág Orsolya – NAV \n11:30 – 12:30 Ebédidő \n 12:30 – 13:30 SZOCHO\, EHO\, TBJ\, Szakképzési hozzájárulás\nElőadó: Dr. Kárpáti Éva – NAV \n13:35 – 14:45 TAO\, KIVA\, NETA\, Környezetvédelmi termékdíj\nElőadó: Banitz István – NAV \n14:50 – 15:30 Könyvelők adminisztrációs kötelezettségei a duális képzőhelyeken (szakképzési munkaszerződés)\nElőadó: Sarkadiné Schmidt Alexandra – PBKIK \n  \nRészvételi díj: ingyenes \nA jelentkezést csak az online regisztrációval tudjuk elfogadni! \nJelentkezési határidő: november 24. (kedd) \nA regisztrált résztvevőknek a ZOOM előadás linkjét november 24-én küldjük meg\, a megadott email címre. \nTovábbi információ: Kiss Karolin\, 72/507-102\, kiss.karolin@pbkik.hu \n  \nRegisztráció\nThis form is currently closed for submissions. \n 
URL:https://pbkik.hu/esemeny/adoforum-a-2021-evi-adovaltozasokrol/
LOCATION:Online
END:VEVENT
BEGIN:VEVENT
DTSTART;TZID=Europe/Helsinki:20210224T140000
DTEND;TZID=Europe/Helsinki:20210224T170000
DTSTAMP:20260425T200945
CREATED:20210202T103724Z
LAST-MODIFIED:20250207T194906Z
UID:10001867-1614175200-1614186000@pbkik.hu
SUMMARY:Év eleji változások az adózásban és a vállalkozások működését segítő intézkedések
DESCRIPTION:A Pécsi Család- és KarrierPONT ingyenes rendezvényén a 2021-ben életbe lépett adóváltozásokról és a vállalkozásokat érintő előírásokról\, kötelezettségekről kaphatnak tájékoztatást az érdeklődők. \n \nFőbb témák: \n\n\n\n\n\nkisadózokat érintő változások: KIVA\, KATA\nilletékek\, járulékok 2021-ben\nÁFA: online számlázás\, e-kereskedelem\,\nszemélyi jövedelmadó: munkáltatói juttatások\, online adóelőleg nyilatkozat\n\n\n\n\n\nEzekre és további kérdésekre is választ kap a rendezvényen. \nIdőpont: 2021. 02. 24. 14:00 – 17:00 \nHelyszín: ONLINE (Zoom felület) \nElőadó:  Nyul Éva – adószakértő – Pécsi CSAKPONT \n  \nA részvétel ingyenes\, de regisztrációhoz kötött\, mivel a résztvevők száma korlátozott. \nA regisztráció lezárult!
URL:https://pbkik.hu/esemeny/adozas-2021-ev-eleji-valtozasok-vallalkozas/
LOCATION:Online
END:VEVENT
END:VCALENDAR