BEGIN:VCALENDAR
VERSION:2.0
PRODID:-//Pécs-Baranyai Kereskedelmi és Iparkamara - ECPv6.15.20//NONSGML v1.0//EN
CALSCALE:GREGORIAN
METHOD:PUBLISH
X-WR-CALNAME:Pécs-Baranyai Kereskedelmi és Iparkamara
X-ORIGINAL-URL:https://pbkik.hu
X-WR-CALDESC:Események Pécs-Baranyai Kereskedelmi és Iparkamara
REFRESH-INTERVAL;VALUE=DURATION:PT1H
X-Robots-Tag:noindex
X-PUBLISHED-TTL:PT1H
BEGIN:VTIMEZONE
TZID:Europe/Helsinki
BEGIN:DAYLIGHT
TZOFFSETFROM:+0200
TZOFFSETTO:+0300
TZNAME:EEST
DTSTART:20200329T010000
END:DAYLIGHT
BEGIN:STANDARD
TZOFFSETFROM:+0300
TZOFFSETTO:+0200
TZNAME:EET
DTSTART:20201025T010000
END:STANDARD
BEGIN:DAYLIGHT
TZOFFSETFROM:+0200
TZOFFSETTO:+0300
TZNAME:EEST
DTSTART:20210328T010000
END:DAYLIGHT
BEGIN:STANDARD
TZOFFSETFROM:+0300
TZOFFSETTO:+0200
TZNAME:EET
DTSTART:20211031T010000
END:STANDARD
BEGIN:DAYLIGHT
TZOFFSETFROM:+0200
TZOFFSETTO:+0300
TZNAME:EEST
DTSTART:20220327T010000
END:DAYLIGHT
BEGIN:STANDARD
TZOFFSETFROM:+0300
TZOFFSETTO:+0200
TZNAME:EET
DTSTART:20221030T010000
END:STANDARD
END:VTIMEZONE
BEGIN:VTIMEZONE
TZID:UTC
BEGIN:STANDARD
TZOFFSETFROM:+0000
TZOFFSETTO:+0000
TZNAME:UTC
DTSTART:20200101T000000
END:STANDARD
END:VTIMEZONE
BEGIN:VEVENT
DTSTART;TZID=Europe/Helsinki:20210127T140000
DTEND;TZID=Europe/Helsinki:20210127T150000
DTSTAMP:20260424T003038
CREATED:20210120T101012Z
LAST-MODIFIED:20221122T094918Z
UID:10002212-1611756000-1611759600@pbkik.hu
SUMMARY:5G és szabadalmak - LESI webinárium
DESCRIPTION:Az 5G miért diszruptív technológia? Hogyan növelheti az 5G technológiákat lefedő szellemi tulajdon a beruházásokat és ösztönözheti az innovációt? Ezekre a kérdésekre ad választ a LESI webináriuma. \n \n  \nAz új technológiai paradigmák létrejöttével új kihívások merülnek fel. Az 5G bonyolultabb\, mint a korábbi mobil generációk\, új követelményeket támaszt az új\, és eltérő felhasználási esetekben\, mint a vezeték nélküli hálózatok a hálózatra csatlakozott járműveknél\, az Ipar 4.0-ban\, a mezőgazdaságban\, az orvostudományban stb. 5G-eszközök értékesítése 2026-ra globálisan 668 milliárd dollárra nő – és növekedni fog az idei 5\,5 milliárd dollárról az Allied Market Research szerint. Az 5G új lehetőség lesz arra is\, hogy a szellemi tulajdont az innováció előmozdításának kulcsfontosságú eszközeként használja. \nA webinárium (a LESI & LES Italy házigazdája) az alábbi témákkal foglalkozik: \n\nMiért különbözik annyira az 5G a 4G-től?\nMi a hatása olyan kulcsfontosságú területeken\, mint például az autóipar (az értékesítés\, a V2X kommunikáció\, stb.)?\nMelyek az 5G szabadalmak engedélyezésének különböző forgatókönyvei?\nMilyen hatással volt a COVID-19 az 5G telepítésére?\n\nModerátor: Luis Ignacio Vicente del Olmo (ASTI Mobile Robotics & Pons IP) \nPanelisták: \n\nSonja London (NOKIA)\nMatteo Sabattini (Ericsson)\nJohn Carney (LES USA és autóipar)\n\nTovábbi információ  és regisztráció
URL:https://pbkik.hu/esemeny/5g-es-szabadalmak-lesi-webinarium/
LOCATION:Online
END:VEVENT
BEGIN:VEVENT
DTSTART;TZID=UTC:20210128T163000
DTEND;TZID=UTC:20210128T173000
DTSTAMP:20260424T003038
CREATED:20210120T105017Z
LAST-MODIFIED:20221122T094913Z
UID:10002213-1611851400-1611855000@pbkik.hu
SUMMARY:Szórakozás és játékok - videojáték-fejlesztés belülről
DESCRIPTION:Steven Webb\, a Sumo Group plc. munkatársa nyújt betekintést a cég üzleti modelljébe\, és abba\, hogy ebben a dinamikusan fejlődő és változó iparágban a kreatív alkotások milyen szellemi tulajdonjogi kérdéseket vetnek fel. \n \nCsatlakozzon a LES B&I és Steven Webb webináriumához „Fun and Games – inside a video games developer” témában január 28-án! \nSteven Webb a Sumo Group plc. főtanácsosa és vállalati titkára\, amely az Egyesült Királyság videojáték-iparának egyik legnagyobb end-to-end kreatív fejlesztési és együtt fejlesztési szolgáltatója. \nA videojáték-eladások az előrejelzések szerint nagyobbak lesznek\, mint a film- és zeneipar\, 2020-ban elérte a 159 milliárd dollárt (2019-hez képest több mint 9% -kal)\, és az előrejelzések szerint 2023-ra meghaladja a 200 milliárd dollárt. A videojáték-eladási listákat néhány világcég vezeti – a Tencent\, a Sony\, az Apple\, a Microsoft\, a Google és az Amazon – és ezek mind a Sumo ügyfelei. \nA 2003-ban indult Sumo gyorsan növekedett\, és 2017 decemberében került be az AIM piacra. A következő három évben a vállalkozás az emberek számát tekintve majdnem megháromszorozódott\, és földrajzilag bővült az Egyesült Királyságon belül és kívül. A cég bérfejlesztő szolgáltatóként indult\, amely extra kapacitást kínál más fejlesztőknek és játékkiadóknak a játék fejlesztésének egyes szakaszaihoz. A közelmúltban a Sumo saját játékokat hozott létre\, amelyek elérhetőek az Apple Arcade-on. \nEbben a fiatal és gyorsan növekvő ágazatban jelentős váltások zajlottak le – a konzolról a mobilra\, prémium ingyenesen játszható\, és most előfizetéses modellek. \nRészvételi díj: \nLES tagok – ingyenes \nNem tagok – 25 GBP \nTovábbi információ\nRegisztráció
URL:https://pbkik.hu/esemeny/szorakozas-es-jatekok-videojatek-fejlesztes-belulrol/
LOCATION:Online
END:VEVENT
END:VCALENDAR