BEGIN:VCALENDAR
VERSION:2.0
PRODID:-//Pécs-Baranyai Kereskedelmi és Iparkamara - ECPv6.15.20//NONSGML v1.0//EN
CALSCALE:GREGORIAN
METHOD:PUBLISH
X-WR-CALNAME:Pécs-Baranyai Kereskedelmi és Iparkamara
X-ORIGINAL-URL:https://pbkik.hu
X-WR-CALDESC:Események Pécs-Baranyai Kereskedelmi és Iparkamara
REFRESH-INTERVAL;VALUE=DURATION:PT1H
X-Robots-Tag:noindex
X-PUBLISHED-TTL:PT1H
BEGIN:VTIMEZONE
TZID:Europe/Helsinki
BEGIN:DAYLIGHT
TZOFFSETFROM:+0200
TZOFFSETTO:+0300
TZNAME:EEST
DTSTART:20200329T010000
END:DAYLIGHT
BEGIN:STANDARD
TZOFFSETFROM:+0300
TZOFFSETTO:+0200
TZNAME:EET
DTSTART:20201025T010000
END:STANDARD
BEGIN:DAYLIGHT
TZOFFSETFROM:+0200
TZOFFSETTO:+0300
TZNAME:EEST
DTSTART:20210328T010000
END:DAYLIGHT
BEGIN:STANDARD
TZOFFSETFROM:+0300
TZOFFSETTO:+0200
TZNAME:EET
DTSTART:20211031T010000
END:STANDARD
BEGIN:DAYLIGHT
TZOFFSETFROM:+0200
TZOFFSETTO:+0300
TZNAME:EEST
DTSTART:20220327T010000
END:DAYLIGHT
BEGIN:STANDARD
TZOFFSETFROM:+0300
TZOFFSETTO:+0200
TZNAME:EET
DTSTART:20221030T010000
END:STANDARD
END:VTIMEZONE
BEGIN:VEVENT
DTSTART;TZID=Europe/Helsinki:20210304T100000
DTEND;TZID=Europe/Helsinki:20210304T120000
DTSTAMP:20260423T133742
CREATED:20210219T105100Z
LAST-MODIFIED:20210219T130318Z
UID:10001884-1614852000-1614859200@pbkik.hu
SUMMARY:Ipar 4.0\, digitalizáció a gépiparban - elmélet és gyakorlat
DESCRIPTION:A digitalizáció\, az ipar 4.0 és a fejlett gyártástechnológiák számos új funkciót és alkalmazási lehetőséget kínálnak\, amelyek megoldást nyújtanak a vállalkozások igényeire és problémáira\, javítva versenyképességüket. A webináriumon a száraznak nem mondható elmélet mellett pécsi vállalkozások mutatják be saját „bőrükön” az ipar 4.0 megoldások alkalmazását\, használatát és hasznát. \n \n  \nA webinárium a Pécs-Baranyai Kereskedelmi és Iparkamara (PBKIK) Innovációs Bizottságának és Iparfejlesztési Bizottságának\, valamint a Budapesti Műszaki és Gazdaságtudományi Egyetem (BME) Ipar 4.0 Technológiai Központjának közös szervezésében valósul meg\, a PBKIK és a BME VIK által kötött együttműködés részeként. \n  \nProgram: \n10:00 – 10:10 Megnyitó – Herbály István (elnök\, PBKIK Innovációs Bizottság) és Kleisz Zoltán (elnök\, PBKIK Iparfejlesztési Bizottság) \n10:10 – 10:15 Bemutatkozás – kik vagyunk mi? (Kovács László\, BME Ipar 4.0 Technológiai Központ) \n10:15 – 10:35 Ipar 4.0 megoldások a gépiparban (Kovács László\, BME Ipar 4.0 Technológiai Központ) \n10:35 – 10:55 Mesterséges Intelligencia alkalmazása ipar 4.0 megoldásokban (Grad-Gyenge László\, BME Automatizálási és alkalmazott informatikai Tanszék) \n10:55 – 11:10 Ipar 4.0 a gyakorlatban – KONTAKT-Elektro Kft. (Hirth Olivér\, KONTAKT-Elektro Kft.) \n11:10 – 11:25 Ipar 4.0 a gyakorlatban – RG-Net Kft. (Herbály István\, RG-Net Kft.) \n11:25 – 11:30 Kérdések-válaszok \n  \nA webináriumon való részvétel ingyenes\, de regisztrációhoz kötött. \nThis form is currently closed for submissions.
URL:https://pbkik.hu/esemeny/ipar-4-0-digitalizacio-a-gepiparban-elmelet-es-gyakorlat/
LOCATION:Online
END:VEVENT
BEGIN:VEVENT
DTSTART;TZID=Europe/Helsinki:20210319T093000
DTEND;TZID=Europe/Helsinki:20210319T130000
DTSTAMP:20260423T133742
CREATED:20210310T113521Z
LAST-MODIFIED:20221122T095219Z
UID:10002264-1616146200-1616158800@pbkik.hu
SUMMARY:Biztonságos és fenntartható vegyszerek\, anyagok és termékek - workshop
DESCRIPTION:Vegyi anyagokat gyárt? A gyártás során felhasznál vegyi anyagokat? Akkor érdekelni fogja\, mire készül a következő 7 évben az EU. \nAz Európai Zöld Megállapodás világos jövőképet és célkitűzéseket határoz meg az európai gazdaság és társadalom fenntartható pályára állítása érdekében\, különös tekintettel a klímasemlegesség\, a körforgásos gazdaság és a szennyezésmentes / mérgezésmentes törekvés felé. Ennek a társadalmi átalakulásnak a kulcsa az áttérés a biztonságos és fenntartható tervezési megközelítésre\, hogy a vegyi anyagokat\, anyagokat és termékeket úgy tervezzék\, állítsák elő és használják fel\, hogy ne károsítsák az embereket és a környezetet. \n \n  \nA körforgásos gazdaság cselekvési terve menetrendet kínál a tisztább és versenyképesebb Európa megvalósításához\, ahol a biztonságos és fenntartható termékek az általánosak\, javítva azok tartósságát\, újrafelhasználhatóságát\, frissíthetőségét és javíthatóságát\, valamint kezelve a veszélyes vegyi anyagok jelenlétét. A vegyi anyagok fenntarthatósági stratégiájának célja az eleve biztonságos és fenntartható vegyi anyagok\, anyagok és termékek felé történő elmozdulás katalizálása a gyártástól az életciklus végéig\, és bejelenti\, hogy a Bizottság 2022-ig kidolgozza a biztonságos és fenntartható tervezés kritériumait. \n  \nEzen a workshopon a Bizottság célja\, hogy: \n\ntájékoztassa az érdekelt feleket a biztonságos és fenntartható fejlesztési tervezési kritériumok tervezett lépéseiről.\nelső eszmecserét kezdeményezzen az érdekelt felekkel a biztonságos és fenntartható tervezési koncepcióról.\nvisszajelzést gyűjtsön az érdekelt felektől a bemutatott lépésekről és az első fejlesztésekről.\n\nA részletes program hamarosan elérhető lesz. \nA részvétel díjmentes\, de regisztrációhoz kötött. \n  \nTovábbi információ kérhető e-mailen: RTD-SUSTAINABLE-BY-DESIGN@ec.europa.eu
URL:https://pbkik.hu/esemeny/biztonsagos-es-fenntarthato-vegyszerek-anyagok-es-termekek-workshop/
LOCATION:Online
END:VEVENT
END:VCALENDAR