BEGIN:VCALENDAR
VERSION:2.0
PRODID:-//Pécs-Baranyai Kereskedelmi és Iparkamara - ECPv6.15.20//NONSGML v1.0//EN
CALSCALE:GREGORIAN
METHOD:PUBLISH
X-WR-CALNAME:Pécs-Baranyai Kereskedelmi és Iparkamara
X-ORIGINAL-URL:https://pbkik.hu
X-WR-CALDESC:Események Pécs-Baranyai Kereskedelmi és Iparkamara
REFRESH-INTERVAL;VALUE=DURATION:PT1H
X-Robots-Tag:noindex
X-PUBLISHED-TTL:PT1H
BEGIN:VTIMEZONE
TZID:Europe/Helsinki
BEGIN:DAYLIGHT
TZOFFSETFROM:+0200
TZOFFSETTO:+0300
TZNAME:EEST
DTSTART:20180325T010000
END:DAYLIGHT
BEGIN:STANDARD
TZOFFSETFROM:+0300
TZOFFSETTO:+0200
TZNAME:EET
DTSTART:20181028T010000
END:STANDARD
BEGIN:DAYLIGHT
TZOFFSETFROM:+0200
TZOFFSETTO:+0300
TZNAME:EEST
DTSTART:20190331T010000
END:DAYLIGHT
BEGIN:STANDARD
TZOFFSETFROM:+0300
TZOFFSETTO:+0200
TZNAME:EET
DTSTART:20191027T010000
END:STANDARD
BEGIN:DAYLIGHT
TZOFFSETFROM:+0200
TZOFFSETTO:+0300
TZNAME:EEST
DTSTART:20200329T010000
END:DAYLIGHT
BEGIN:STANDARD
TZOFFSETFROM:+0300
TZOFFSETTO:+0200
TZNAME:EET
DTSTART:20201025T010000
END:STANDARD
END:VTIMEZONE
BEGIN:VEVENT
DTSTART;TZID=Europe/Helsinki:20190216T090000
DTEND;TZID=Europe/Helsinki:20190216T130000
DTSTAMP:20260426T050044
CREATED:20190219T154320Z
LAST-MODIFIED:20190304T162038Z
UID:10001656-1550307600-1550322000@pbkik.hu
SUMMARY:Az Ön alkalmazottjai milyen stresszcsökkentő technikákat alkalmaznak?
DESCRIPTION:Vezető vagy beosztott\, munka vagy magánélet\, minden esetben adódhatnak olyan helyzetek\, melyekben a stressz negatív hatásai utolérik az embereket. Mik lehetnek a stressz\, a szorongás okai\, tünetei? Milyen hatással vannak ezek az egészségünkre? Milyen megelőzési és megoldási lehetőségek állnak a rendelkezésünkre? \n  \n \n\n\n\nA jelentkezők a stresszkezelési módok és technikák tanfolyamon elsajátíthatják\, hogyan ismerjék fel és kezeljék a stresszt\, hogy ne menjenek emiatt tönkre az emberi és munkahelyi kapcsolataink. \n\n\n\n\n\n\nAz ingyenes képzés elsődleges célja\, hogy a résztvevő képes legyen az őt ért stresszhelyzeteket megfelelően kezelni\, az emberi kapcsolatokban a stressz csapdákat kerülni illetve oldani. Stressz-kezelési módszerek megismerése\, és gyakorlása\, a konfliktus-kezelés és az asszertív kommunikáció alkalmazásának elsajátítása helyzetgyakorlatok során. \n\n\n\n  \n\n\n\nA háromalkalmas képzés időpontjai:\n2019.02.16.\n2019.02.23.\n2019.03.02. \nA képzés során elsajátítandó tananyag: \nA stressz meghatározása és folyamata \nA stressz kezelésének lehetőségei \nKonfliktus-kezelés és asszertív kommunikáció \n  \n\nREGISZTRÁCIÓ\n  \nKépzési idő: 30 óra (10 óra elmélet\, 20 óra gyakorlat) \nKépzés helyszíne: 7621 Pécs\, Váradi Antal utca 7/2. (VOKE Vasutas Művelődési Ház) \n  \nA képzés követelményeit teljesítők sorszámozott tanúsítványt kapnak! A képzés időtartama alatt gyermekfelügyeletet tudunk biztosítani\, melyet a jelentkezéskor szükséges igényelni. \nA képzés az EFOP-1.2.9-17-2017-00082 azonosítószámú „Munka ÉS Család – A nők munkaerő-piaci helyzetének javítása és Nő-Köz-Pont létrehozása Pécsett” elnevezésű projekt keretében valósul meg.
URL:https://pbkik.hu/esemeny/az-on-alkalmazottjai-milyen-stresszcsokkento-technikakat-alkalmaznak/
LOCATION:Pécsi Család- és KarrierPONT\, Váradi Antal utca 7/2.\, Pécs\, Baranya\, 7621\, Magyarország
END:VEVENT
BEGIN:VEVENT
DTSTART;TZID=Europe/Helsinki:20190219T090000
DTEND;TZID=Europe/Helsinki:20190219T140000
DTSTAMP:20260426T050044
CREATED:20190219T154106Z
LAST-MODIFIED:20190304T162027Z
UID:10001650-1550566800-1550584800@pbkik.hu
SUMMARY:Nem tudja\, hogyan képviselje magát a munkaerőpiacon?
DESCRIPTION:Állást keres? Munkahelyet változtatna? Az álláskeresési ismeretek és technikák elsajátításával Ön is felkészülhet a munkaerőpiacra való visszatérésre\, fejlesztheti készségeit és tudatosan kommunikálhatja erősségeit. \n \nÉletpálya (karrier) tervezés\, állláskeresési csatornák\, önéletrajz\, motivációs levél\, állásinterjú\, önismeret\, önbizalom és önérvényesítés\, asszertív kommunikáció… minderről szó lesz a két alkalmas\, ingyenesen elvégezhető tréningen! \nA képzés célja: a munkaerőpiacra visszatérni kívánó nők felkészítése az újbóli munkába állásra\, munkaerőpiaci kompetenciák feljlesztése. \nA képzés időpontjai:\n2019.02.19.\n2019.02.26. \nKépzés elemei: \n\nÉletpálya-\, karriertervezési és álláskeresési ismeretek és technikák.\nAktuális élethelyzet elemzése.\nKommunikációs\, önérvényesítő és változáskezelési készségek fejlesztése.\nMunkavállalói és személyes erősségek beazonosítása\, önismeret és önbizalom erősítése.\nSzemélyes portfólió (önéletrajz\, motivációs levél\, online jelenlét) kialakítása\, állásinterjú.\nRövid-\, közép- és hosszútávú tervezés\, személyre szabott cselekvési terv elkészítése.\n\n  \nREGISZTRÁCIÓ
URL:https://pbkik.hu/esemeny/nem-tudja-hogyan-kepviselje-magat-a-munkaeropiacon/
LOCATION:Pécsi Család- és KarrierPONT\, Váradi Antal utca 7/2.\, Pécs\, Baranya\, 7621\, Magyarország
END:VEVENT
BEGIN:VEVENT
DTSTART;VALUE=DATE:20190220
DTEND;VALUE=DATE:20190222
DTSTAMP:20260426T050044
CREATED:20181106T175656Z
LAST-MODIFIED:20190304T161445Z
UID:10001553-1550620800-1550793599@pbkik.hu
SUMMARY:Társadalmi partnerképzés
DESCRIPTION:A képzés célja\, a társadalmi partnerség előmozdítása\, valamint annak ösztönzése\, hogy a társadalom különböző szektorai között\, minél több partneri együttműködés jöjjön létre. \n  \nA képzés keretében a résztvevők együtt beszélgethetnek és közösen  gondolkodhatnak a helyi erőforrások összhangjának és szinergiájának megteremtéséről pl: milyen saját válaszokat és megoldásokat tudnak adni a környezetünket foglalkoztató legfontosabb kérdésekre? \nKiknek szól? \n\nAzoknak\, akik elkötelezettek a munka-magánélet széles körű fejlesztésében\, a nők és családok életminőségének javításban\, a saját környezetük fejlődésében.\n\n\nMindenkinek\, aki nyitott a közös gondolkodásra\, a helyi ügyekre adható válaszok és megoldások együttes keresésére.\n\n\nA térség közigazgatási\, civil\, szociális területi\, képzés-oktatási\, közintézményekbeli elkötelezett szakembereinek és a laikus segítőknek.\n\nMi fog történni? \nA CSBO által kialakított program alapján\, 4 fő témakörben dolgozunk \n\nhálózatfejlesztés\npartnerség és közösségépítés a gyakorlatban\nhumán szolgáltatásfejlesztés hálózati keretek között\nhálózati működés és szolgáltatásnyújtás fenntarthatósága\n\nA helyi sajátosságokhoz kapcsolódva meghatározzuk az együttműködés főbb területeit és megkezdjük a megoldások\, a közös munka kialakítását. \nMi lesz az eredménye? \n\ntényleges alapokon nyugvó kapcsolatok alakulnak ki\na korábbi kapcsolatok elmélyülnek\núj\, közös lehetőségek tárulnak fel az együttműködésre\nmegfogalmazódnak konkrét tennivalók\nletesszük az együttműködés módszertani alapjait.\n\nA képzést ingyenesen biztosítjuk a résztvevőknek\, mert a program a „NŐNAP 365 Nő-Köz-Pont működtetése Nyugat-Baranyában\, Szigetvár központtal” (EFOP-1.2.9-17-2017-00102) című pályázat keretében és forrásaiból valósul meg. \n  \nIdőpont: 2019. február 20-21. \nHelyszín: CSAKPont Szigetvár (7900 Szigetvár\, Dózsa Gy. utca 5/a.) \n  \nRegisztráció \nAdatkezelési tájékoztató
URL:https://pbkik.hu/esemeny/tarsadalmi-partnerkepzes/
LOCATION:CsakPont Szigetvár\, Dózsa Gy. utca 5/a.\, Szigetvár\, Baranya\, 7900\, Magyarország
END:VEVENT
END:VCALENDAR