BEGIN:VCALENDAR
VERSION:2.0
PRODID:-//Pécs-Baranyai Kereskedelmi és Iparkamara - ECPv6.15.20//NONSGML v1.0//EN
CALSCALE:GREGORIAN
METHOD:PUBLISH
X-ORIGINAL-URL:https://pbkik.hu
X-WR-CALDESC:Események Pécs-Baranyai Kereskedelmi és Iparkamara
REFRESH-INTERVAL;VALUE=DURATION:PT1H
X-Robots-Tag:noindex
X-PUBLISHED-TTL:PT1H
BEGIN:VTIMEZONE
TZID:Europe/Helsinki
BEGIN:DAYLIGHT
TZOFFSETFROM:+0200
TZOFFSETTO:+0300
TZNAME:EEST
DTSTART:20180325T010000
END:DAYLIGHT
BEGIN:STANDARD
TZOFFSETFROM:+0300
TZOFFSETTO:+0200
TZNAME:EET
DTSTART:20181028T010000
END:STANDARD
BEGIN:DAYLIGHT
TZOFFSETFROM:+0200
TZOFFSETTO:+0300
TZNAME:EEST
DTSTART:20190331T010000
END:DAYLIGHT
BEGIN:STANDARD
TZOFFSETFROM:+0300
TZOFFSETTO:+0200
TZNAME:EET
DTSTART:20191027T010000
END:STANDARD
BEGIN:DAYLIGHT
TZOFFSETFROM:+0200
TZOFFSETTO:+0300
TZNAME:EEST
DTSTART:20200329T010000
END:DAYLIGHT
BEGIN:STANDARD
TZOFFSETFROM:+0300
TZOFFSETTO:+0200
TZNAME:EET
DTSTART:20201025T010000
END:STANDARD
END:VTIMEZONE
BEGIN:VEVENT
DTSTART;VALUE=DATE:20190820
DTEND;VALUE=DATE:20190823
DTSTAMP:20260424T225638
CREATED:20190429T081120Z
LAST-MODIFIED:20190910T085902Z
UID:10001769-1566259200-1566518399@pbkik.hu
SUMMARY:Gamesmatch - kiállítás és üzletember-találkozó a játékiparban
DESCRIPTION:Az Enterprise Europe Network hetedik alkalommal szervezi meg a #gamesmatch kiállítást\, mely egy egyedülálló és hatékony módját kínálja az üzleti megbeszélések felgyorsítására a fejlesztőknek\, a kiadóknak\, a befektetőknek a vásáron való részvétel során. \n \n  \nMiért érdemes részt venni? \nA rendezvény lehetőséget kínál \n\nszakmai kapcsolatok szélesítésére\n\nhatáron átnyúló kapcsolatok létrehozására a hosszú távú partnerségek számára\n\nnemzetközi szintű projektek bemutatására\, megvitatására és fejlesztésére\n\na kiegészítő szolgáltatásokat és termékeket kínáló játékosok megismerésére\n\n a legfrissebb híreket és trendek megismerésére a játékiparban.\n\n  \nIdőpont: 2019 augusztus 20-22. \nHelyszín: Németország\, Cologne\, Business Area\, Booth of Medien Digital Land NRW\, Hall 4.1 B-031 – C-040 \nJelentkezési határidő: 2019. augusztus 18. \n  \nRegisztráció a Gamesmatch hivatalos honlapján.
URL:https://pbkik.hu/esemeny/gamesmatch-kiallitas-es-uzletember-talalkozo-a-jatekiparban/
LOCATION:Cologne\, Németország
END:VEVENT
BEGIN:VEVENT
DTSTART;TZID=Europe/Helsinki:20190827T080000
DTEND;TZID=Europe/Helsinki:20190827T170000
DTSTAMP:20260424T225638
CREATED:20190808T084617Z
LAST-MODIFIED:20190910T085916Z
UID:10001909-1566892800-1566925200@pbkik.hu
SUMMARY:Mezőgazdasági és élelmiszer ipari üzletember-találkozó Szlovéniában
DESCRIPTION:A Maribor Fejlesztési Ügynökség nemzetközi üzletember-találkozót szervez „MEET4BUSINESS” Agra 2019 címen Gornja Radgonában (Szlovénia) az 57. Nemzetközi Mezőgazdasági és Élelmiszer-vásár AGRA 2019 keretében. \n \n  \n\nAz AGRA 2019 egy olyan esemény\, ahol naprakész információk birtokába juthatnak a résztvevők\, ezzel közelebb kerülve a természethez és működő üzleti hálót kialakítva. Az Agra több\, mint 1800 kiállítója nyújtja a legpontosabb adatokat a gyártási és feldolgozási technológiák területén. Ezen felül a látogatók megtekinthetik\, megérinthetik és kipróbálhatják a legmodernebb technológiákat és gépeket a mezőgazdaság\, az erdőgazdálkodás\, a gyümölcstermesztés és az élelmiszeripar területén. Lehetőség nyílik megkóstolni a legjobb mezőgazdasági termékeket\, ételeket és borokat is.\n\n\n\n\n\nA vásár fókuszpontja: digitális mezőgazdaság\, digitalizáció az agrárélelmiszerekben\, precíziós mezőgazdaság\, nemzetközi gazdaság\, új technológiák a mezőgazdaságban\, a generációk megújítása\, új termelési és feldolgozási technológiák\, közelről származó élelmiszerek\, biogazdálkodás\, körkörös gazdaság.\n\n\n\nTovábbi információ és regisztráció a MEET4BUSINESS hivatalos oldalán.
URL:https://pbkik.hu/esemeny/mezogazdasagi-es-elelmiszer-ipari-uzletember-talalkozo-szloveniaban/
LOCATION:Gornja Radgona\, Gornja Radgona\, Szlovénia
ATTACH;FMTTYPE=image/png:https://pbkik.hu/wp-content/uploads/2019/08/bandeau_agra_2019.png
END:VEVENT
END:VCALENDAR