BEGIN:VCALENDAR
VERSION:2.0
PRODID:-//Pécs-Baranyai Kereskedelmi és Iparkamara - ECPv6.15.20//NONSGML v1.0//EN
CALSCALE:GREGORIAN
METHOD:PUBLISH
X-WR-CALNAME:Pécs-Baranyai Kereskedelmi és Iparkamara
X-ORIGINAL-URL:https://pbkik.hu
X-WR-CALDESC:Események Pécs-Baranyai Kereskedelmi és Iparkamara
REFRESH-INTERVAL;VALUE=DURATION:PT1H
X-Robots-Tag:noindex
X-PUBLISHED-TTL:PT1H
BEGIN:VTIMEZONE
TZID:Europe/Helsinki
BEGIN:DAYLIGHT
TZOFFSETFROM:+0200
TZOFFSETTO:+0300
TZNAME:EEST
DTSTART:20180325T010000
END:DAYLIGHT
BEGIN:STANDARD
TZOFFSETFROM:+0300
TZOFFSETTO:+0200
TZNAME:EET
DTSTART:20181028T010000
END:STANDARD
BEGIN:DAYLIGHT
TZOFFSETFROM:+0200
TZOFFSETTO:+0300
TZNAME:EEST
DTSTART:20190331T010000
END:DAYLIGHT
BEGIN:STANDARD
TZOFFSETFROM:+0300
TZOFFSETTO:+0200
TZNAME:EET
DTSTART:20191027T010000
END:STANDARD
BEGIN:DAYLIGHT
TZOFFSETFROM:+0200
TZOFFSETTO:+0300
TZNAME:EEST
DTSTART:20200329T010000
END:DAYLIGHT
BEGIN:STANDARD
TZOFFSETFROM:+0300
TZOFFSETTO:+0200
TZNAME:EET
DTSTART:20201025T010000
END:STANDARD
END:VTIMEZONE
BEGIN:VEVENT
DTSTART;VALUE=DATE:20190906
DTEND;VALUE=DATE:20190912
DTSTAMP:20260425T133905
CREATED:20190508T083207Z
LAST-MODIFIED:20190910T085954Z
UID:10001783-1567728000-1568246399@pbkik.hu
SUMMARY:IFA Berlin kiállítás és üzletember-találkozó
DESCRIPTION:Az Enterprise Europe Network nemzetközi üzletember-találkozót szervez „IFA Business Days” néven a 2019. szeptember 6-11. alatt megrendezésre kerülő IFA fogyasztói elektronika és háztartási gépek kiállításának és vásárának keretein belül. \n \n  \nA kiállítás programjátt különböző üzleti megbeszélések egészítik ki és vezetett üzleti túrákat tartanak az érdekelt  kiállítók és a különleges vendégek számára. \n  \nA programot hamarosan közzéteszik az IFA Berlin 2019 hivatalos honlapján. \n 
URL:https://pbkik.hu/esemeny/ifa-berlin-kiallitas-es-uzletember-talalkozo/
LOCATION:Berlin\, Németország
END:VEVENT
BEGIN:VEVENT
DTSTART;VALUE=DATE:20190908
DTEND;VALUE=DATE:20190914
DTSTAMP:20260425T133905
CREATED:20190528T070536Z
LAST-MODIFIED:20190910T090009Z
UID:10001836-1567900800-1568419199@pbkik.hu
SUMMARY:Üzleti delegáció Kínába - Hongkong\, Makaó
DESCRIPTION:Hongkong a Kínai Népköztársaság Különleges Igazgatású Területe\, ennek keretében jelentős autonómiával rendelkezik: saját kormánya\, jogrendszere és pénzneme van. Hongkong gazdasági helyzetének mára meghatározó eleme\, hogy Kína a világ leggyorsabban növekvő\, kiemelkedő jelentőségű gazdasága lett. \n \n  \nHongkong területe 1.104\,3 km2\, lakossága mintegy 7.5 millió fő. A város gazdasági jelentősége világszinten kiemelkedő – mind pénzügyi\, mind kereskedelmi szempontból: az ázsiai-csendes-óceáni régión belül itt található a vállalati központok legnagyobb tömörülése. A hongkongi értéktőzsde az egyik legjelentősebb a világon. \nA kiutazó üzleti delegáció célja az általános üzleti kapcsolatok fejlesztésén túl a vállalkozók közötti együttműködési lehetőségek feltérképezése\, a már meglévő üzleti kapcsolatok elmélyítése\, valamint részvétel a \,\,4th Belt and Road Summit’’ konferencián. \n  \nCélcsoport \nKína iránt érdeklődő exportorientált és innovatív cégprofilú vállalkozások\, melyek az alábbi területeken tevékenykednek: \n\nICT\nkörnyezeti\, tiszta technológiák\ngépipar\nmezőgazdasági technológiák\nélelmiszeripar\nvízipar\nhulladékgazdálkodás\nszennyvízkezelés\n\n  \nTervezett programok \n\ntájékoztató konzultáció a Hongkongi Főkonzulátus munkatársaival\ntalálkozó a kamarai partnerekkel Makaóban\nrészvétel a \,\,4th Belt and Road Summit’’ rendezvénysorozaton Hongkongban\n\n  \nA megfelelő mennyiségű és minőségű üzleti partnerek felkutatása a külföldi partnereink felelőssége\, erre vonatkozólag az MKIK nem tud garanciát vállalni. A kamarák mindent megtesznek a rendezvény sikeréért\, de javasoljuk\, hogy az eredményes kiutazás érdekében\, saját szervezésben is hívjanak partnereket az üzletember-találkozóra. \nA tervezett szakmai program. \n  \nMiért érdemes részt venni? \n\ningyenes részvétel a szakmai programokon (a ’’4th Belt and Road Summit’’ a delegáció résztvevői számára ingyenes\, a részvételi díjat az MKIK állja)\ntájékozódási lehetőség Hongkong és Makaó gazdasági és üzleti környezetéről\, a magyar-kínai gazdasági együttműködési lehetőségekről\ntárgyalási lehetőség potenciális üzleti partnerekkel\n\n  \nA 2018-as Belt and Road fórum számokban: \n\n80+ nemzetközileg elismert előadó\n55 országból közel 5\,000 résztvevő (kormányzati\, pénzügyi\, gazdasági szakemberek\, gyártók\, start-up cégek\, projekt tulajdonosok\, stb.) közel 100 külföldi delegáció\n29 ország 50 kiállítója vett részt a Global Investment Zone befektetési rendezvényen\n520+ üzleti találkozó került megszervezésre a projekt tulajdonosok számára\n230+ bemutatásra került projekt\n\n  \nA konferencia főbb témái 2019-ben: \n\nGuangdong – Hong Kong – Macao\, a Greater Bay Area\, mint a Belt and Road Initiative bázisa\nInfrastuktúra finanszírozás\nKínai infrastruktúra finanszírozás és EPM szerződések\nGeopolitikai rizikók\nNemzetközi vitarendezés\nDigitális Selyem Út / Smart City\nLehetőségek a kis-és középvállalkozások számára\n\n  \nA  4th Belt and Road Summit részletes programja: http://www.beltandroadsummit.hk/en/information_centre/programme.html \n  \nSzervezők \nA Magyar Kereskedelmi Iparkamara a Hong Kong Trade Development Councillal (HKTDC) és Magyarország Hongkongi Főkonzulátusával együttműködve a helyi kamarai és üzleti partnerek támogatásával. \n  \nMilyen nyelvűek a szakmai programok? \nA szakmai programok nyelve az angol\, magyar tolmácsolás nem biztosított. \n  \nJelentkezési határidő: 2019. június 14. \n  \nJelentkezés és bővebb információ: \nA jelentkezéshez az alábbiakban felsorolt három dokumentumot kitöltve\, 2019. június 14-ig a vegvari.kristof@mkik.hu e-mail címre várjuk. \n  \n\njelentkezési lap a szállásigény és a kiutazás módjának megjelölésével\,\nangol nyelvű cégprofil\naláírt adatkezelési és hozzájáruló nyilatkozat\n\nAz üzleti delegáció  minimum 10 fő érdeklődése esetén valósul meg\, ezért kérjük\, hogy foglalásukat csak visszajelzésünket követően véglegesítsék. \n  \nKapcsolattartó: Végvári Kristóf\, vegvari.kristof@mkik.hu\, tel: +36 1 474 5106 \n  \n 
URL:https://pbkik.hu/esemeny/uzleti-delegacio-kinaba-hongkong-makao/
LOCATION:Hongkong\, Kína
ATTACH;FMTTYPE=image/jpeg:https://pbkik.hu/wp-content/uploads/2019/03/mkik_logo_1.jpg
END:VEVENT
BEGIN:VEVENT
DTSTART;TZID=Europe/Helsinki:20190925T153000
DTEND;TZID=Europe/Helsinki:20190925T210000
DTSTAMP:20260425T133905
CREATED:20190730T114216Z
LAST-MODIFIED:20190909T072755Z
UID:10001894-1569425400-1569445200@pbkik.hu
SUMMARY:FAM szlovén női menedzserek szövetsége találkozó
DESCRIPTION:A találkozóra a 2017-ben Vonyarcvashegyen tartott magyar-szlovén üzletasszony találkozó folytatásaként kerül sor. Az esemény munkanyelve angol\, fő témája pedig a digitalizáció és a körkörös gazdaság. \n \n  \nTervezett program: \n15.30-16.00                Érkezés\, helyszín megtekintése \n16.00-16.30                Vendégfogadás \n16.30-17.00                Gyógyfürdő megtekintése \n17.00-19.30                Találkozó hivatalos része\, megnyitója \nBeszéd – FAM-elnök \nBeszéd – Olimia Gyógyfürdő igazgatója \nBeszéd – Podčetrtek polgármestere \nBeszéd – magyar gazdaság és kormányzati képviselői- téma: magyar gazdaság bemutatása\, valamint a szlovén-magyar együttműködés értékelése \nBeszéd – szlovén gazdaság és kormányzati képviselő – téma: a szlovén-magyar együttműködés értékelése (meghívót kapott a szlovén kormányfő\, gazdasági miniszter\, Szlovén Turisztikai Ügynökség (STO) igazgatója\, a Szlovén Gazdasági Minisztérium turizmusért felelős államtitkára) \nElőadás – körkörös gazdaságról\, szlovén előadó által\, 30’ \n19.30 –  Találkozó kötetlen része – B2B megbeszélések\, háttérben kulturális program és megvendégelés. A helyi termelők bemutatják termékeiket. \n  \nMEGHÍVÓ \n  \nIdőpont: 2019. szeptember 25 \nHelyszín: Podčetrtek\, Szlovénia \nAmennyiben a rendezvény felkeltette érdeklődésüket jelezzék  a trade.lju@mfa.gov.hu e-mail címre legkésőbb 2019. augusztus 10-ig.
URL:https://pbkik.hu/esemeny/fam-szloven-noi-menedzserek-szovetsege-talalkozo/
LOCATION:Podčetrtek\, Szlovénia
END:VEVENT
END:VCALENDAR