BEGIN:VCALENDAR
VERSION:2.0
PRODID:-//Pécs-Baranyai Kereskedelmi és Iparkamara - ECPv6.15.20//NONSGML v1.0//EN
CALSCALE:GREGORIAN
METHOD:PUBLISH
X-ORIGINAL-URL:https://pbkik.hu
X-WR-CALDESC:Események Pécs-Baranyai Kereskedelmi és Iparkamara
REFRESH-INTERVAL;VALUE=DURATION:PT1H
X-Robots-Tag:noindex
X-PUBLISHED-TTL:PT1H
BEGIN:VTIMEZONE
TZID:Europe/Helsinki
BEGIN:DAYLIGHT
TZOFFSETFROM:+0200
TZOFFSETTO:+0300
TZNAME:EEST
DTSTART:20180325T010000
END:DAYLIGHT
BEGIN:STANDARD
TZOFFSETFROM:+0300
TZOFFSETTO:+0200
TZNAME:EET
DTSTART:20181028T010000
END:STANDARD
BEGIN:DAYLIGHT
TZOFFSETFROM:+0200
TZOFFSETTO:+0300
TZNAME:EEST
DTSTART:20190331T010000
END:DAYLIGHT
BEGIN:STANDARD
TZOFFSETFROM:+0300
TZOFFSETTO:+0200
TZNAME:EET
DTSTART:20191027T010000
END:STANDARD
BEGIN:DAYLIGHT
TZOFFSETFROM:+0200
TZOFFSETTO:+0300
TZNAME:EEST
DTSTART:20200329T010000
END:DAYLIGHT
BEGIN:STANDARD
TZOFFSETFROM:+0300
TZOFFSETTO:+0200
TZNAME:EET
DTSTART:20201025T010000
END:STANDARD
END:VTIMEZONE
BEGIN:VEVENT
DTSTART;VALUE=DATE:20191104
DTEND;VALUE=DATE:20191109
DTSTAMP:20260423T164149
CREATED:20190730T115935Z
LAST-MODIFIED:20190730T115935Z
UID:10001895-1572825600-1573257599@pbkik.hu
SUMMARY:Üzleti delegáció Dohába
DESCRIPTION:A 2\,6 millió lakosú és 11437 km² kiterjedésű Katar ma a világ egyik leggazdagabb állama.  Fejlettségét az ország nagy részben a szénhidrogének kiemelkedő mennyiségének köszönheti;  Irán és Oroszország után itt található a világ harmadik legnagyobb kiterjedésű földgázlelőhelye. Katar\, amellyel szemben 2017 nyarán több térségbeli állam gazdasági (szárazföldi\, légi és tengeri) blokádot vezetett be\, mára jóval önellátóbbá vált\, mint amilyen korábban volt. A siker egyik tényezője\, hogy az ország egyre nyitottabb az új kereskedelmi partnerek felkutatására a belföldi áruellátásuk biztosításához. \n \n  \nCélcsoport \nKatar és az Öböl-térség iránt érdeklődő exportorientált és innovatív cégprofilú vállalkozások\, melyek főként az alábbi területeken tevékenykednek: \n\nIT (hálózati megoldások\, rendszer/létesítményüzemeltetés\, cybersecurity\, digitális infrastruktúra\, stb.)\,\nInfrastruktúra (különösen közlekedés és sport tekintetében)\,\nKörnyezetvédelem (beleértve a hulladékkezelést is)\,\nVízügy (szennyvízkezeléstől az öntözési technológiákig).\n\n  \nTervezett programok \n\nÜzleti találkozók a Katari Kereskedelmi és Iparkamaránál\, valamint a Katari Üzletember Szövetségnél\nRészvétel a Silk Road kiállításon (ICT\, közlekedési szektorban tevékenykedő vállalatok számára)\nLátogatás a Katari Fejlesztési Bankban\nLátogatás a Katari Pénzügyi Központban (Qatar Financial Center)\n\n  \nA megfelelő mennyiségű és minőségű üzleti partnerek felkutatása a külföldi partnereink felelőssége\, erre vonatkozólag az MKIK nem tud garanciát vállalni. A kamarák mindent megtesznek a rendezvény sikeréért\, de javasoljuk\, hogy az eredményes kiutazás érdekében\, saját szervezésben is hívjanak partnereket az üzletember-találkozóra. \n  \nA tervezett szakmai program. \n  \nMiért érdemes részt venni? \n\ningyenes részvétel a szakmai programokon\ntájékozódási lehetőség a Nagykövetség munkatársaival Katar gazdasági és üzleti környezetéről\, a magyar-katari gazdasági együttműködési lehetőségekről\n\n\ntárgyalási lehetőség potenciális üzleti partnerekkel\n\n  \nSzervezők \nA Magyar Kereskedelmi Iparkamara a Dohai Nagykövetséggel együttműködve a helyi kamarai és üzleti partnerek támogatásával. \n  \nA szakmai programok nyelve angol. \n  \nJelentkezési határidő: 2019. augusztus 30. \n  \nJelentkezés és bővebb információ: \nAz utazással\, szállással kapcsolatos információk csatoltan találhatóak. \nA jelentkezéshez az alábbiakban felsorolt 3 dokumentumot kitöltve\, 2019. augusztus 30-ig a babak.peter@mkik.hu e-mailen: \n\njelentkezési lap a szállásigény és a kiutazás módjának megjelölésével\,\nangol nyelvű cégprofil\naláírt adatkezelési és hozzájáruló nyilatkozat\n\n  \nA jelentkezést csak a 3 melléklet együttes megküldésével lehetséges. \n  \nAz üzleti delegáció  minimum 10 fő érdeklődése esetén valósul meg\, ezért kérjük\, hogy foglalásukat csak visszajelzésünket követően véglegesítsék. \n  \nKapcsolattartó: Babák Péter\, babak.peter@mkik.hu\, tel: +36 1 474 5131
URL:https://pbkik.hu/esemeny/uzleti-delegacio-dohaba/
LOCATION:Doha\, Katar
ATTACH;FMTTYPE=image/jpeg:https://pbkik.hu/wp-content/uploads/2019/03/mkik_logo_1.jpg
END:VEVENT
BEGIN:VEVENT
DTSTART;TZID=Europe/Helsinki:20191105T100000
DTEND;TZID=Europe/Helsinki:20191105T160000
DTSTAMP:20260423T164149
CREATED:20191016T134005Z
LAST-MODIFIED:20191111T140227Z
UID:10001956-1572948000-1572969600@pbkik.hu
SUMMARY:MI megoldások a gyártási folyamatokban
DESCRIPTION:Az Osztrák Kutatásfejlesztési Ügynökség (FFG) és Enterprise Europe Network társszervezésében nemzetközi üzletember találkozót rendeznek Bécsben\, bemutatva a legújabb technológiákat\, trendeket\, lehetőséget adva együttműködések\, közös projektek kialakítására és üzleti partnerkeresésre. \n \nNem újdonság\, hogy a mesterséges intelligencia azon technológiák egyike\, ami gyökeres változást\, folyamatos innovációt eredményez többek között a gyártási folyamatokban\, éppen ezért érdemes megismerni a legújabb fejlesztéseket\, gyakorlati megoldásokat és személyesen találkozni az ezen a területen dolgozó szakemberekkel\, felvenni a kapcsolatot a különböző cégekkel\, kutatóintézetekkel\, szervezetekkel. \nTémák: \n\nelőrejelző elemzés\nelőrejelző karbantartás\nautomatizált minőség-ellenőrzés\nautomatizált tervezés\nember-robot együttműködés\njavított ellátási lánc menedzsment\nfogyasztói kereslet előrejelzése\n\n  \nAz üzletember találkozón a részvétel ingyenes\, de előzetes regisztrációhoz kötött\, a kongresszusra a belépőt külön kell megváltani. A kiutazás és szállás önköltséges\, és önállóan szervezendő. \nREGISZTRÁCIÓ\nJelentkezési határidő: 2019. november 03. \nHelyszín: 1090 Bécs\,  Sensengasse 1 \, Ausztria \nTovábbi információért keresse az Enterprise Europe Network pécsi irodáját: \ne-mail: eenpecs@pbkik.hu
URL:https://pbkik.hu/esemeny/mi-megoldasok-a-gyartasi-folyamatokban/
LOCATION:Osztrák Kutatásfejelsztési Ügynökség\, Sensengasse 1\, Bécs\, 1090\, Ausztria
END:VEVENT
BEGIN:VEVENT
DTSTART;TZID=Europe/Helsinki:20191106T120000
DTEND;TZID=Europe/Helsinki:20191106T210000
DTSTAMP:20260423T164149
CREATED:20191016T134112Z
LAST-MODIFIED:20191111T140209Z
UID:10001957-1573041600-1573074000@pbkik.hu
SUMMARY:Agro\, IT\, textil\, vállalkozásfejlesztés – női szemszögből
DESCRIPTION:Az Enterprise Europe Network 3. alkalommal szervez nemzetközi üzletember találkozót középpontban a női vállalkozókkal és vállalkozásokkal. \n \nA rendezvény keretében kerül sor az év női vállalkozója díj „Success Flower” átadására a Szerb Üzletasszonyok Szövetsége szervezésében. \nA résztvevőknek lehetősége van egy – ingyenes – profil létrehozására a rendezvény honlapján\, ahol megtekinthetik a többi résztvevő adatlapját is\, ami alapján a számukra érdekesnek és ígéretesnek tűnő feleknél időpontot kérhetnek az üzleti találkozóhoz. \n  \nAz üzletember találkozón a részvétel ingyenes\, de előzetes regisztrációhoz kötött. A kiutazás és szállás önköltséges\, és önállóan szervezendő. \nREGISZTRÁCIÓ\nJelentkezési határidő: 2019. október 27. \nTovábbi információért keresse az Enterprise Europe Network pécsi irodáját: \ne-mail: eenpecs@pbkik.hu
URL:https://pbkik.hu/esemeny/agro-it-textil-vallalkozasfejlesztes-noi-szemszogbol/
LOCATION:Mihajlo Pupin Institute\, Volgina 15.\, Belgrád\, 11060\, Szerbia
END:VEVENT
BEGIN:VEVENT
DTSTART;VALUE=DATE:20191113
DTEND;VALUE=DATE:20191115
DTSTAMP:20260423T164149
CREATED:20190911T064320Z
LAST-MODIFIED:20190911T064320Z
UID:10001934-1573603200-1573775999@pbkik.hu
SUMMARY:Üzletember-találkozó organikus élelmiszerek és öko-élet témában
DESCRIPTION:A Skandináv Bioélelmiszer- és Öko-élet Vásár részeként az Enterprise Europe Network 2019. november 13–14-én Malmöben üzletember-találkozót szervez.\n \n \nAz Enterprise Europe Network elsőként 2018-ban rendezett ilyen keretek között üzletember-találkozót. Az esemény sikeres volt! 32 országból 130 vállalat vett részt 200 üzleti tárgyaláson. \n  \nMiért érdemes részt venni? \nMert a rendezvényen az ökológiai élelmiszerek és italok\,  a természetes egészség\, a szépség és a fenntartható életmód vezető vállalkozásai vonulnak fel. Lehetősége van több\, mint 500 iparági beszállítóval találkozni\, akár 50 országból.\n \n  \nTovábbi Információ
URL:https://pbkik.hu/esemeny/uzletember-talalkozo-organikus-elelmiszerek-es-oko-elet-temaban/
LOCATION:Malmömässan Exhibition & Congress Centre\, Mässgatan 6\, Malmö\, 21532\, Svédország
END:VEVENT
BEGIN:VEVENT
DTSTART;TZID=Europe/Helsinki:20191114T080000
DTEND;TZID=Europe/Helsinki:20191115T170000
DTSTAMP:20260423T164149
CREATED:20191104T094424Z
LAST-MODIFIED:20191104T094424Z
UID:10001965-1573718400-1573837200@pbkik.hu
SUMMARY:Forum Agenti
DESCRIPTION:A Forum Agenti- Országos Ügynökhálózat – ügynökeinek éves rendezvénye november 14-15 között kerül megrendezésre Milánóban. \n \nOlaszországban az egyes piaci jelenlétek megkezdése rengeteg termékszegmens esetében  csak ezeken az úgynevezett ügynökökön válik  érdemi módon lehetségessé\, akik általában helyi és ágazati kapcsolatrendszerükön keresztül hatékonyan tudják becsatornázni\, és  meggyőzni az egyes termékek és szolgáltatások értékesítéséről a disztribútorokat és kereskedelmi egységeket\, valamint kereskedelmi láncokat. \n  \nA fenti rendezvény keretében termékek és szolgáltatások képviselői  kiállító asztalt kapnak\, ahol a terméküket kiállítva fogadhatják az előzetesen a terméket és annak leírását online rendszerben megismerő ügynököket. \n  \nA három napos rendezvény során egy cég átlagosan 30 ügynöki tárgyalást is lebonyolít\, melyre az ügynökök előzetesen jelentkeznek\, illetve ott a helyszínen is keresik az új lehetőségeket. \n  \nEzt követően van lehetősége a  magyar cégnek a megítélése szerint megfelelő szakmai portfólióval\, ismerettel\, kapcsolatrendszerrel rendelkező ügynököket kiválasztani\, és igénye szerint szerződést kötni a későbbiekben\, melynek értelmében az ügynök csak akkor részesül jutalékban\, ha a terméket értékesítette\, vagy megrendelést ténylegesített kereskedelmi egységgel\, vagy lánccal. \n  \nA Forum Agenti vezetősége a Milánói Magyar Külgazdasági Irodával történt megegyezését követően lehetőséget ad minden magyar kiállító számára\, hogy a honlapjukon meghirdetett  2400 euró helyett 1500 euróért vegyen részt és állítson ki\, melyet elegendő október 31-ig rendezni. \n  \n  \nA magyar résztvevőkre való kedvezményről  itt található információ: http://www.forumagenti.it/en/Forum-Agenti-Milano/682/ambasciata-di-ungheria \n  \nItt lehet bejelentkezni:  http://www.forumagenti.it/en/Forum-Agenti-Milano/682/ambasciata-di-ungheria/Ordina \n  \nA rendezvény linkje: http://www.forumagenti.it/en \n  \nTovábbi információ: \nKolos Edit \nMilánói Főkonzulátus \nKülgazdasági Iroda\n20123 Milano\, Via Fieno 3 \nTel: +39-02-4984731 \nE-mail:  trade.mil@mfa.gov.hu \nedit.kolos@mfa.gov.hu
URL:https://pbkik.hu/esemeny/forum-agenti/
LOCATION:Milánó\, Olaszország
END:VEVENT
BEGIN:VEVENT
DTSTART;TZID=Europe/Helsinki:20191115T083000
DTEND;TZID=Europe/Helsinki:20191115T183000
DTSTAMP:20260423T164149
CREATED:20191016T134220Z
LAST-MODIFIED:20191111T135940Z
UID:10001960-1573806600-1573842600@pbkik.hu
SUMMARY:Free Software Konferencia és Nemzetközi Üzletember Találkozó 2019
DESCRIPTION:Az Enterprise Europe Network szervezésében nemzetközi üzletember találkozó az SFCon társrendezvényeként valósul meg\, aminek a köponti témája a szabad szoftverek és azok használata minél nagyobb innovációs potenciál kiaknázásában és a vállalkozások versenyképességének növelésében. \n \nTalálkozzzon Ön is fejlesztőkkel\, döntéshozókkal és a szakma kiemelkedő tehetségeivel! \n  \nKiket várnak? \n\nVállalatok (informatikai szakemberek és ipar)\nIT szabadúszók\nInduló vállalkozók és vállalkozások\nKutatóintézetek\nKormányzati képviselők\, politikai döntéshozók\nBefektetők\n\nMik a főbb szektorok? \n\nKözlekedés\nIdegenforgalom\nKözigazgatás\nEnergetika\nAutomatizálás\nMezőgazdaság\n\nAz üzletember találkozón a részvétel ingyenes\, de előzetes regisztrációhoz kötött. A kiutazás és szállás önköltséges\, és önállóan szervezendő. \nREGISZTRÁCIÓ\nJelentkezési határidő: 2019. október 31. \nTovábbi információért keresse az Enterprise Europe Network pécsi irodáját: \ne-mail: eenpecs@pbkik.hu
URL:https://pbkik.hu/esemeny/free-software-konferencia-es-nemzetkozi-uzletember-talalkozo-2019/
LOCATION:NOI Techpark\, A. Volta-Str.\, 13/A\, Bolzano\, 39100\, Olaszország
END:VEVENT
BEGIN:VEVENT
DTSTART;VALUE=DATE:20191117
DTEND;VALUE=DATE:20191124
DTSTAMP:20260423T164149
CREATED:20190806T123912Z
LAST-MODIFIED:20190806T123912Z
UID:10001908-1573948800-1574553599@pbkik.hu
SUMMARY:Üzleti delegáció Malajziába és Szingapúrba
DESCRIPTION:Malajzia hazánk egyik legjelentősebb kereskedelmi partnere a délkelet-ázsiai régióban. Az ASEAN országok között Malajzia a 2. kereskedelmi és 3. export partnerünk. Magyarország 3 legfőbb export terméke az irodagép és gépi adatfeldolgozó berendezés\, a közúti jármű és a villamos gép\, készülék és műszer. Magyarország 3 legfőbb import terméke az irodagép és gépi adatfeldolgozó berendezés\, a villamos gép\, készülék és műszer és a híradás-technikai\, hangrögzítő és lejátszó készülék. A kétoldalú áruforgalom volumene 2018-ban elérte az 580 millió dollárt. \n \nSzingapúr üzleti\, pénzügyi és finanszírozási szempontból is Délkelet-Ázsia gazdasági kapujának tekinthető\, számos multinacionális cég itt működteti régiós központját és innen irányítja térségbeli\, elsősorban a Délkelet-ázsiai Nemzetek Szövetségének (ASEAN) tagországaival folytatott kereskedelmet. A magyar vállalatok jellemzően hídfőállásként tekintenek Szingapúrra és a piacra lépés egyúttal dél-kelet ázsiai jelenlétet is biztosít számukra. A tapasztalatok szerint a magyar cégeket\, az új innovatív technológiai megoldásokat szívesen látják\, elsősorban a tudásalapú\, nagy hozzáadott értéket képviselő ágazatokban szerzett magyar tapasztalatokra és szakértelemre van igény Szingapúrban. A kétoldalú áruforgalom volumene 2018-ban elérte az 641 millió dollárt. \nA kiutazó üzleti delegáció célja az általános üzleti kapcsolatok fejlesztésén túl a vállalkozók közötti együttműködési lehetőségek feltérképezése\, a már meglévő üzleti kapcsolatok elmélyítése. \n  \nCélcsoport \nAz ASEAN országok\, elsősorban Malajzia és Szingapúr iránt érdeklődő exportorientált és innovatív cégprofilú vállalkozások\, melyek az alábbi területeken tevékenykednek: \n\nICT\nkörnyezeti\, tiszta technológiák\ngépipar\nmezőgazdasági technológiák\nélelmiszeripar\nvízipar\nhulladékgazdálkodás\nszennyvízkezelés\n\n  \nTervezett programok \n\nüzleti fórum és üzletember-találkozó Kuala Lumpurban és Szingapúrban\ntájékoztató konzultációk a Magyar Nagykövetség munkatársaival Kuala Lumpurban és Szingapúrban\nlátogatás kereskedelemfejlesztéssel\, kkv-k támogatásával foglalkozó szervezeteknél\n\n  \nA megfelelő mennyiségű és minőségű üzleti partnerek felkutatása a külföldi partnereink felelőssége\, erre vonatkozólag az MKIK nem tud garanciát vállalni. A kamarák mindent megtesznek a rendezvény sikeréért\, de javasoljuk\, hogy az eredményes kiutazás érdekében\, saját szervezésben is hívjanak partnereket az üzletember-találkozóra. \n  \nTervezett szakmai program. \n  \nMiért érdemes részt venni? \n\ningyenes részvétel a szakmai programokon\ntájékozódási lehetőség Malajzia és Szingapúr gazdasági és üzleti környezetéről\, a gazdasági együttműködési lehetőségekről\ntárgyalási lehetőség potenciális üzleti partnerekkel\n\n  \nSzervezők \nA Magyar Kereskedelmi és Iparkamara Magyarország Kuala Lumpur-i Nagykövetségével\, valamint Magyarország Szingapúri Nagykövetségével együttműködve\, a helyi kamarai és üzleti partnerek támogatásával. \n  \nA programok nyelve angol\, magyar tolmács nem biztosított. \n  \nJelentkezési határidő: 2019. szeptember 6. \n  \nJelentkezés és bővebb információ: \nA jelentkezéshez az alábbiakban felsorolt 3 dokumentumot kitöltve\, 2019. szeptember 6-ig a vegvari.kristof@mkik.hu e-mail címre várjuk. \n  \n\njelentkezési lap a szállásigény és a kiutazás módjának megjelölésével\,\nangol nyelvű cégprofil\naláírt adatkezelési és hozzájáruló nyilatkozat\n\n  \nA jelentkezést csak a 3 melléklet együttes megküldésével fogadjuk el. \n  \nAz üzleti delegáció minimum 10 fő érdeklődése esetén valósul meg\, ezért kérjük\, hogy foglalásukat csak visszajelzésünket követően véglegesítsék. \n  \nKapcsolattartó: Végvári Kristóf\, vegvari.kristof@mkik.hu\, tel: +36 1 474 5106
URL:https://pbkik.hu/esemeny/uzleti-delegacio-malajziaba-es-szingapurba/
LOCATION:Malajzia\, Malajzia
ATTACH;FMTTYPE=image/jpeg:https://pbkik.hu/wp-content/uploads/2019/03/mkik_logo_1.jpg
END:VEVENT
BEGIN:VEVENT
DTSTART;VALUE=DATE:20191119
DTEND;VALUE=DATE:20191120
DTSTAMP:20260423T164149
CREATED:20191104T095620Z
LAST-MODIFIED:20191106T152216Z
UID:10001966-1574121600-1574207999@pbkik.hu
SUMMARY:Franchise üzletember találkozó
DESCRIPTION:Jöjjön el és ismerkedjen meg népszerű amerikai márkákkal egy november 18-19 között Magyarországra érkező üzletember találkozó keretében! \n\nA Nemzetközi Franchise Szövetség (IFA) és az Amerikai Nagykövetség kereskedelmi osztálya által szervezett eseményen az alábbi amerikai cégek keresnek franchise átvevő partnereket: \n \n  \nMire számíthat? \nEz a fórum lehetőséget biztosít a leendő magyarországi befektetőknek és átvevő partnereknek\, hogy megismerkedjenek ezen amerikai cégekkel és felfedezzék a bennük rejlő üzleti potenciált\, ami a töretlen növekedést biztosítja. A programon való részvétellel a potenciális befektetők és átvevő partnerek:\n● Találkozhatnak vezető amerikai márkanevek tulajdonosaival és franchise átadó partnerekkel;\n● Felmérhetik a márkák növekedési potenciálját;\n● Betekintést nyerhetnek a nemzetközi hálózatépítés rejtelmeibe;\n● Valamint megtudhatják milyen képzési és folyamatos támogatási lehetőségeket lehet igénybe venni\, hogy a vállalkozást sikerre vigyék. \n  \nFelhívás \n  \nBelépődíj: Az esemény ingyenes\, de előzetes regisztráció és jóváhagyás szükséges a belépéshez. \n  \nTovábbi információ: \nBősze Éva\nAmerikai Nagykövetség\nKereskedelmi osztály\n+36-1-475-4234 \neva.bosze@trade.gov
URL:https://pbkik.hu/esemeny/franchise-uzletember-talalkozora/
LOCATION:Lurdy Ház\, Könyves Kálmán krt. 12-14.\, Budapest\, 1097
END:VEVENT
BEGIN:VEVENT
DTSTART;TZID=Europe/Helsinki:20191119T083000
DTEND;TZID=Europe/Helsinki:20191119T170000
DTSTAMP:20260423T164149
CREATED:20191015T080143Z
LAST-MODIFIED:20191015T080143Z
UID:10001951-1574152200-1574182800@pbkik.hu
SUMMARY:Osztrák Beszállítói Nap
DESCRIPTION:Az Osztrák Nagykövetség Kereskedelmi Osztályának szervezésében 2019. november 19-én\, kedden Győrben\, a Nemzetközi Kereskedelmi Központban megrendezésre kerül az OSZTRÁK BESZÁLLÍTÓI NAP\, melyet a Győr-Moson-Sopron Megyei Kereskedelmi és Iparkamarával együttműködésben hirdetünk meg. A rendezvény előre kialakított időbeosztás alapján biztosít B2B tárgyalási lehetőséget osztrák cégekkel. \n \nKérjük\, ehhez tekintse meg a minket előzetesen megkereső osztrák cégek konkrét üzleti ajánlatait! \n  \nMegfelelő szakmai kompetencia és a szükséges technológiai háttér megléte\, valamint az esetleges egyéb feltételeknek való megfelelés esetén várjuk jelentkezését a megadott online linken azon osztrák vállalatok megjelölésével\, amelyekkel tárgyalást kíván folytatni. \n  \nA rendezvényen való részvétel a magyar jelentkezők számára díjmentes\, de regisztrációhoz kötött\, illetve fenntartjuk a jogot a jelentkezők előszűrésére. \n  \nA rendezvény időpontja: 2019.11.19. 8:30 – 17.00 \nA rendezvény helyszíne: Győri Nemzetközi Kereskedelmi Központ (Győr-Moson-Sopron Megyei Kereskedelmi és Iparkamara) – 9021 Gyõr\, Szent István út 10/A \n  \nJelentkezési lap \nJelentkezési határidő: 2019.11.03. \n  \nA beérkezett összes jelentkezés alapján a rendezvény előtt elküldjük Önnek tárgyalási időpontjait. Helyszíni regisztrációra a rendezvény teljes ideje alatt lehetősége lesz. \n  \nVárható program: \n  \n8.30 – 9.00       Regisztráció (az osztrák cégek számára) \n9.00 – 9.40       Köszöntő és rövid bevezető előadás német nyelven \n9.40 – 9.45       Technikai szünet \n9.45 – 12.00     Személyes tárgyalások kezdete \n12.00 – 13.00   Networking ebéd \n13.00 – 17.00   Személyes tárgyalások folytatása \n  \nA rendelkezésre álló időkeretben tárgyalásokat folytathat az osztrák cégek képviselőjével német (vagy angol) nyelven. A megbeszéléshez szükség esetén tolmácsolást biztosítunk. \n  \nA résztvevő osztrák cégek konkrét üzleti ajánlatai
URL:https://pbkik.hu/esemeny/osztrak-beszallitoi-nap/
LOCATION:Győri Nemzetközi Kereskedelmi Központ\, Szent István út 10/A\, Győr\, Magyarország
END:VEVENT
BEGIN:VEVENT
DTSTART;VALUE=DATE:20191120
DTEND;VALUE=DATE:20191122
DTSTAMP:20260423T164149
CREATED:20190122T095807Z
LAST-MODIFIED:20190620T140433Z
UID:10001622-1574208000-1574380799@pbkik.hu
SUMMARY:Ipar 4.0 és intelligens gyártás - B2B-k Olaszországban
DESCRIPTION:Az Ipar 4.0 forradalmasítja és újjáéleszti az összes ipari műveletet. A vállalatok új kihívásokkal szembesülnek és ezért a negyedik ipari forradalom által kínált lehetőségeket is igyekeznek kihasználni. \nA Smart Manufacturing\, vagyis intelligens gyártás az Ipar 4.0 jövőbe mutató témaköréhez tartozik\, s egy olyan termelési folyamatot mutat be\, melyben a gyártó- és vezérlő berendezések messzemenően saját maguknak hangolják össze és szervezik meg a működésüket – emberi beavatkozás nélkül. \n \n  \nA Smart Manufacturing Matchmaking 2019 (továbbiakban SMM19) egyedülálló lehetőséget kínál arra\, hogy találkozzon az intelligens gyártás és az Ipar 4.0 területén dolgozó tudósokkal\, kutatókkal és vállalatvezetőkkel.  Felsorakoznak a legújabb technológiák\, az intézmények és városok innovációs igényi\, a kis- és középvállalkozások által használt új alkalmazási területek és a nagyvállalatok technikai kihívásai. \nA rendezvényt a Calabria Egyetem kutatócsoportjai\, az Enterprise Europe Network partnerek\, a SPIN és más\, az Ipar 4.0 számos érdekeltje közösen szervezi.\n \n  \nÉrintett témák: \n\nDigitális Twin\nIparban használatos internet\nVirtuális / bővített / vegyes valóság alkalmazása az iparban\nNagy adatelemzés\nKiber-fizikai rendszerek\nSzimuláció\nAutonóm robot\nGépi tanulás\nAdditív termelésKibervédelem és Cloud\nHuman Machine Interfészek\nEmber- gép együttműködés\nPrediktív karbantartás\nRendszerintegráció\nAutonóm gyártás\nHorizontális és vertikális integráció\n\n  \nAz SMM19 alatt lehetőség nyílik: \n\nNemzetközi konferencián való részvételre\,\nElőre leszervezett kétoldalú nemzetközi üzleti tárgyalások lebonyolítására\,\nKiállítás megtekintésére.
URL:https://pbkik.hu/esemeny/ipar-4-0-es-intelligens-gyartas-b2b-k-olaszorszagban/
LOCATION:Hotel Village La Principessa\, Campora San Giovanni\, Calabria\, Olaszország
END:VEVENT
BEGIN:VEVENT
DTSTART;VALUE=DATE:20191120
DTEND;VALUE=DATE:20191122
DTSTAMP:20260423T164149
CREATED:20190802T074300Z
LAST-MODIFIED:20190802T074300Z
UID:10001902-1574208000-1574380799@pbkik.hu
SUMMARY:HORECA és Gastrofood üzletember-találkozó Krakkóban
DESCRIPTION:Az Enterprise Europe Network közreműködésével Lengyelországban szervezett üzletember-találkozó során a szállodaipar\, az éttermi vendéglátás és a borászati ágazat kerül középpontba. \n \n  \n  \nA rendezvényen 30 perces tárgyalások során nyílik lehetősége a résztvevőknek\, hogy bemutassák cégeiket. \n  \nHogyan működik? \n1. Regisztráljon és tegye közzé profilját valamint együttműködési lehetőségeit! \n 2. Keresse meg a résztvevők listáját és foglaljon le találkozókat az érdeklődő felekkel! \n3. Röviddel az esemény előtt megtekintheti a tárgyalások beosztását.\n \n  \nBővebb információ a találkozó hivatalos honlapján. \n 
URL:https://pbkik.hu/esemeny/horeca-es-gastrofood-uzletember-talalkozo-krakkoban/
LOCATION:International Exhibition and Convention Centre EXPO Krakow\, Galicyjska 9\, Krakkó\, 31-586\, Lengyelország
END:VEVENT
BEGIN:VEVENT
DTSTART;VALUE=DATE:20191120
DTEND;VALUE=DATE:20191123
DTSTAMP:20260423T164149
CREATED:20190603T062845Z
LAST-MODIFIED:20190603T062845Z
UID:10001841-1574208000-1574467199@pbkik.hu
SUMMARY:Smart Manufacturing - nemzetközi üzletember-találkozó
DESCRIPTION:A Smart Manufacturing 2019 (SMM 2019) konferencia és nemzetközi üzletember-találkozó lehetőséget ad arra\, hogy személyesen találkozzon a smart manufacturing és az ipar 4.0 területén kiemelkő eredményeket elért vállalati vezetőkkel\, kutatókkal és állami szervekkel. \n \n \nA rendezvényt a Calabria Egyetem kutatócsoportjai\, az Enterprise Europe Network munkatársai\, a SPIN és számos más\, az Ipar 4.0 programban érdekelt fél szervezi.\n \n  \n  \nA Smart Manufacturing 2019 programja: \n\nAz ISM2019 konferencia\, ahol eddig nem publikált cikkek kerülnek bemutatásra az Ipar 4.0 és a Smart Manufacturing témájában\,\nAz invNET\, amely  társadalmi és környezeti hatásokkal járó projektek megvalósításában támogatja a vállalatokat és startupokat\,\nA nemzetközi üzletember-találkozó\,\nA WIN-LOG 2019 workshop – vállalatok és K+F projektek számára.\n\n  \nRegisztráció a SMM2019 nemzetközi üzletember-találkozóra. \nA rendezvény hivatalos oldala.
URL:https://pbkik.hu/esemeny/smart-manufacturing-nemzetkozi-uzletember-talalkozo/
LOCATION:Amantea\, Olaszország
ATTACH;FMTTYPE=image/png:https://pbkik.hu/wp-content/uploads/2019/06/cropped-Senza-nome.png
END:VEVENT
BEGIN:VEVENT
DTSTART;VALUE=DATE:20191126
DTEND;VALUE=DATE:20191127
DTSTAMP:20260423T164149
CREATED:20190829T114711Z
LAST-MODIFIED:20200204T161050Z
UID:10001662-1574726400-1574812799@pbkik.hu
SUMMARY:Nemzetközi Gép- és Berendezésgyártó Fórum és B2B találkozó
DESCRIPTION:Az Osztrák Gazdasági Kamara Nemzetközi Gép- és Berendezésgyártó Fórumot és B2B találkozót szervez Bécsben.  \n \nIsmerjen meg új ügyfeleket és kooperációs partnereket B2B találkozók keretében és tájékozódjon első kézből a szakma legújabb trendjeiről és üzleti lehetőségeiről! \n  \nIdőpont: 2019.11.26. \nHelyszín: az Osztrák Gazdasági Kamara székhelye (1040 Bécs\, Wiedner Hauptstraße 63.) \n  \nJelentkezési határidő: 2019.11.26. \n  \nA rendezvénnyel kapcsolatos további információkat\, regisztrációs lehetőséget\, programkiírást és a B2B tárgyalások online szervezését az esemény honlapján találja: https://machinery2019.b2match.io/. A részvétel ingyenes\, azonban regisztrációhoz kötött. A korlátozott helyek száma miatt kérjük\, időben regisztráljon. \n  \nElőnyök: \n\nismerjen meg új üzleti partnereket és tudjon meg többet a piacról\nismerjen meg új projekteket\nbővítse üzleti hálózatát\n\n  \nA konferencia nyelve az angol\, azonban néhány kiválasztott workshop németül zajlik.
URL:https://pbkik.hu/esemeny/nemzetkozi-gep-es-berendezesgyarto-forum-es-b2b-talalkozo/
LOCATION:Osztrák Gazdasági Kamara\, Wiedner Hauptstraße 63\, Bécs\, 1045\, Ausztria
END:VEVENT
END:VCALENDAR