BEGIN:VCALENDAR
VERSION:2.0
PRODID:-//Pécs-Baranyai Kereskedelmi és Iparkamara - ECPv6.15.20//NONSGML v1.0//EN
CALSCALE:GREGORIAN
METHOD:PUBLISH
X-WR-CALNAME:Pécs-Baranyai Kereskedelmi és Iparkamara
X-ORIGINAL-URL:https://pbkik.hu
X-WR-CALDESC:Események Pécs-Baranyai Kereskedelmi és Iparkamara
REFRESH-INTERVAL;VALUE=DURATION:PT1H
X-Robots-Tag:noindex
X-PUBLISHED-TTL:PT1H
BEGIN:VTIMEZONE
TZID:Europe/Helsinki
BEGIN:DAYLIGHT
TZOFFSETFROM:+0200
TZOFFSETTO:+0300
TZNAME:EEST
DTSTART:20190331T010000
END:DAYLIGHT
BEGIN:STANDARD
TZOFFSETFROM:+0300
TZOFFSETTO:+0200
TZNAME:EET
DTSTART:20191027T010000
END:STANDARD
BEGIN:DAYLIGHT
TZOFFSETFROM:+0200
TZOFFSETTO:+0300
TZNAME:EEST
DTSTART:20200329T010000
END:DAYLIGHT
BEGIN:STANDARD
TZOFFSETFROM:+0300
TZOFFSETTO:+0200
TZNAME:EET
DTSTART:20201025T010000
END:STANDARD
BEGIN:DAYLIGHT
TZOFFSETFROM:+0200
TZOFFSETTO:+0300
TZNAME:EEST
DTSTART:20210328T010000
END:DAYLIGHT
BEGIN:STANDARD
TZOFFSETFROM:+0300
TZOFFSETTO:+0200
TZNAME:EET
DTSTART:20211031T010000
END:STANDARD
END:VTIMEZONE
BEGIN:VEVENT
DTSTART;TZID=Europe/Helsinki:20200318T110000
DTEND;TZID=Europe/Helsinki:20200318T123000
DTSTAMP:20260423T141927
CREATED:20200302T130112Z
LAST-MODIFIED:20200316T160304Z
UID:10001740-1584529200-1584534600@pbkik.hu
SUMMARY:Magyar-török üzletember-találkozó
DESCRIPTION:Sajnálattal tájékoztatjuk Önöket\, hogy a gaziantepi delegáció a koronavírus helyzetre való tekintettel lemondta magyarországi látogatását\, így a Budapesten\, március 18-án 11.00 órára tervezett magyar-török üzletember-találkozó elmarad. \n \nA rendezvény a Magyar Kereskedelmi és Iparkamara Magyar-Török Tagozata szervezésében valósul meg\, melyre a Gaziantepi Kereskedelmi Kamara delegációjának látogatása alkalmából kerül sor Budapesten. \n  \nA rendezvény a török piac iránt érdeklődő vállalkozások számára nyújt tájékoztatást: \n\na gaziantepi üzleti lehetőségekről\,\naz együttműködés fejlesztésének lehetőségeiről.\n\nA fórumot követően kötetlen üzleti megbeszélésre nyílik lehetőség a török cégek képviselőivel\, amely kiváló lehetőséget kínál sikeres jövőbeli üzletek megalapozására. A megbeszélésekhez nem szükséges időpontot foglalni. \n  \nA török cégek listáját ITT találja. \n  \nREGISZTRÁCIÓ \nA férőhelyek száma korlátozott\, ezért a jelentkezéseket azok beérkezésének sorrendjében kerülnek elfogadásra. Egy vállalkozás képviseletében maximum 2 fő vehet részt az eseményen.
URL:https://pbkik.hu/esemeny/magyar-torok-uzletember-talalkozo/
LOCATION:Magyar Kereskedelmi és Iparkamara székháza\, Pethényi köz 10.\, Budapest\, 1122\, Magyarország
ATTACH;FMTTYPE=image/jpeg:https://pbkik.hu/wp-content/uploads/2019/03/mkik_logo_1.jpg
END:VEVENT
BEGIN:VEVENT
DTSTART;VALUE=DATE:20200325
DTEND;VALUE=DATE:20200328
DTSTAMP:20260423T141927
CREATED:20200124T134037Z
LAST-MODIFIED:20200124T134743Z
UID:10002003-1585094400-1585353599@pbkik.hu
SUMMARY:Első Pakisztáni Magyar Üzleti Fórum és B2B találkozó
DESCRIPTION:A HEPA Magyar Exportfejlesztési Ügynökség Nonprofit Zrt. (HEPA) és a Pakisztáni Magyar Nagykövetség szervezésében kerül megrendezésre az első Pakisztáni Magyar Üzleti Fórum és B2B találkozómárcius 25-27-én Pakisztánban. \n \nAz exportorientált cégek részére a következő területeken kínálkoznak piaci lehetőségek: \n\nMezőgazdasági technológiák\nÉlelmiszer-feldolgozás\nHalgazdálkodás\, Állattenyésztés\nKörnyezetipar\, vízipar\, szennyvízkezelés\nEgészségipar\nITC\n\n  \nDokumentumok: \n\nMagyar és angol nyelvű meghívó banner\nMeghívó\nJelentkezési regisztrációs lap\, mely a vállalati online regisztráció során kerül kitöltésre.\nOrszágismertető\n\n  \nA cégek részvételi szándékukat a regisztrációs felület kitöltésén keresztül jelezhetik legkésőbb 2020. február 03-án éjfélig. \nA jelentkezéssel és a  rendezvénnyel kapcsolatosan\, az érdeklődők forduljanak a nagykövetség külgazdasági attaséjához\, Dr. Grafjódi Istvánhoz istvan.grafjodi@mfa.gov.hu vagy a HEPA-hoz a rendezveny@hepa.hu e-mail címen.
URL:https://pbkik.hu/esemeny/elso-pakisztani-magyar-uzleti-forum-es-b2b-talalkozo/
LOCATION:Pakisztán\, Pakisztán
ATTACH;FMTTYPE=image/jpeg:https://pbkik.hu/wp-content/uploads/2019/02/HEPA.jpg
END:VEVENT
BEGIN:VEVENT
DTSTART;VALUE=DATE:20200326
DTEND;VALUE=DATE:20200328
DTSTAMP:20260423T141927
CREATED:20200219T133208Z
LAST-MODIFIED:20200219T133919Z
UID:10002030-1585180800-1585353599@pbkik.hu
SUMMARY:Nemzetközi üzletember-találkozó Zágrábban
DESCRIPTION:Zágrábban a LEAP csúcstalálkozó keretében nemzetközi üzletember-találkozót szervez az Enterprise Europe Network 2020. március 26-án. Az esemény fókuszában vállalkozói ismeretekhez\, innovációkhoz\, digitális technológiához\, modern trendekhez és inspirációkhoz kapcsolódó multidiszciplináris témák állnak. A LEAP csúcstalálkozó kiváló alkalom arra\, hogy új üzleti lehetőségeket ismerjen meg\, és nemzetközi együttműködéseket kössön jövőbeli partnereivel. \n \nA nemzetközi üzletember-találkozó mindenki számára nyitott\, akik új nemzetközi együttműködésekre nyitottak és új piacokra szeretnének lépni. \nA LEAP csúcstalálkozó egy multidiszciplináris konferencia fiatal vállalkozók számára\, amely egy PRE-rendezvényből (március 24-25.) és magából a csúctalálkozóból áll (március 26-27.) A LEAP rövidítés egyébként a L(earn)=tanulni\, E(ngage)=elköteleződni\, A(ct)=cselekedni és a P(rogress)=haladás szavakból épül fel. A csúcstalálkozóra több mint 40 országból\, több mint 4.000 résztvevőt várnak\, olyan vállalkozókat\, fiatal szakembereket és vezetőket\, akik megváltoztathatják a világot. \nA nemzetközi üzletember-találkozó a csúcstalálkozó második napján kerül megrendezésre (március 26.).\nA 2020-as rendezvényen több mint 60 előadót hallgathatnak meg az érdeklődők különböző iparágakból\, több mint 40 ország látogatóival találkozhatnak\, párhuzamos programokon vehetnek részt\, a networking események mellett pedig lehetőség lesz pitch-eken\, workshopokon vagy versenyeken való részvételre. \nTovábbi részletek: http://www.leapsummit.com/\nA csúcstalálkozón való részvétel díjmentes\, de előzetes regisztrációhoz kötött: https://leapsummit.com/apply-now/ \nA nemzetközi üzletember-találkozó időpontja: 2020. március 26.\, 16:30-19:00\nA regisztráció és a tárgyalások foglalásának határideje: 2020. 03. 25. \nKiket várnak a rendezvényre? \n\nvállalkozások\nstart-upok\nszabadúszók\negyesületek\ntanulók\negyetemek és kutató intézetek\nkormány képviselők\, politikai döntéshozók\nklaszterek\n\n  \nA b2b találkozó jelentkezési felülete hamarosan aktív lesz. \n  \nTovábbi információk:\nhttps://leapsummit.com/\nhttps://www.facebook.com/LeapSummitZagreb/\nhttps://www.youtube.com/channel/UCSS86KCJNlItICK99UGek1w
URL:https://pbkik.hu/esemeny/nemzetkozi-uzletember-talalkozo-zagrabban/
END:VEVENT
BEGIN:VEVENT
DTSTART;TZID=Europe/Helsinki:20200327T100000
DTEND;TZID=Europe/Helsinki:20200327T163000
DTSTAMP:20260423T141927
CREATED:20200217T164354Z
LAST-MODIFIED:20200218T091958Z
UID:10002027-1585303200-1585326600@pbkik.hu
SUMMARY:Építőipar\, energia és belsőépítészet egy helyen / BUD-GRYF & HOME Fair 2020
DESCRIPTION:Nemzetközi üzletember találkozóra kerül sor az Enterprise Europe Network szervezésében az idén 11. alkalommal megrendezésre kerülő Bud-Gryf & Home Fairs vásár társrendezvényeként. \n \nA rendezvény kiemelt szektorai: \n\nÉpítőipar\nEnergia\nBelsőépítészet.\n\nFőbb területek: \n\nÉpítőanyagok\nGépek és eszközök\nÉpítési és belsőépítészeti anyagok\nMegújuló és hagyományos energia\nSzolgáltatók: geodézia\, térképészet\, tervezés\n\nA rendezvény résztvevői új technológiák és trendek megismerése mellett\, üzleti partnerségeket\, közös technológiai\, K+F projektterveket dolgozhatnak ki. \nREGISZTRÁCIÓ\nJelentkezési határidő: 2020. március 16. \nTovábbi információért keresse az Enterprise Europe Network pécsi irodáját: \neenpecs@pbkik.hu \n 
URL:https://pbkik.hu/esemeny/bud-gryf-home-fairs/
LOCATION:BULWARY EVENT CENTRE\, Tadeusza Wendy 14\, Szczecin\, 70655\, Lengyelország
ATTACH;FMTTYPE=image/jpeg:https://pbkik.hu/wp-content/uploads/2020/02/budgryf2020.jpg
END:VEVENT
END:VCALENDAR