BEGIN:VCALENDAR
VERSION:2.0
PRODID:-//Pécs-Baranyai Kereskedelmi és Iparkamara - ECPv6.15.20//NONSGML v1.0//EN
CALSCALE:GREGORIAN
METHOD:PUBLISH
X-WR-CALNAME:Pécs-Baranyai Kereskedelmi és Iparkamara
X-ORIGINAL-URL:https://pbkik.hu
X-WR-CALDESC:Események Pécs-Baranyai Kereskedelmi és Iparkamara
REFRESH-INTERVAL;VALUE=DURATION:PT1H
X-Robots-Tag:noindex
X-PUBLISHED-TTL:PT1H
BEGIN:VTIMEZONE
TZID:Europe/Helsinki
BEGIN:DAYLIGHT
TZOFFSETFROM:+0200
TZOFFSETTO:+0300
TZNAME:EEST
DTSTART:20190331T010000
END:DAYLIGHT
BEGIN:STANDARD
TZOFFSETFROM:+0300
TZOFFSETTO:+0200
TZNAME:EET
DTSTART:20191027T010000
END:STANDARD
BEGIN:DAYLIGHT
TZOFFSETFROM:+0200
TZOFFSETTO:+0300
TZNAME:EEST
DTSTART:20200329T010000
END:DAYLIGHT
BEGIN:STANDARD
TZOFFSETFROM:+0300
TZOFFSETTO:+0200
TZNAME:EET
DTSTART:20201025T010000
END:STANDARD
BEGIN:DAYLIGHT
TZOFFSETFROM:+0200
TZOFFSETTO:+0300
TZNAME:EEST
DTSTART:20210328T010000
END:DAYLIGHT
BEGIN:STANDARD
TZOFFSETFROM:+0300
TZOFFSETTO:+0200
TZNAME:EET
DTSTART:20211031T010000
END:STANDARD
END:VTIMEZONE
BEGIN:VEVENT
DTSTART;TZID=Europe/Helsinki:20200903T140000
DTEND;TZID=Europe/Helsinki:20200903T150000
DTSTAMP:20260421T034726
CREATED:20200813T095539Z
LAST-MODIFIED:20200828T131352Z
UID:10002099-1599141600-1599145200@pbkik.hu
SUMMARY:Piacra lépés és üzleti lehetőségek Ausztriában
DESCRIPTION:Az aktuális osztrák piaci információk és üzleti lehetőségek a hazai vállalkozások számára a kiemelt témái az ITT & MOST következő online tájékoztató fórumának\, mely Magyarország Nagykövetségének Bécsi Külgazdasági Irodája és a Győr-Moson-Sopron Megyei Kereskedelmi és Iparkamara társszervezésében kerül megrendezésre. \n \n  \nIdőpont: 2020. szeptember 03. 14.00 \nHelyszín: online (a regisztráltak részére a rendezvényt megelőzően kiküldjük az esemény csatlakozási linkjét – ZOOM felületen\, a rendszer telepítése nem szükséges) \nProgram: \n\nMagyar vállalkozások osztrák piacra jutásának támogatása – tájékoztatástól a partnerkeresésig\nKereskedelmi ügynökök Ausztriában – kinek\, miért\, hogyan éri meg?\nMunkahelyteremtés és befektetésösztönzés\nKérdések és válaszok\n\nElőadók: \nDr. Tefner Nóra\, külgazdasági attasé\, Külgazdasági Iroda\, Magyarország Nagykövetsége Bécs \nTóth Tamás\, Inwetech GmbH\, Ausztriai Kereskedelmi Ügynökök Kamarai Szakszövetsége \nA tájékoztató után az előadók online tanácsadást nyújtanak\, vagy a későbbiekben az ITT és MOST felületén tárgyalásra jelölhetők lesznek. Amennyiben konkrét kérdése lenne a témával kapcsolatban\, azt a regisztráció során tudja előzetesen megírni az előadóknak. \nAz előadások magyar nyelven zajlanak. \nAz eseményen való részvétel díjmentes\, de előzetes regisztrációhoz kötött:\nThis form is currently closed for submissions. \nHa a regisztráció vagy részvétel kapcsán technikai problémát észlel\, vagy segítségre szorul\, keresse kollégáinkat az alábbi elérhetőségeken: \neen@pbkik.hu vagy +36 72 507 125
URL:https://pbkik.hu/esemeny/piacra-lepes-es-uzleti-lehetosegek-ausztriaban/
LOCATION:Online
ATTACH;FMTTYPE=image/jpeg:https://pbkik.hu/wp-content/uploads/2020/08/00.-itt__most_zoom_1-scaled.jpg
END:VEVENT
BEGIN:VEVENT
DTSTART;VALUE=DATE:20200907
DTEND;VALUE=DATE:20200911
DTSTAMP:20260421T034726
CREATED:20200603T063617Z
LAST-MODIFIED:20200603T064251Z
UID:10002057-1599436800-1599782399@pbkik.hu
SUMMARY:Riga Food 2020
DESCRIPTION:Élelmiszeripari kiállítás és nemzetközi üzletember találkozó az Enterprise Europe Network szervezésében. \n \nA kiállítás és az üzletember találkozó remek lehetőséget kínál a baranyai élelmiszeripari és vendéglátóipari vállalkozásoknak új üzleti partnerekkel való kapcsolatfelvételre. A rendezvényen mind hazai\, mind külföldi termékekkel ismerkedhetnek meg\, saját szolgáltatásaikat\, termékeiket tudják bemutatni a tárgyalópartnereknek\, akik jellemzően az étterem és vendéglátóipar\, élelmiszer-\, cukrász-\, és szállodaipar képviselőiből állnak. \nAz idei üzletember találkozó teljes egészében az online platformon keresztül zajlik. Az érdeklődőknek lehetősége van egy – ingyenes – profil létrehozására a ‘Riga Food 2020’ honlapon\, ahol megtekinthetik a többi résztvevő adatlapját is\, ami alapján az Önök számára érdekesnek és ígéretesnek tűnő feleknél időpontot kérhetnek az online üzleti találkozóhoz. \nRegisztráció\n  \nMIÉRT ÉRDEMES RÉSZT VENNI? \n\n\n\n\n\n\n\n\n\nLehetőség a nemzetközi piacon való megjelenésre\, terjeszkedésére.\nAlkalmat ad lehetséges üzletfelek megismerésére.\nHatáron túli kapcsolatok és együttműködések kezdeményezése.\n20 perces\, előre megszervezett üzleti megbeszélések.
URL:https://pbkik.hu/esemeny/riga-food-2020/
ATTACH;FMTTYPE=image/png:https://pbkik.hu/wp-content/uploads/2020/06/riga-food.png
END:VEVENT
BEGIN:VEVENT
DTSTART;VALUE=DATE:20200917
DTEND;VALUE=DATE:20200925
DTSTAMP:20260421T034726
CREATED:20200731T083227Z
LAST-MODIFIED:20200731T083426Z
UID:10002078-1600300800-1600991999@pbkik.hu
SUMMARY:Food Connections 2020 - nemzetközi üzletember találkozó
DESCRIPTION:Agro-élelmiszeripari online üzletember találkozó és konferencia kerül megrendezésre az Enterprise Europe Network nemzetközi vállalkozásfejlesztési hálózat és a Wagralim élelmiszeripari klaszter szervezésében. \n \n  \nAz online térben megrendezésre kerülő rendezvénysorozat keretében a résztvevőknek a kétoldalú üzleti tárgyalások lebonyolítása mellett lehetőségük lesz online előadásokon\, workshopokon való részvételre is\, melyek témái többek között az európai mezőgazdasági és élelmiszeripari piac ellenállóképessége\, a digitalizációban rejlő lehetőségek és kihívások\, valamint a termékfejlesztés és biogazdálkodás. \nAz online rendezvényen való részvétel díjmentes\, de előzetes regisztrációhoz kötött. \nREGISZTRÁCIÓ
URL:https://pbkik.hu/esemeny/food-connections-2020-nemzetkozi-uzletember-talalkozo/
ATTACH;FMTTYPE=image/jpeg:https://pbkik.hu/wp-content/uploads/2020/07/foodconnections2020.jpg
END:VEVENT
BEGIN:VEVENT
DTSTART;TZID=Europe/Helsinki:20200917T123000
DTEND;TZID=Europe/Helsinki:20200917T133000
DTSTAMP:20260421T034726
CREATED:20200812T124438Z
LAST-MODIFIED:20200917T103004Z
UID:10002096-1600345800-1600349400@pbkik.hu
SUMMARY:Új finanszírozási lehetőség - Széchenyi Turisztikai Kártya
DESCRIPTION:Bemutatásra kerül a Széchenyi Kártya Program legújabb terméke\, mely kifejezetten a turisztikai szektorban működő vállalkozások igényeinek megfelelően került kialakításra az ITM\, a Nemzeti Turisztikai Ügynökség és a KAVOSZ Zrt. együttműködésének köszönhetően. \n \nA Széchenyi Turisztikai Kártya tervezett feltételrendszere: \n\nszabad felhasználású\,\n1\, 2 vagy 3 éves Folyószámlahitel\,\nmax. igényelhető hitelösszeg 250 MFt (ezen belül az adott vállalkozás működéséhez igazodó korlátok betartása mellett)\,\na turisztikai szektorban működő vállalkozások igényelhetik (tevékenységi körök lesznek meghatározva)\,\na hitelhez a Garantiqa vállal készfizető kezességet (90 %-os mértékű kezességvállalásra is lesz lehetőség az átmeneti támogatási jogcím terhére\, ill. a 80 %-os kezességvállalás melletti termékváltozat is kidolgozásra kerül)\,\na hitelhez a Kormányzat teljes hiteldíj támogatást biztosít (a 90 %-os átmeneti jogcímen nyújtott Garantiqa kezességgel fedezett hitelügyletek kivételével\, ahol a Bizottsági rendelet szerinti minimális nettó kezesi díjat meg kell fizetnie az ügyfélnek\, az egyéb  nettó hiteldíjakhoz azonban ez esetben is teljes támogatás biztosított).\n\nA jelenleg elérhető Széchenyi Kártya konstrukciókról az alábbi oldalon tájékozódhat: https://pbkik.hu/ugyintezes/szechenyi-kartya-program/. \n  \nKérdéseit a regisztráció során leírhatja\, azt továbbítjuk az előadónak. \nIdőpont: 2020. szeptember 17. 12.30 \nHelyszín: online (a regisztráltak részére a rendezvényt megelőzően kiküldjük az esemény csatlakozási linkjét – ZOOM felületen\, a rendszer telepítése nem szükséges) \nProgram: \n\nTurisztikai Széchenyi Kártya bemutatása\, igénylésének feltételei\nKérdések és válaszok\n\nElőadók: \nKrisán László\, vezérigazgató\, KAVOSZ Zrt. \n  \nAz eseményen való részvétel díjmentes\, de előzetes regisztrációhoz kötött:\nA jelentkezés lezárult. \nHa a regisztráció vagy lebonyolítás kapcsán technikai problémát észlel\, vagy segítségre szorul\, keresse kollégáinkat az alábbi elérhetőségeken: \nPazaurek Szabina \npazaurek.szabina@pbkik.hu \n+36 20 323 2976
URL:https://pbkik.hu/esemeny/uj-finanszirozasi-lehetoseg-turisztikai-szechenyi-kartya/
LOCATION:Online
END:VEVENT
BEGIN:VEVENT
DTSTART;VALUE=DATE:20200923
DTEND;VALUE=DATE:20200924
DTSTAMP:20260421T034726
CREATED:20200305T111251Z
LAST-MODIFIED:20200421T115301Z
UID:10002033-1600819200-1600905599@pbkik.hu
SUMMARY:A jövő technológiái - nemzetközi IP kiállítás és üzletember találkozó Dániában
DESCRIPTION:„Danish IP Fair – The Next Big Thing” néven nemzetközi üzletember találozóra kerül sor az Enterprise Europe Network  szervezésében \n \nA rendezvényen több\, mint 80 fejlesztés\, találmány kerül bemutatásra\, ahol egyetemek\, kutatóintézetek és gazdasági szereplők találhatnak egymásra\, lehetőséget biztosítva projektötletek\, további üzleti és technológiai együttműködések kialakítására\, licensz vásárlási\, befektetési lehetőségekre. \nKiemelt kategóriák: \n\nFenntarthatóság & korszerű anyagok\nMedtech & diagnosztika\nBiotech & gyógyszeripar\nDigitalizáció\, AI\, robotika\n\n\nA résztvevők listája és az üzleti ajánlatok szintén megtekinthetők a rendezvény honlapon\, illetve egyúttal lehetősége van a résztvevőknek tárgyalások foglalására. \nA kiutaás és szállás önköltséges\, és önállóan szervezendő. \nDanish IP Fair 2020\nTovábbi információ:  eenpecs@pbkik.hu \n\n 
URL:https://pbkik.hu/esemeny/danish-ip-fair/
LOCATION:INDUSTRIENS HUS\, H.C. Andersens Boulevard 18\, Koppenhága\, DK-1787\, Dánia
ATTACH;FMTTYPE=image/jpeg:https://pbkik.hu/wp-content/uploads/2020/03/danish-ip.jpg
END:VEVENT
BEGIN:VEVENT
DTSTART;VALUE=DATE:20200924
DTEND;VALUE=DATE:20200926
DTSTAMP:20260421T034726
CREATED:20200603T071314Z
LAST-MODIFIED:20200603T075531Z
UID:10002059-1600905600-1601078399@pbkik.hu
SUMMARY:AdRia4Blue Nemzetközi Üzletember Találkozó
DESCRIPTION:Az Enterprise Europe Network és a Horvát Gazdasági Kamara szervezésében nemzetközi üzletember találkozóra kerül sor\, melynek központi témái a kék gazdaság és a fenntartható fejlődés. \n \n \nAz AdRia4Blue lehetőséget ad a különböző szektorok szereplőinek együttműködések kialakítására és üzleti tárgyalások lebonyolítására. \nFőbb témák: \n\n\n\n\n\n\n\nÖkotermékek és technológiák\nGasztronómia és élelmiszeripar\nFenntartható turizmus\n\n\n\n\n\n\n\n  \nRegisztráció
URL:https://pbkik.hu/esemeny/adria4blue-nemzetkozi-uzletember-talalkozo/
LOCATION:6942\, Rijeka
END:VEVENT
END:VCALENDAR