BEGIN:VCALENDAR
VERSION:2.0
PRODID:-//Pécs-Baranyai Kereskedelmi és Iparkamara - ECPv6.15.20//NONSGML v1.0//EN
CALSCALE:GREGORIAN
METHOD:PUBLISH
X-WR-CALNAME:Pécs-Baranyai Kereskedelmi és Iparkamara
X-ORIGINAL-URL:https://pbkik.hu
X-WR-CALDESC:Események Pécs-Baranyai Kereskedelmi és Iparkamara
REFRESH-INTERVAL;VALUE=DURATION:PT1H
X-Robots-Tag:noindex
X-PUBLISHED-TTL:PT1H
BEGIN:VTIMEZONE
TZID:Europe/Budapest
BEGIN:DAYLIGHT
TZOFFSETFROM:+0100
TZOFFSETTO:+0200
TZNAME:CEST
DTSTART:20230326T010000
END:DAYLIGHT
BEGIN:STANDARD
TZOFFSETFROM:+0200
TZOFFSETTO:+0100
TZNAME:CET
DTSTART:20231029T010000
END:STANDARD
BEGIN:DAYLIGHT
TZOFFSETFROM:+0100
TZOFFSETTO:+0200
TZNAME:CEST
DTSTART:20240331T010000
END:DAYLIGHT
BEGIN:STANDARD
TZOFFSETFROM:+0200
TZOFFSETTO:+0100
TZNAME:CET
DTSTART:20241027T010000
END:STANDARD
BEGIN:DAYLIGHT
TZOFFSETFROM:+0100
TZOFFSETTO:+0200
TZNAME:CEST
DTSTART:20250330T010000
END:DAYLIGHT
BEGIN:STANDARD
TZOFFSETFROM:+0200
TZOFFSETTO:+0100
TZNAME:CET
DTSTART:20251026T010000
END:STANDARD
BEGIN:DAYLIGHT
TZOFFSETFROM:+0100
TZOFFSETTO:+0200
TZNAME:CEST
DTSTART:20260329T010000
END:DAYLIGHT
BEGIN:STANDARD
TZOFFSETFROM:+0200
TZOFFSETTO:+0100
TZNAME:CET
DTSTART:20261025T010000
END:STANDARD
END:VTIMEZONE
BEGIN:VTIMEZONE
TZID:Europe/Helsinki
BEGIN:DAYLIGHT
TZOFFSETFROM:+0200
TZOFFSETTO:+0300
TZNAME:EEST
DTSTART:20200329T010000
END:DAYLIGHT
BEGIN:STANDARD
TZOFFSETFROM:+0300
TZOFFSETTO:+0200
TZNAME:EET
DTSTART:20201025T010000
END:STANDARD
BEGIN:DAYLIGHT
TZOFFSETFROM:+0200
TZOFFSETTO:+0300
TZNAME:EEST
DTSTART:20210328T010000
END:DAYLIGHT
BEGIN:STANDARD
TZOFFSETFROM:+0300
TZOFFSETTO:+0200
TZNAME:EET
DTSTART:20211031T010000
END:STANDARD
BEGIN:DAYLIGHT
TZOFFSETFROM:+0200
TZOFFSETTO:+0300
TZNAME:EEST
DTSTART:20220327T010000
END:DAYLIGHT
BEGIN:STANDARD
TZOFFSETFROM:+0300
TZOFFSETTO:+0200
TZNAME:EET
DTSTART:20221030T010000
END:STANDARD
BEGIN:DAYLIGHT
TZOFFSETFROM:+0200
TZOFFSETTO:+0300
TZNAME:EEST
DTSTART:20230326T010000
END:DAYLIGHT
BEGIN:STANDARD
TZOFFSETFROM:+0300
TZOFFSETTO:+0200
TZNAME:EET
DTSTART:20231029T010000
END:STANDARD
BEGIN:DAYLIGHT
TZOFFSETFROM:+0200
TZOFFSETTO:+0300
TZNAME:EEST
DTSTART:20240331T010000
END:DAYLIGHT
BEGIN:STANDARD
TZOFFSETFROM:+0300
TZOFFSETTO:+0200
TZNAME:EET
DTSTART:20241027T010000
END:STANDARD
END:VTIMEZONE
BEGIN:VEVENT
DTSTART;TZID=Europe/Budapest:20250402T100000
DTEND;TZID=Europe/Budapest:20250402T170000
DTSTAMP:20260421T184349
CREATED:20250320T090532Z
LAST-MODIFIED:20250320T091538Z
UID:10003073-1743588000-1743613200@pbkik.hu
SUMMARY:Magyar-Lengyel Üzleti Fórum - Gdansk
DESCRIPTION:A Lengyel Tengergazdasági Kamara (KIGM) és a gdanski magyar főkonzulátusa közös szervezésében egy Lengyel-Magyar Üzleti Fórum kerül megszervezése Gdanskban 2025 április 2-án. \n \nOlyan magyar vállalatok részvételére számítanak\, akik rendelkeznek ipari\, gépipari gyártási export szakmai tapasztalattal és megbízható beszállítói tudnának lenni a gdanski és gdyniai kikötőben működő gépipari termelést folytató lengyel vállalatok számára. A Fórum keretében a Lengyel Tengergazdasági Kamara közreműködésével fogadják a helyszínen az érdeklődő magyar partnereket\, bemutatva számukra a helyi üzleti potenciált\, különös tekintettel a helyi kikötőkre (Gdansk\, Gdynia). A két és többoldalú megbeszélések mellett hangsúlyos elem lesz a gdanski kikötő területén működő Comal (https://comal.pl/) vállalat felkeresése. \n  \nFórum tervezett programja: \n10:00-12:00 a gdanski kikötőben lévő Comal vállalat látogatása a magyar cégek számára \n12:00-13:30 ebéd (TBD) \n14:00-15:30 Magyar cégek bemutatkozása (4-5 cég 15 perces prezentáció) \n15:30-17:00 fogadás és borkóstoló a Fórum résztvevői számára\, B2B találkozók (NEXT-KPI támogatásból finanszírozza a főkonzulátus) \n  \nA Fórum helyszíne: Gdansk\, a Magyar Főkonzulátus helyszíne (plac Porozumienia Gdanskiego 1.) \nA rendezvényre történő kiutazást és a szállást a vendégek maguknak intézik saját költségen. A főkonzulátus a helyszínen történő szállítást és a rendezvényen történő vendéglátást tudja biztosítani. Amennyiben szükség lenne támogatásra az utazás megszervezésére\, természetesen szívesen segítenek a szervezésben. \nJelentkezés\, illetve további információ: Pauler Pál gdanski külgazdasági attasé\, e-mail:  pal.pauer@mfa.gov.hu
URL:https://pbkik.hu/esemeny/magyar-lengyel-uzleti-forum-gdansk/
LOCATION:Gdańsk\, Magyarország Főkonzulátusa\, plac Porozumienia Gdańskiego 1\, Gdańsk\, 80-864\, Poland
CATEGORIES:Ajánló
ATTACH;FMTTYPE=image/jpeg:https://pbkik.hu/wp-content/uploads/2025/03/250402-magyar-lengyel-uzleti-forum.jpg
END:VEVENT
BEGIN:VEVENT
DTSTART;TZID=Europe/Budapest:20240510T100000
DTEND;TZID=Europe/Budapest:20240510T113000
DTSTAMP:20260421T184349
CREATED:20240506T123754Z
LAST-MODIFIED:20240506T124530Z
UID:10002938-1715335200-1715340600@pbkik.hu
SUMMARY:Magyar-kínai üzleti rendezvény
DESCRIPTION:A Magyar Kereskedelmi és Iparkamara és a Kínai Nemzetközi Kereskedelemfejlesztési Tanácsnak (CCPIT) szervezésében megvalósuló rendezvény célja\, hogy tájékoztassa a hazai kis- és középvállalkozásokat Kína üzleti lehetőségeiről\, bemutassa 2024 novemberében megrendezésre kerülő Kínai Nemzetközi Ellátási Lánc Expo kiállítást\, valamint gyakorlati jó tanácsokkal szolgáljon a nemzetközi ellátási láncban való együttműködésekről. \n \nA részvétel ingyenes\, de előzetes online regisztrációhoz kötött. \nREGISZTRÁCIÓ\n\n\n\nPROGRAMTERV \n\n\n\n\n \n\n\n09.30 – 10.00\nRegisztráció\n\n\n10.00 – 10.20\nKöszöntők \nDr. Parragh László\, a Magyar Kereskedelmi és Iparkamara elnöke \nRen Hongbin\, a Kínai Nemzetközi Kereskedelemfejlesztési Tanács (CCPIT) elnöke \n \n\n\n10.20 – 10.40\nA 2024 novemberében megrendezésre kerülő Kínai Nemzetközi Ellátási Lánc Expo (CISCE) bemutatása \nLin Shunjie\, a Kínai Nemzetközi Kiállítási Központ elnöke (CIEC)\n\n\n10.40 – 10.50\nTapasztalatok megosztása a nemzetközi ellátási láncban való együttműködésről magyar cég által \n(egyeztetés alatt) \n \n\n\n10.50 – 11.00\nTapasztalatok megosztása a nemzetközi ellátási láncban való együttműködésről \nYang Zhaojie\, Joint Laboratory of Digital Cultural Trade \n \n\n\n11.00 – 11.10\nKérdések és válaszok\n\n\n\n  \n\n\n\n11.10 – 11.30\nNetworking kávészünet\n\n\n\n  \n\n\n\n\n\n\n\n\n\n\n\nRészvétel feltételei \nJelentkezési határidő: 2024. május 9.\, csütörtök\, 16:00 óra \nA részvétel ingyenes\, de előzetes online regisztrációhoz kötött. REGISZTRÁCIÓ \nA férőhelyek száma korlátozott\, ezért a jelentkezéseket azok beérkezésének sorrendjében fogadjuk el. Egy vállalkozás képviseletében maximum 2 fő vehet részt. \nCsak az állami szervezetek képviselőinek\, illetve azoknak a vállalkozásoknak a jelentkezését tudjuk elfogadni\, amelyek a kamarai regisztrációs kötelezettségüknek eleget tettek\, a Nemzeti Agrárgazdasági Kamara\, vagy a Magyar Ügyvédi Kamara tagjai. \n 
URL:https://pbkik.hu/esemeny/magyar-kinai-uzleti-rendezveny/
LOCATION:Magyar Kereskedelmi és Iparkamara székháza\, Pethényi köz 10.\, Budapest\, 1122\, Magyarország
END:VEVENT
BEGIN:VEVENT
DTSTART;VALUE=DATE:20240311
DTEND;VALUE=DATE:20240314
DTSTAMP:20260421T184349
CREATED:20240124T091209Z
LAST-MODIFIED:20240319T080345Z
UID:10002890-1710115200-1710374399@pbkik.hu
SUMMARY:Kamarai piacfeltáró út a szerb vajdasági Bánát régióba
DESCRIPTION:Baranyai vállalkozók is részt vehetnek az alábbi Szerbiában – ezen belül a Vajdasági Bánát régióban – megrendezésre kerülő üzleti fórumon és B2B találkozón\, melynek célja a két ország vállalkozói között kialakítható üzleti lehetőségek személyes megismerése és kapcsolatfelvétel Bánát régió intézményes és cégképviselőinek jelenlétében. \nAz üzleti találkozó időpontja: 2024. március 11 – 13. (hétfő  – szerda) \nAz üzleti találkozó helyszíne: Törökbecse (Novi Bečej)\, Szerbia \nA törökbecsei Információs Iroda kiváló üzleti kapcsolatokat ápol a szerbiai regionális és térségi kamarákkal\, valamint önkormányzatokkal. Az Információs Iroda üzleti szolgáltatásai közé tartozik  az üzleti kapcsolatépítés\, a potenciális üzleti felek felkutatása\, tanácsadás\, különböző szakemberek (pl. ügyvédek) ajánlása. \nTevékenysége elősegíti\, hogy Magyarország és Szerbia vállalkozásai\, befektetői és gazdasági szakemberei sikeres két- és többoldalú együttműködéseket alakítsanak ki. \nMilyen profilú gazdasági szervezeteknek ajánljuk a részvételt? \n Exportorientált vállalkozásoknak\, amelyek az \n\nélelmiszeripar\,\nmezőgazdasági gépek gyártása és forgalmazása\,\ntelepülési infrastruktúra fejlesztése\,\nturizmus\,\nvízgazdálkodás területén működnek.\n\nA szakmai programok nyelve: Valamennyi program magyar és szerb nyelven zajlik\, konszekutív tolmácsolással. A részvételnek nem feltétele az angol nyelvtudás. \nJelentkezés menete: A vállalkozások az alábbi hivatkozásra kattintott űrlap teljeskörű kitöltésével és határidőn belüli visszaküldésével jelentkezhetnek. \nJelentkezési határidő: 2024. február 16.\, péntek \nA jelentkezések elbírálása a beérkezés sorrendjében történik. A kiválasztásra kerülő vállalkozásokat – a részletes program egyidejű megküldésével – emailben tájékoztatjuk a szükséges további teendőkről.  A március 12-i szakmai fórum programjáról és előadók személyéről a későbbiekben tudunk tájékoztatást adni. \nUtazással kapcsolatos tudnivalók: A résztvevők számára a kiutazás egyénileg\, saját költségen történik\, a szállásfoglaláshoz ajánlatokat tudunk biztosítani. Az üzleti fórumon történő részvétel ingyenes. \nMegfelelő létszámú baranyai jelentkező esetén közös leutazást a PBKIK szervezi. \nRészvételt kizáró ok: Az ország bármelyik vármegyéjében fennálló\, rendezetlen kamarai kötelező hozzájárulás léte. \nJelentkezés és további információ: Schmidt Enikő schmidt.eniko@pbkik.hu
URL:https://pbkik.hu/esemeny/kamarai-piacfeltaro-utja-a-vajdasagi-banat-regioba/
LOCATION:Szerbia\, Magyarország
END:VEVENT
BEGIN:VEVENT
DTSTART;VALUE=DATE:20230308
DTEND;VALUE=DATE:20230310
DTSTAMP:20260421T184349
CREATED:20230113T095926Z
LAST-MODIFIED:20230113T101508Z
UID:10002282-1678233600-1678406399@pbkik.hu
SUMMARY:IPEC 2023 - Energetika\, ellátási lánc és logisztika\, emberközpontú termelés
DESCRIPTION:Az Enterprise Europe Network és a Nürnbergi Kereskedelmi és Iparkamara szervezésében online nemzetközi konferencia és üzletember találkozó kerül merendezésre\, melynek központi témája a fenntartható digitális üzleti modellek és az ipari termelés legújabb megoldásainak bemutatása. \n \nA rendezvény során a résztvevők a következő programokon vehetnek részt: \n\ninspiráló előadások\nkétoldalú üzleti tárgyalások\nstart up és scale up vállalkozások számára PITCH lehetőség\ntematikus workshopok a legújabb trendekre épülve\n\n\n\n\n\n\n\n\n\nKiemelt témák: \n\nAI\, asszisztens rendszerek\nVR/AR/XR/MR\nEmberközpontú termelési technológiák\nEmber-gép interfész\nEllátási láncok\nVállalati társadalmi felelősségvállalás (CSR)\, vállalati digitális felelősségvállalás (CDR)\nKritikus infrastruktúra\nEnergiahatékonyság\n\nAz online rendezvényen való részvétel díjmentes\, de előzetes regisztrációhoz kötött: \nREGISZTRÁCIÓ
URL:https://pbkik.hu/esemeny/ipec/
LOCATION:Online
ATTACH;FMTTYPE=image/png:https://pbkik.hu/wp-content/uploads/2023/01/ipec-2023-titelbild.png
END:VEVENT
BEGIN:VEVENT
DTSTART;TZID=Europe/Helsinki:20230217T080000
DTEND;TZID=Europe/Helsinki:20230217T093000
DTSTAMP:20260421T184349
CREATED:20230127T093248Z
LAST-MODIFIED:20230127T105646Z
UID:10002750-1676620800-1676626200@pbkik.hu
SUMMARY:Fenntartható Technológia Nap - együttműködési lehetőségek japán vállalkozásokkal
DESCRIPTION:Az EU-Japan Centre for Industrial Cooperation és az UNIDO Tokiói Befektetési és Technológiai Promóciós Irodája (UNIDO ITPO Tokyo) közösen online pitching és networking eseményt szerveznek\, melyre várnak minden a fenntarthatósági projektek iránt érdeklődő hazai céget. \n \nA résztvevőknek lehetőségük lesz olyan innovatív japán vállalatokat megismerni és felvenni a kapcsolatot\, amelyek fenntartható technológiákat fejlesztenek az energia\, a környezetvédelem\, a víz\, a mezőgazdaság\, a telekommunikáció területén és fenntartható projektek megvalósítását tervezik. \nA rendezvény hibrid formában kerül megrendezésre\, így az online üzleti tárgyalások lefolytatására a rendezvény után lesz lehetőség. \nBemutatkozó japán cégek: \n– AGC Inc.: rendkívül tartós és nagy fényáteresztő képességű fluoropolimer fólia gyártása üvegházak számára \n– Biomass Resin Holdings Co.: biológiailag lebomló és nem biológiailag lebomló biomassza műanyag vegyületelőállítása rizsből \n– FujiClean Co.: helyszíni szennyvíztisztító rendszerek gyártása \n– Mebiol Inc.: hidrogél fólia csökkentett vízigényű gazdálkodáshoz \n– NEC Corporation: hibrid tárolási megoldások a megújuló energia optimalizálására \n– TBM Co.: alternatív műanyag és papír alapanyag: LIMEX \n– Yamaha Motor Co.: homokszűrést és napelemes fotovoltaikát alkalmazó víztisztító rendszer \nAz online tájékoztatón és az üzleti partnerekeresésen történő részvételhez előzetes regisztráció szükséges: \nFenntartható Technológia Nap  – REGISZTRÁCIÓ\n 
URL:https://pbkik.hu/esemeny/fenntarthato-technologia-nap-egyuttmukodesi-lehetosegek-japan-vallalkozasokkal/
LOCATION:Online
ATTACH;FMTTYPE=image/png:https://pbkik.hu/wp-content/uploads/2023/01/environment-7412966_1920.png
END:VEVENT
BEGIN:VEVENT
DTSTART;TZID=Europe/Helsinki:20221004T123000
DTEND;TZID=Europe/Helsinki:20221004T210000
DTSTAMP:20260421T184349
CREATED:20220929T064301Z
LAST-MODIFIED:20221122T102129Z
UID:10002718-1664886600-1664917200@pbkik.hu
SUMMARY:Nemzetközi Élelmiszergyártási és Vízgazdálkodási Fenntarthatósági Fórum
DESCRIPTION:A Kanadai-Magyar Kereskedelmi Kamara 2022. október 4-én  ‘The Race for nurturing eight-billion people on the planet’ címmel fenntartható élelmiszergyártással és vízgazdálkodással kapcsolatos nemzetközi üzleti fórumot tart. \nVilágszerte növekszik a fogyasztók érdeklődése az alternatív étkezési lehetőségek iránt. Azoknak az élelmiszeripari szereplőknek\, akik meg akarják ragadni a lehetőséget\, meg kell érteniük ezt a változó piaci dinamikát\, erre ad lehetőséget ez a rendezvény.  A panelbeszélgetések mindenkinek lehetővé teszik majd\, hogy elmerüljenek az alternatív fehérjék és az élelmiszer-technológia világában\, miközben üzleti networkinget is biztosítanak a jelenlévő kulcsfontosságú iparági szereplőknek. A párbeszéddel szeretnék felkelteni a hazai és külföldi befektetők\, élelmiszergyártók\, alapanyaggyártók\, termelők és technológia tulajdonosok figyelmét. A rendezvény kiváló lehetőség Magyarországnak arra\, hogy megmutassa\, fontos szereplője ennek a fejlődő piacnak. \nAz üzleti fórum témái: egészség és táplálkozás\, fenntartható élelmiszer-feldolgozás\, technológia és innováció az élelmiszeriparban\, fenntartható vízgazdálkodás. \nAz üzleti fórumra olyan érdeklődő cégvezetőket várnak Magyarországról és külföldről egyaránt az élelmiszer- és víziparban\, illetve azon kívül is\, akik nyitottak arra\, hogy új ötleteket és megközelítéseket fedezzenek fel együtt a felelősségvállalás és a fenntartható vállalkozások működtetése terén. \nA rendezvény nyelve angol. \nRészletes program: Sustainable Food and Water Forum Agenda \nRegisztráció és további információ: www.ccch.hu/event-details/food-and-water-sustainability-business-forum
URL:https://pbkik.hu/esemeny/nemzetkozi-elelmiszergyartasi-es-vizgazdalkodasi-fenntarthatosagi-forum/
LOCATION:Marriott Hotel Budapest\, Apáczai Csere János u. 4\, Budapest\, 1052\, Magyarország
ATTACH;FMTTYPE=image/webp:https://pbkik.hu/wp-content/uploads/2022/09/food-and-water-sustainability-int-business-forum.webp
ORGANIZER;CN="Kanadai-Magyar Kereskedelmi Kamara":MAILTO:info@ccch.hu
END:VEVENT
BEGIN:VEVENT
DTSTART;TZID=Europe/Helsinki:20220621T090000
DTEND;TZID=Europe/Helsinki:20220621T170000
DTSTAMP:20260421T184349
CREATED:20220523T112345Z
LAST-MODIFIED:20220523T122856Z
UID:10002670-1655802000-1655830800@pbkik.hu
SUMMARY:2. Magyar-Francia Üzleti Fórum
DESCRIPTION:Az Enterprise Europe Network\, a HEPA Magyar Exportfejlesztési Ügynökség\, valamint a Magyar-Francia Kereskedelmi és Iparkamara közös szervezésében 2022. június 21-én második alkalommal kerül megrendezésre a Magyar-Francia Üzleti Fórum. \nA fórum célja\, tanácsadást nyújtani a franciaországi piac iránt érdeklődő magyar vállalatoknak\, valamint új\, magyarországi beszállítók felkutatása az alábbi francia vállalatok számára: EUROAPI Hungary Kft. gyógyszeripari gyártó vállalat\, Schneider Electric Csoport\, GIFI\, lakberendezési\, dekorációs áruházlánc\, az ADEO vállalatcsoport Leroy Merlin márkaneve alatt ismert franciaországi barkács és kertészeti áruházlánc\, Auchan Magyarország Kft. \nIdőpont: 2022. június 21. (kedd)\, 9:30-17:00 \nHelyszín: Novotel Budapest Danube (1027 Budapest\, Bem rakpart 33-34.) \nAz előadások magyar és angol nyelvűek lesznek. Tolmácsolást nem biztosítanak. \nProgram\n\n\n\n9:00\nRésztvevők fogadása\n\n\n9:30\nMegnyitó\nŐexcellenciája Pascale ANDRÉANI\, Franciaország magyarországi nagykövete\nKÁROLYI László a Magyar-Francia Kereskedelmi és Iparkamara elnöke\n\n\n9:45 – 12.00\nElső szekció – előadások\n\n\nHogyan támogatja a HEPA Magyar Exportfejlesztési Ügynökség a magyar vállalatokat a külpiacra lépésben?\nElőadó: Dr. SZABÓ Kristóf\, vezérigazgató\n\n\nA külgazdasági attasé hálózat szerepe és tevékenysége – a francia piac sajátosságai\nElőadó: SZŰCS Mariann és GÖLÖNCSÉR Balázs\, külgazdasági attasék\, Magyarország Nagykövetsége\, Párizs\n\n\nHogyan tud hozzájárulni a Magyar-Francia Kereskedelmi és Iparkamara tevékenységével a magyar – francia üzleti kapcsolatok fejlődéséhez?\nElőadó: DUCROT Ágnes\, igazgató\n\n\nAz EUROAPI Hungary Kft. beszerzési tevékenységének bemutatása\nElőadó: Veronique BALAY\, Global Head of Direct Spends Procurement\n\n\nA Schneider Electric Zrt. beszerzési tevékenységének bemutatása\nElőadó: OLTVAI Márton\, magyarországi beszerzési igazgató\n\n\nA GIFI beszerzési tevékenységének bemutatása\nElőadó: Carole FONTVIEILLE\, Sourcing Developer és Leila MELHOUT\, Assistante Sourcing\n\n\nAz ADEO csoport (Leroy Merlin) beszerzési tevékenységének bemutatása\nElőadó: David CHAMPY\, Central Europe Sourcing\n\n\nHogyan legyünk sikeresek a francia piacon? Az Azur Classic Car franciaországi projektjének bemutatása\nElőadó: KÖHLER Zoltán\, ügyvezető\n\n\n12:00-13:00\nNetworkinggel egybekötött büféebéd\n\n\n13:00-17:00\nMásodik szekció: B2B találkozók\n45 perces B2B találkozók lebonyolítása a résztvevő francia vállalatok (EUROAPI Hungary Kft.\, Schneider Electric Csoport\, GIFI\, Adeo\, Auchan) nemzetközi beszerzési képviselőjük és a potenciális magyar beszállítók között.\n\n\n\nA B2B találkozókon azok a magyarországi érdeklődő vállalatok részvételét tudják elfogadni\, melyeket a francia vállalatok beszerzési képviselői előzetesen megküldött angol nyelvű bemutatkozó anyaguk alapján kiválasztanak. \nA rendezvény nem sajtónyilvános. \nRészvételi díj: \n\nB2B találkozók nélkül: 7.500 Ft + Áfa\nVisszaigazolt B2B találkozókkal: 25.000 Ft + Áfa/üzleti találkozó\n\nRészvételi szándékát 2022. június 17-ig tudja jelezni az alábbi online jelentkezési lapon: \nJELENTKEZÉSI LAP \nA regisztrációt e-mailen igazolják vissza.\nA parkolás egyénileg történik. \nTovábbi kérdés\, kérés esetén\, vegye fel a kapcsolatot a rendezvény szervezőjével az alábbi elérhetőségek valamelyikén:\nkatalin.joo.ext@ccifrance-hongrie.org\n+ 36 30 642 1682
URL:https://pbkik.hu/esemeny/2-magyar-francia-uzleti-forum/
LOCATION:Novotel Budapest Danube Hotel\, Bem rakpart 33-34.\, Budapest\, Pest\, 1024\, Magyarország
END:VEVENT
BEGIN:VEVENT
DTSTART;VALUE=DATE:20220101
DTEND;VALUE=DATE:20220716
DTSTAMP:20260421T184349
CREATED:20210519T065559Z
LAST-MODIFIED:20220117T155506Z
UID:10002359-1640995200-1657929599@pbkik.hu
SUMMARY:Észszerű (körkörös) gazdaság - nemzetközi lehetőségek a KKV-k számára
DESCRIPTION:Az Enterprise Europe Network társszervezésében zajló ‘Circular Economy SMEs across Europe’ c. online nemzetközi platform lehetőséget biztosít a körkörös gazdaságba már becsatlakozott\, vagy erre nyitott vállalkozások számára üzleti tárgyalások lebonyolítására\, projektötletek kidolgozására és jó gyakorlatok megosztására is. \n \nA kétoldalú üzleti tárgyalások mellett a résztvevőknek lehetősége van csatlakozni az Európát virtuálisan bejáró programokhoz\, bemutava a kkv-k és a különböző ágazatok jó gyakorlatait. A körforgásos gazdaság úttörői bemutatják hogyan válhat egy vállalkozás körforgásossá\, milyen sikertényezőkkel járhat az átállás és miként lehet leküzdeni a felmerülő akadályokat. Az esemény a tervek szerint egy személyes találkozóval zárul 2022 novemberében\, Bottropban (Németország) megrendezésre kerülő Circular Economy Hotspot mellett. \nTöbb európai régióban virtuális webináriumok és workshopok kerülnek megrendezésre a kkv-k számára. Minden egyes esemény egy-egy iparágra összpontosít: \n2021 \n\nMájus 27. – műanyag és vegyipar\, Katalónia\nJúnius 4.  – építőipar\, Flandria\nJúlius – textilipar\, Hollandia és Németország\nAugusztus – járműipar és akkumulátorok\, Svédország\nSzeptember – csomagolóipar\, Németország\nSzeptember – World Circular Economy Forum\, Toronto\nOktóber – vízipar\, Franciaország (Pollutec) és Németország\nNovember – Circular Economy Hotspot\, Katalónia\, Barcelona\n\n2022 \n\nFebruár – gépipar\, Németország\nMájus – ICT és elektronika\, Flandria\nJúnius – élelmiszeripar\nSzeptember – World Circular Economy Forum\nNovember – Circular Economy Hotspot\, Bottrop\n\n  \nA részvétel díjmentes\, de előzetes regisztrációhoz kötött: \nREGISZTRÁCIÓ
URL:https://pbkik.hu/esemeny/korkoros-gazdasag-nemzetkozi-lehetosegek-a-kkv-k-szamara/
LOCATION:Online
ATTACH;FMTTYPE=image/jpeg:https://pbkik.hu/wp-content/uploads/2021/05/circular.jpg
END:VEVENT
BEGIN:VEVENT
DTSTART;TZID=Europe/Helsinki:20211007T100000
DTEND;TZID=Europe/Helsinki:20211007T163000
DTSTAMP:20260421T184349
CREATED:20210716T080812Z
LAST-MODIFIED:20210716T083830Z
UID:10001988-1633600800-1633624200@pbkik.hu
SUMMARY:WEgate Summit 2021 - Női vállalkozók Európa zöld növekedésének és digitális átalakulásának középpontjában
DESCRIPTION:  \n  \n  \n  \n  \n  \n  \n  \n  \nVárják\, minden női vállalkozó részvételét a nemzetközi online konferencia keretében\, ahol a résztvevők  fenntartható üzleti modellekkel\, pénzügyi befektetőkkel és különböző támogatási lehetőségekkel ismerkedhetnek meg\, amellett\, hogy üzleti tárgyalások során tovább szélesíthetik kapcsolati hálójukat és potenciális ügyfélkörüket. \n \nA rendezvényre online kerül sor\, a részvétel díjmentes\, de előzetes regisztrációhoz kötött: \nREGISZTRÁCIÓ\nA rendezvény munkanyelve: angol. \nKiemelt témák: \n\nFenntartható finanszírozás\, befektetési lehetőségek\nKörforgásos gazdaság a KKV szektor szemszögéből\nNemek közötti egyenlőség a digitális zöld átmenet érdekében\nMinden a digitális finanszírozásról
URL:https://pbkik.hu/esemeny/wegate-summit-2021-noi-vallalkozok-europa-zold-novekedesenek-es-digitalis-atalakulasanak-kozeppontjaban/
LOCATION:Online
ATTACH;FMTTYPE=image/jpeg:https://pbkik.hu/wp-content/uploads/2021/07/wegate-2021.jpg
END:VEVENT
BEGIN:VEVENT
DTSTART;TZID=Europe/Helsinki:20211007T090000
DTEND;TZID=Europe/Helsinki:20211007T113000
DTSTAMP:20260421T184349
CREATED:20210928T074253Z
LAST-MODIFIED:20210928T084227Z
UID:10002080-1633597200-1633606200@pbkik.hu
SUMMARY:INACEE Üzleti Fórum 2021
DESCRIPTION:A nemzetközi fórum célja az Indonézia és Közép-Kelet Európa országai közti gazdasági lehetőségek feltárása\, a meglévő partnerségek erősítése\, valamint a különböző szektorok közötti interakció és hálózat kiépítése\, melyre várnak minden érdeklődő magyar vállalkozást. \nAz Indonesia-Central and Eastern Europe (INA-CEE) Business Forum résztvevőinek lehetősége lesz a gazdasági környezet megismerésén túlmenően a piaci igények és jelentős szereplők megismerésére. \nA rendezvény hibrid formában kerül megrendezésre\, munkanyelve az angol. A részévtel díjmentes\, de előzetes regisztrációhoz kötött: \nREGISZTRÁCIÓ\nProgramterv \n14.00 – 14.30 PLENÁRIS ÜLÉS (KÖSZÖNTŐ) \n14.30 – 16.30 ÜZLETI SZEMINÁRIUM \n16.45 – 19.15 B2B ÜZLETI PARTNERKERESÉS \n19.30 – 19.45 ZÁRÁS \n19.45 – 20.00 SAJTÓTÁJÉKOZTATÓ \n  \nREGISZTRÁCIÓ\nTovábbi információ: \n ina-cee@kemlu.go.id 
URL:https://pbkik.hu/esemeny/inacee-uzleti-forum-2021/
LOCATION:Online
ATTACH;FMTTYPE=image/png:https://pbkik.hu/wp-content/uploads/2021/09/INACEE-LOGO.png
END:VEVENT
BEGIN:VEVENT
DTSTART;TZID=Europe/Helsinki:20210930T093000
DTEND;TZID=Europe/Helsinki:20210930T133500
DTSTAMP:20260421T184349
CREATED:20210922T130047Z
LAST-MODIFIED:20210922T181551Z
UID:10002537-1632994200-1633008900@pbkik.hu
SUMMARY:Német-Magyar Üzleti Fórum - személyes rendezvény
DESCRIPTION:A Fejér Megyei Kereskedelmi és Iparkamara személyes részvétellel Magyar-Német Üzleti Fórumot szervez Székesfehérváron a Gazdaság Házában. A rendezvény fő célja\, hogy a magyar vállalkozások német üzleti kapcsolatépítését és piacra lépését segítse és támogassa. \nA fórum fő témakörei: \n\nA magyar-német gazdasági kapcsolatok aktualitásai\nMagyar vállalkozások esélyei a német piacon\, együttműködési lehetőségek\nMagyar cégek németországi tevékenységének munkajogi\, adójogi és társadalombiztosítási jogi gyakorlati praktikái\nEgyüttműködés német vállalatokkal – gyakorlati tapasztalatok\n\nAz előadások után a résztvevőknek lehetősége nyílik kétoldalú személyes konzultációkra is. \nA programon való részvétel térítésmentes\, de feltétele az előzetes jelentkezés. \nFontos tudnivaló: A vendégek\, szolgáltatók\, munkatársak érdekében\, kérjük\, vegyék figyelembe\, hogy a Magyar-Német Üzleti Fórumon való részvétel csak érvényes védettségi igazolvánnyal (oltási igazolással\, a fertőzésből való felgyógyulás igazolásával) lehetséges. \nRészletes program megtekinthető ITT. \nRegisztrálni itt lehet:  \nREGISZTRÁCIÓ
URL:https://pbkik.hu/esemeny/nemet-magyar-uzleti-forum-szemelyes-rendezveny/
LOCATION:Gazdaság Háza\, Hosszúsétatér 4-6.\, Székesfehérvár\, 8000
END:VEVENT
BEGIN:VEVENT
DTSTART;VALUE=DATE:20210416
DTEND;VALUE=DATE:20210417
DTSTAMP:20260421T184349
CREATED:20210401T050814Z
LAST-MODIFIED:20210401T051458Z
UID:10001913-1618531200-1618617599@pbkik.hu
SUMMARY:Magyar-ukrán online üzletember találkozó
DESCRIPTION:Az Enterprise Europe Network társzervezésében megvalósuló Üzleti Fórum célja\, hogy az online tárgyalások keretében a magyar vállalatok jobban megismerjék az ukrán üzleti lehetőségeket\, mely ösztönözheti és erősítheti a gazdasági együttműködést a két ország vállalatai között. \n \nA HEPA Magyar Exportfejlesztési Ügynökség B2B tárgyalásokkal egybekötött Online magyar-ukrán üzletember találkozóját várhatóan Szijjártó Péter külgazdasági és külügyminiszter és Dmitro Kuleba ukrán külügyminiszter nyitja meg. \nA plenáris rész és a B2B találkozók hivatalos nyelve az angol\, tolmácsolás nem biztosított. Az online térben megvalósuló üzletember találkozón való részvétel ingyenes\, de regisztrációhoz kötött: \nREGISZTRÁCIÓ\nAz érdeklődő vállalatok a regisztráció segítségével válnak láthatóvá a rendszerben\, egyúttal azon keresztül tudják beazonosítani a számukra releváns partnereket is\, ezért javasolt minél előbb regisztrálni. \nA regisztrációt követően ne felejtsék a ’MARKETPLACE’ szekciót minél informatívabban kitölteni. A tárgyalópartnerek az ott szereplő információk alapján fognak dönteni a lehetséges tárgyalásról. \nTovábbi kérdés esetén\, kérjük forduljon a Szervezőkhöz bizalommal a rendezveny@hepa.hu e-mail címen\, vagy a +36 1 922 2600 telefonszámon.
URL:https://pbkik.hu/esemeny/magyar-ukran-online-uzletember-talalkozo/
LOCATION:Online
ATTACH;FMTTYPE=image/jpeg:https://pbkik.hu/wp-content/uploads/2021/04/magyar-ukran-b2b.jpg
END:VEVENT
END:VCALENDAR